BEGIN:VCALENDAR
VERSION:2.0
PRODID:-//Call Chino Valley Home - ECPv6.15.20//NONSGML v1.0//EN
CALSCALE:GREGORIAN
METHOD:PUBLISH
X-WR-CALNAME:Call Chino Valley Home
X-ORIGINAL-URL:https://callchinovalleyhome.com
X-WR-CALDESC:Events for Call Chino Valley Home
REFRESH-INTERVAL;VALUE=DURATION:PT1H
X-Robots-Tag:noindex
X-PUBLISHED-TTL:PT1H
BEGIN:VTIMEZONE
TZID:America/Los_Angeles
BEGIN:DAYLIGHT
TZOFFSETFROM:-0800
TZOFFSETTO:-0700
TZNAME:PDT
DTSTART:20230312T100000
END:DAYLIGHT
BEGIN:STANDARD
TZOFFSETFROM:-0700
TZOFFSETTO:-0800
TZNAME:PST
DTSTART:20231105T090000
END:STANDARD
BEGIN:DAYLIGHT
TZOFFSETFROM:-0800
TZOFFSETTO:-0700
TZNAME:PDT
DTSTART:20240310T100000
END:DAYLIGHT
BEGIN:STANDARD
TZOFFSETFROM:-0700
TZOFFSETTO:-0800
TZNAME:PST
DTSTART:20241103T090000
END:STANDARD
BEGIN:DAYLIGHT
TZOFFSETFROM:-0800
TZOFFSETTO:-0700
TZNAME:PDT
DTSTART:20250309T100000
END:DAYLIGHT
BEGIN:STANDARD
TZOFFSETFROM:-0700
TZOFFSETTO:-0800
TZNAME:PST
DTSTART:20251102T090000
END:STANDARD
END:VTIMEZONE
BEGIN:VEVENT
DTSTART;VALUE=DATE:20241201
DTEND;VALUE=DATE:20241221
DTSTAMP:20260425T081744
CREATED:20241112T045753Z
LAST-MODIFIED:20241112T045753Z
UID:10004704-1733011200-1734739199@callchinovalleyhome.com
SUMMARY:Hometown Holidays Hwy 89 Lighting Contest
DESCRIPTION:Visit https://www.chinovalley.org/ for more details.
URL:https://callchinovalleyhome.com/event/hometown-holidays-hwy-89-lighting-contest/
LOCATION:Chino Valley Chamber of Commerce\, State Highway 89\, Chino Valley\, AZ\, 86323\, United States
ATTACH;FMTTYPE=image/webp:https://callchinovalleyhome.com/wp-content/uploads/2024/11/Hometown-Holidays-Hwy-89-Lighting-Contest.webp
GEO:34.7484543;-112.4539194
X-APPLE-STRUCTURED-LOCATION;VALUE=URI;X-ADDRESS=Chino Valley Chamber of Commerce State Highway 89 Chino Valley AZ 86323 United States;X-APPLE-RADIUS=500;X-TITLE=State Highway 89:geo:-112.4539194,34.7484543
END:VEVENT
BEGIN:VEVENT
DTSTART;VALUE=DATE:20241129
DTEND;VALUE=DATE:20241218
DTSTAMP:20260425T081744
CREATED:20241112T045632Z
LAST-MODIFIED:20241112T045632Z
UID:10004703-1732838400-1734479999@callchinovalleyhome.com
SUMMARY:Hometown Holidays Holiday Bingo
DESCRIPTION:Visit https://www.chinovalley.org/ for more details.
URL:https://callchinovalleyhome.com/event/hometown-holidays-holiday-bingo/
LOCATION:Chino Valley Chamber of Commerce\, State Highway 89\, Chino Valley\, AZ\, 86323\, United States
ATTACH;FMTTYPE=image/webp:https://callchinovalleyhome.com/wp-content/uploads/2024/11/Hometown-Holidays-Holiday-Bingo.webp
GEO:34.7484543;-112.4539194
X-APPLE-STRUCTURED-LOCATION;VALUE=URI;X-ADDRESS=Chino Valley Chamber of Commerce State Highway 89 Chino Valley AZ 86323 United States;X-APPLE-RADIUS=500;X-TITLE=State Highway 89:geo:-112.4539194,34.7484543
END:VEVENT
BEGIN:VEVENT
DTSTART;VALUE=DATE:20240901
DTEND;VALUE=DATE:20241002
DTSTAMP:20260425T081744
CREATED:20240916T042021Z
LAST-MODIFIED:20240916T042021Z
UID:10004595-1725148800-1727827199@callchinovalleyhome.com
SUMMARY:Chino Valley Fall Food Drive 2024
DESCRIPTION:The Chino Valley Area Chamber of Commerce is happily hosting a canned/non perishable food drive to benefit the Chino Valley Food Bank. \nAll donations can be dropped off at 199 North State Route 89 OR at participating businesses in Chino Valley: \nNational Bank of AZ\, Jeff Champ Farmers Insurance\, The Pea Vine\, Bob’s Complete Automotive Repair\, Essence Kitchen + Bar\, Olsen’s Grain and Tom’s Print & Sign \n 
URL:https://callchinovalleyhome.com/event/chino-valley-fall-food-drive-2024/
LOCATION:Chino Valley Chamber of Commerce\, State Highway 89\, Chino Valley\, AZ\, 86323\, United States
ATTACH;FMTTYPE=image/webp:https://callchinovalleyhome.com/wp-content/uploads/2024/09/Food-Drive.webp
GEO:34.7484543;-112.4539194
X-APPLE-STRUCTURED-LOCATION;VALUE=URI;X-ADDRESS=Chino Valley Chamber of Commerce State Highway 89 Chino Valley AZ 86323 United States;X-APPLE-RADIUS=500;X-TITLE=State Highway 89:geo:-112.4539194,34.7484543
END:VEVENT
END:VCALENDAR