BEGIN:VCALENDAR
VERSION:2.0
PRODID:-//Call Chino Valley Home - ECPv6.15.20//NONSGML v1.0//EN
CALSCALE:GREGORIAN
METHOD:PUBLISH
X-WR-CALNAME:Call Chino Valley Home
X-ORIGINAL-URL:https://callchinovalleyhome.com
X-WR-CALDESC:Events for Call Chino Valley Home
REFRESH-INTERVAL;VALUE=DURATION:PT1H
X-Robots-Tag:noindex
X-PUBLISHED-TTL:PT1H
BEGIN:VTIMEZONE
TZID:America/Los_Angeles
BEGIN:DAYLIGHT
TZOFFSETFROM:-0800
TZOFFSETTO:-0700
TZNAME:PDT
DTSTART:20250309T100000
END:DAYLIGHT
BEGIN:STANDARD
TZOFFSETFROM:-0700
TZOFFSETTO:-0800
TZNAME:PST
DTSTART:20251102T090000
END:STANDARD
BEGIN:DAYLIGHT
TZOFFSETFROM:-0800
TZOFFSETTO:-0700
TZNAME:PDT
DTSTART:20260308T100000
END:DAYLIGHT
BEGIN:STANDARD
TZOFFSETFROM:-0700
TZOFFSETTO:-0800
TZNAME:PST
DTSTART:20261101T090000
END:STANDARD
BEGIN:DAYLIGHT
TZOFFSETFROM:-0800
TZOFFSETTO:-0700
TZNAME:PDT
DTSTART:20270314T100000
END:DAYLIGHT
BEGIN:STANDARD
TZOFFSETFROM:-0700
TZOFFSETTO:-0800
TZNAME:PST
DTSTART:20271107T090000
END:STANDARD
END:VTIMEZONE
BEGIN:VEVENT
DTSTART;TZID=America/Los_Angeles:20260623T100000
DTEND;TZID=America/Los_Angeles:20260623T110000
DTSTAMP:20260425T051920
CREATED:20260422T212306Z
LAST-MODIFIED:20260422T212306Z
UID:10005849-1782208800-1782212400@callchinovalleyhome.com
SUMMARY:Computer Basics Class
DESCRIPTION:Learn the basics of using a computer (Windows PC only) such as how to use a mouse\, how to browse the internet\, how to save a file\, etc.\n\nLaptop computers provided\, bring something to take notes.\n\nRegistration required due to limited seats\, please call 928-636-2687 to register\, will need to have a USB stick for second class (available for purchase at library or bring your own).\n\nChino Valley Public Library\n1020 W Palomino Rd\nChino Valley\, AZ 86323
URL:https://callchinovalleyhome.com/event/computer-basics-class/2026-06-23/1/
ATTACH;FMTTYPE=image/webp:https://callchinovalleyhome.com/wp-content/uploads/2026/04/Chino-Valley-Computer-Basics-Class.webp
ORGANIZER;CN="Rebecca Laurence":MAILTO:rlaurence@chinoaz.net
END:VEVENT
BEGIN:VEVENT
DTSTART;TZID=America/Los_Angeles:20260623T130000
DTEND;TZID=America/Los_Angeles:20260623T140000
DTSTAMP:20260425T051920
CREATED:20260422T212306Z
LAST-MODIFIED:20260422T212306Z
UID:10005850-1782219600-1782223200@callchinovalleyhome.com
SUMMARY:Computer Basics Class
DESCRIPTION:Learn the basics of using a computer (Windows PC only) such as how to use a mouse\, how to browse the internet\, how to save a file\, etc.\n\nLaptop computers provided\, bring something to take notes.\n\nRegistration required due to limited seats\, please call 928-636-2687 to register\, will need to have a USB stick for second class (available for purchase at library or bring your own).\n\nChino Valley Public Library\n1020 W Palomino Rd\nChino Valley\, AZ 86323
URL:https://callchinovalleyhome.com/event/computer-basics-class/2026-06-23/2/
ATTACH;FMTTYPE=image/webp:https://callchinovalleyhome.com/wp-content/uploads/2026/04/Chino-Valley-Computer-Basics-Class.webp
ORGANIZER;CN="Rebecca Laurence":MAILTO:rlaurence@chinoaz.net
END:VEVENT
BEGIN:VEVENT
DTSTART;TZID=America/Los_Angeles:20260625T100000
DTEND;TZID=America/Los_Angeles:20260625T110000
DTSTAMP:20260425T051920
CREATED:20260422T212306Z
LAST-MODIFIED:20260422T212306Z
UID:10005851-1782381600-1782385200@callchinovalleyhome.com
SUMMARY:Computer Basics Class
DESCRIPTION:Learn the basics of using a computer (Windows PC only) such as how to use a mouse\, how to browse the internet\, how to save a file\, etc.\n\nLaptop computers provided\, bring something to take notes.\n\nRegistration required due to limited seats\, please call 928-636-2687 to register\, will need to have a USB stick for second class (available for purchase at library or bring your own).\n\nChino Valley Public Library\n1020 W Palomino Rd\nChino Valley\, AZ 86323
URL:https://callchinovalleyhome.com/event/computer-basics-class/2026-06-25/1/
ATTACH;FMTTYPE=image/webp:https://callchinovalleyhome.com/wp-content/uploads/2026/04/Chino-Valley-Computer-Basics-Class.webp
ORGANIZER;CN="Rebecca Laurence":MAILTO:rlaurence@chinoaz.net
END:VEVENT
BEGIN:VEVENT
DTSTART;TZID=America/Los_Angeles:20260625T130000
DTEND;TZID=America/Los_Angeles:20260625T140000
DTSTAMP:20260425T051920
CREATED:20260422T212306Z
LAST-MODIFIED:20260422T212306Z
UID:10005852-1782392400-1782396000@callchinovalleyhome.com
SUMMARY:Computer Basics Class
DESCRIPTION:Learn the basics of using a computer (Windows PC only) such as how to use a mouse\, how to browse the internet\, how to save a file\, etc.\n\nLaptop computers provided\, bring something to take notes.\n\nRegistration required due to limited seats\, please call 928-636-2687 to register\, will need to have a USB stick for second class (available for purchase at library or bring your own).\n\nChino Valley Public Library\n1020 W Palomino Rd\nChino Valley\, AZ 86323
URL:https://callchinovalleyhome.com/event/computer-basics-class/2026-06-25/2/
ATTACH;FMTTYPE=image/webp:https://callchinovalleyhome.com/wp-content/uploads/2026/04/Chino-Valley-Computer-Basics-Class.webp
ORGANIZER;CN="Rebecca Laurence":MAILTO:rlaurence@chinoaz.net
END:VEVENT
END:VCALENDAR