BEGIN:VCALENDAR
VERSION:2.0
PRODID:-//Call Chino Valley Home - ECPv6.15.20//NONSGML v1.0//EN
CALSCALE:GREGORIAN
METHOD:PUBLISH
X-ORIGINAL-URL:https://callchinovalleyhome.com
X-WR-CALDESC:Events for Call Chino Valley Home
REFRESH-INTERVAL;VALUE=DURATION:PT1H
X-Robots-Tag:noindex
X-PUBLISHED-TTL:PT1H
BEGIN:VTIMEZONE
TZID:America/Los_Angeles
BEGIN:DAYLIGHT
TZOFFSETFROM:-0800
TZOFFSETTO:-0700
TZNAME:PDT
DTSTART:20250309T100000
END:DAYLIGHT
BEGIN:STANDARD
TZOFFSETFROM:-0700
TZOFFSETTO:-0800
TZNAME:PST
DTSTART:20251102T090000
END:STANDARD
BEGIN:DAYLIGHT
TZOFFSETFROM:-0800
TZOFFSETTO:-0700
TZNAME:PDT
DTSTART:20260308T100000
END:DAYLIGHT
BEGIN:STANDARD
TZOFFSETFROM:-0700
TZOFFSETTO:-0800
TZNAME:PST
DTSTART:20261101T090000
END:STANDARD
BEGIN:DAYLIGHT
TZOFFSETFROM:-0800
TZOFFSETTO:-0700
TZNAME:PDT
DTSTART:20270314T100000
END:DAYLIGHT
BEGIN:STANDARD
TZOFFSETFROM:-0700
TZOFFSETTO:-0800
TZNAME:PST
DTSTART:20271107T090000
END:STANDARD
END:VTIMEZONE
BEGIN:VEVENT
DTSTART;TZID=America/Los_Angeles:20260522T100000
DTEND;TZID=America/Los_Angeles:20260522T110000
DTSTAMP:20260422T151755
CREATED:20251218T212027Z
LAST-MODIFIED:20251218T212027Z
UID:10005752-1779444000-1779447600@callchinovalleyhome.com
SUMMARY:Chino Valley Library Weekly Storytimes (Fridays)
DESCRIPTION:Stories\, songs/games\, snack (& a craft for big kids) – new theme every week! \nLots of fun for young families. \n10:00 am – 0-3 years old \n10:30 am – 3-10 years old \nSometimes we have special guests come for story times – watch the calendar/flyers! \nLocation: Chino Valley Public Library at 1020 Palomino Rd\, Chino Valley\, AZ 86323
URL:https://callchinovalleyhome.com/event/chino-valley-library-weekly-storytimes-fridays-2/2026-05-22/
ATTACH;FMTTYPE=image/webp:https://callchinovalleyhome.com/wp-content/uploads/2024/07/Chino-Valley-Local-Author-Storytime.webp
ORGANIZER;CN="Rebecca Laurence":MAILTO:rlaurence@chinoaz.net
END:VEVENT
BEGIN:VEVENT
DTSTART;TZID=America/Los_Angeles:20260522T160000
DTEND;TZID=America/Los_Angeles:20260522T210000
DTSTAMP:20260422T151755
CREATED:20241230T200349Z
LAST-MODIFIED:20241230T200349Z
UID:10004804-1779465600-1779483600@callchinovalleyhome.com
SUMMARY:Olsen's Events Mounted Shooting Practice
DESCRIPTION:Every Friday! \nWinter Hours Vary\, Call for Start Time \n$20/person \nBeginners Welcome
URL:https://callchinovalleyhome.com/event/olsens-events-mounted-shooting-practice-2/2026-05-22/
LOCATION:Olsen’s Events\, 344 S Hwy 89 Chino Valley\, AZ\, 86323\, Chino Valley\, AZ\, 86323\, United States
ATTACH;FMTTYPE=image/png:https://callchinovalleyhome.com/wp-content/uploads/2024/12/Winter-Mounted-Shooting-Practice.png
END:VEVENT
BEGIN:VEVENT
DTSTART;TZID=America/Los_Angeles:20260525T150000
DTEND;TZID=America/Los_Angeles:20260525T180000
DTSTAMP:20260422T151755
CREATED:20240510T182131Z
LAST-MODIFIED:20250113T050929Z
UID:10000446-1779721200-1779732000@callchinovalleyhome.com
SUMMARY:Chess Group
DESCRIPTION:
URL:https://callchinovalleyhome.com/event/chess-group-5/2026-05-25/
LOCATION:Chino Valley Public Library\, 1020 W Palomino Rd Chino Valley\, AZ 86323\, Chino Valley\, AZ\, 86323\, United States
ATTACH;FMTTYPE=image/jpeg:https://callchinovalleyhome.com/wp-content/uploads/2024/05/Chino-Valley-Public-Library.jpg
ORGANIZER;CN="Rebecca Laurence":MAILTO:rlaurence@chinoaz.net
END:VEVENT
BEGIN:VEVENT
DTSTART;TZID=America/Los_Angeles:20260526T100000
DTEND;TZID=America/Los_Angeles:20260526T110000
DTSTAMP:20260422T151755
CREATED:20251218T211901Z
LAST-MODIFIED:20251218T212057Z
UID:10005684-1779789600-1779793200@callchinovalleyhome.com
SUMMARY:Chino Valley Library Weekly Storytimes (Tuesdays)
DESCRIPTION:Stories\, songs/games\, snack (& a craft for big kids) – new theme every week! \nLots of fun for young families. \n10:00 am – 0-3 years old \n10:30 am – 3-10 years old \nSometimes we have special guests come for story times – watch the calendar/flyers! \nLocation: Chino Valley Public Library at 1020 Palomino Rd\, Chino Valley\, AZ 86323
URL:https://callchinovalleyhome.com/event/chino-valley-library-weekly-storytimes-tuesdays/2026-05-26/
ATTACH;FMTTYPE=image/webp:https://callchinovalleyhome.com/wp-content/uploads/2024/07/Chino-Valley-Local-Author-Storytime.webp
ORGANIZER;CN="Rebecca Laurence":MAILTO:rlaurence@chinoaz.net
END:VEVENT
BEGIN:VEVENT
DTSTART;TZID=America/Los_Angeles:20260526T150000
DTEND;TZID=America/Los_Angeles:20260526T170000
DTSTAMP:20260422T151755
CREATED:20250218T200750Z
LAST-MODIFIED:20250218T201606Z
UID:10004072-1779807600-1779814800@callchinovalleyhome.com
SUMMARY:Lego Club
DESCRIPTION:Come afterschool to build something fun! Great for Elementary and Middle School ages. (If you child is under 5yrs\, please supervise them). \nDrop in\, drop out. Ok to arrive late or leave early.
URL:https://callchinovalleyhome.com/event/lego-club-5-2-2/2026-05-26/
LOCATION:Chino Valley Public Library\, 1020 W Palomino Rd Chino Valley\, AZ 86323\, Chino Valley\, AZ\, 86323\, United States
ATTACH;FMTTYPE=image/webp:https://callchinovalleyhome.com/wp-content/uploads/2024/06/Chino-Valley-Library-Lego-Event.webp
ORGANIZER;CN="Rebecca Laurence":MAILTO:rlaurence@chinoaz.net
END:VEVENT
BEGIN:VEVENT
DTSTART;TZID=America/Los_Angeles:20260529T100000
DTEND;TZID=America/Los_Angeles:20260529T110000
DTSTAMP:20260422T151755
CREATED:20251218T212027Z
LAST-MODIFIED:20251218T212027Z
UID:10005753-1780048800-1780052400@callchinovalleyhome.com
SUMMARY:Chino Valley Library Weekly Storytimes (Fridays)
DESCRIPTION:Stories\, songs/games\, snack (& a craft for big kids) – new theme every week! \nLots of fun for young families. \n10:00 am – 0-3 years old \n10:30 am – 3-10 years old \nSometimes we have special guests come for story times – watch the calendar/flyers! \nLocation: Chino Valley Public Library at 1020 Palomino Rd\, Chino Valley\, AZ 86323
URL:https://callchinovalleyhome.com/event/chino-valley-library-weekly-storytimes-fridays-2/2026-05-29/
ATTACH;FMTTYPE=image/webp:https://callchinovalleyhome.com/wp-content/uploads/2024/07/Chino-Valley-Local-Author-Storytime.webp
ORGANIZER;CN="Rebecca Laurence":MAILTO:rlaurence@chinoaz.net
END:VEVENT
BEGIN:VEVENT
DTSTART;TZID=America/Los_Angeles:20260529T160000
DTEND;TZID=America/Los_Angeles:20260529T210000
DTSTAMP:20260422T151755
CREATED:20241230T200349Z
LAST-MODIFIED:20241230T200349Z
UID:10004805-1780070400-1780088400@callchinovalleyhome.com
SUMMARY:Olsen's Events Mounted Shooting Practice
DESCRIPTION:Every Friday! \nWinter Hours Vary\, Call for Start Time \n$20/person \nBeginners Welcome
URL:https://callchinovalleyhome.com/event/olsens-events-mounted-shooting-practice-2/2026-05-29/
LOCATION:Olsen’s Events\, 344 S Hwy 89 Chino Valley\, AZ\, 86323\, Chino Valley\, AZ\, 86323\, United States
ATTACH;FMTTYPE=image/png:https://callchinovalleyhome.com/wp-content/uploads/2024/12/Winter-Mounted-Shooting-Practice.png
END:VEVENT
BEGIN:VEVENT
DTSTART;TZID=America/Los_Angeles:20260601T150000
DTEND;TZID=America/Los_Angeles:20260601T180000
DTSTAMP:20260422T151755
CREATED:20240510T182131Z
LAST-MODIFIED:20250113T050929Z
UID:10000447-1780326000-1780336800@callchinovalleyhome.com
SUMMARY:Chess Group
DESCRIPTION:
URL:https://callchinovalleyhome.com/event/chess-group-5/2026-06-01/
LOCATION:Chino Valley Public Library\, 1020 W Palomino Rd Chino Valley\, AZ 86323\, Chino Valley\, AZ\, 86323\, United States
ATTACH;FMTTYPE=image/jpeg:https://callchinovalleyhome.com/wp-content/uploads/2024/05/Chino-Valley-Public-Library.jpg
ORGANIZER;CN="Rebecca Laurence":MAILTO:rlaurence@chinoaz.net
END:VEVENT
BEGIN:VEVENT
DTSTART;TZID=America/Los_Angeles:20260602T100000
DTEND;TZID=America/Los_Angeles:20260602T110000
DTSTAMP:20260422T151755
CREATED:20251218T211901Z
LAST-MODIFIED:20251218T212057Z
UID:10005685-1780394400-1780398000@callchinovalleyhome.com
SUMMARY:Chino Valley Library Weekly Storytimes (Tuesdays)
DESCRIPTION:Stories\, songs/games\, snack (& a craft for big kids) – new theme every week! \nLots of fun for young families. \n10:00 am – 0-3 years old \n10:30 am – 3-10 years old \nSometimes we have special guests come for story times – watch the calendar/flyers! \nLocation: Chino Valley Public Library at 1020 Palomino Rd\, Chino Valley\, AZ 86323
URL:https://callchinovalleyhome.com/event/chino-valley-library-weekly-storytimes-tuesdays/2026-06-02/
ATTACH;FMTTYPE=image/webp:https://callchinovalleyhome.com/wp-content/uploads/2024/07/Chino-Valley-Local-Author-Storytime.webp
ORGANIZER;CN="Rebecca Laurence":MAILTO:rlaurence@chinoaz.net
END:VEVENT
BEGIN:VEVENT
DTSTART;TZID=America/Los_Angeles:20260602T150000
DTEND;TZID=America/Los_Angeles:20260602T170000
DTSTAMP:20260422T151755
CREATED:20250218T200750Z
LAST-MODIFIED:20250218T201606Z
UID:10004073-1780412400-1780419600@callchinovalleyhome.com
SUMMARY:Lego Club
DESCRIPTION:Come afterschool to build something fun! Great for Elementary and Middle School ages. (If you child is under 5yrs\, please supervise them). \nDrop in\, drop out. Ok to arrive late or leave early.
URL:https://callchinovalleyhome.com/event/lego-club-5-2-2/2026-06-02/
LOCATION:Chino Valley Public Library\, 1020 W Palomino Rd Chino Valley\, AZ 86323\, Chino Valley\, AZ\, 86323\, United States
ATTACH;FMTTYPE=image/webp:https://callchinovalleyhome.com/wp-content/uploads/2024/06/Chino-Valley-Library-Lego-Event.webp
ORGANIZER;CN="Rebecca Laurence":MAILTO:rlaurence@chinoaz.net
END:VEVENT
BEGIN:VEVENT
DTSTART;TZID=America/Los_Angeles:20260603T100000
DTEND;TZID=America/Los_Angeles:20260603T121500
DTSTAMP:20260422T151755
CREATED:20260422T205116Z
LAST-MODIFIED:20260422T205916Z
UID:10005845-1780480800-1780488900@callchinovalleyhome.com
SUMMARY:Great White Shark Adventure
DESCRIPTION:Two back to back shows (10am and 11:15am) \nOcean explorers\, Wayne and Karen Brown\, travel the world and bring their exciting ocean adventures to life with their high-energy\, fast-paced\, multimedia presentations that combine actual specimens\, biological models\, life-sized (or larger-than-life) inflatable animals\, unique props\, costumes\, creative dramatics\, storytelling techniques\, high-tech SCUBA diving equipment\, audience participation\, and breathtaking underwater photography & videography! \nHeld indoors as part of our Free Summer Reading Program. \nAll ages welcome. \nChino Valley Public Library\n1020 W Palomino Rd\nChino Valley\, AZ 86323 \n  \n 
URL:https://callchinovalleyhome.com/event/great-white-shark-adventure/
ATTACH;FMTTYPE=image/webp:https://callchinovalleyhome.com/wp-content/uploads/2026/04/Great-White-Shark-Adventure.webp
ORGANIZER;CN="Rebecca Laurence":MAILTO:rlaurence@chinoaz.net
END:VEVENT
BEGIN:VEVENT
DTSTART;TZID=America/Los_Angeles:20260605T100000
DTEND;TZID=America/Los_Angeles:20260605T110000
DTSTAMP:20260422T151755
CREATED:20251218T212027Z
LAST-MODIFIED:20251218T212027Z
UID:10005754-1780653600-1780657200@callchinovalleyhome.com
SUMMARY:Chino Valley Library Weekly Storytimes (Fridays)
DESCRIPTION:Stories\, songs/games\, snack (& a craft for big kids) – new theme every week! \nLots of fun for young families. \n10:00 am – 0-3 years old \n10:30 am – 3-10 years old \nSometimes we have special guests come for story times – watch the calendar/flyers! \nLocation: Chino Valley Public Library at 1020 Palomino Rd\, Chino Valley\, AZ 86323
URL:https://callchinovalleyhome.com/event/chino-valley-library-weekly-storytimes-fridays-2/2026-06-05/
ATTACH;FMTTYPE=image/webp:https://callchinovalleyhome.com/wp-content/uploads/2024/07/Chino-Valley-Local-Author-Storytime.webp
ORGANIZER;CN="Rebecca Laurence":MAILTO:rlaurence@chinoaz.net
END:VEVENT
BEGIN:VEVENT
DTSTART;TZID=America/Los_Angeles:20260605T160000
DTEND;TZID=America/Los_Angeles:20260605T210000
DTSTAMP:20260422T151755
CREATED:20241230T200349Z
LAST-MODIFIED:20241230T200349Z
UID:10004806-1780675200-1780693200@callchinovalleyhome.com
SUMMARY:Olsen's Events Mounted Shooting Practice
DESCRIPTION:Every Friday! \nWinter Hours Vary\, Call for Start Time \n$20/person \nBeginners Welcome
URL:https://callchinovalleyhome.com/event/olsens-events-mounted-shooting-practice-2/2026-06-05/
LOCATION:Olsen’s Events\, 344 S Hwy 89 Chino Valley\, AZ\, 86323\, Chino Valley\, AZ\, 86323\, United States
ATTACH;FMTTYPE=image/png:https://callchinovalleyhome.com/wp-content/uploads/2024/12/Winter-Mounted-Shooting-Practice.png
END:VEVENT
BEGIN:VEVENT
DTSTART;TZID=America/Los_Angeles:20260607T080000
DTEND;TZID=America/Los_Angeles:20260607T120000
DTSTAMP:20260422T151755
CREATED:20260322T045240Z
LAST-MODIFIED:20260322T045240Z
UID:10005827-1780819200-1780833600@callchinovalleyhome.com
SUMMARY:2026 Jackpot Ropings
DESCRIPTION:Books open at 8:00am \nRoping Starts at 9:00am \nMust have current global handicap number \nW-9s must be filled out and number verification will be required for payout \n$100 Olsen’s Gift Card to Winners of Each Roping \nOlsen’s Event Arena\n344 S Hwy 89\, Chino Valley\, AZ\, United States\, Arizona 86323
URL:https://callchinovalleyhome.com/event/2026-jackpot-ropings/2026-06-07/
ATTACH;FMTTYPE=image/webp:https://callchinovalleyhome.com/wp-content/uploads/2024/08/Chino-Valley-Olsens-Events-Team-Roping.webp
END:VEVENT
BEGIN:VEVENT
DTSTART;TZID=America/Los_Angeles:20260608T150000
DTEND;TZID=America/Los_Angeles:20260608T180000
DTSTAMP:20260422T151755
CREATED:20240510T182131Z
LAST-MODIFIED:20250113T050929Z
UID:10000448-1780930800-1780941600@callchinovalleyhome.com
SUMMARY:Chess Group
DESCRIPTION:
URL:https://callchinovalleyhome.com/event/chess-group-5/2026-06-08/
LOCATION:Chino Valley Public Library\, 1020 W Palomino Rd Chino Valley\, AZ 86323\, Chino Valley\, AZ\, 86323\, United States
ATTACH;FMTTYPE=image/jpeg:https://callchinovalleyhome.com/wp-content/uploads/2024/05/Chino-Valley-Public-Library.jpg
ORGANIZER;CN="Rebecca Laurence":MAILTO:rlaurence@chinoaz.net
END:VEVENT
BEGIN:VEVENT
DTSTART;TZID=America/Los_Angeles:20260609T100000
DTEND;TZID=America/Los_Angeles:20260609T110000
DTSTAMP:20260422T151755
CREATED:20251218T211901Z
LAST-MODIFIED:20251218T212057Z
UID:10005686-1780999200-1781002800@callchinovalleyhome.com
SUMMARY:Chino Valley Library Weekly Storytimes (Tuesdays)
DESCRIPTION:Stories\, songs/games\, snack (& a craft for big kids) – new theme every week! \nLots of fun for young families. \n10:00 am – 0-3 years old \n10:30 am – 3-10 years old \nSometimes we have special guests come for story times – watch the calendar/flyers! \nLocation: Chino Valley Public Library at 1020 Palomino Rd\, Chino Valley\, AZ 86323
URL:https://callchinovalleyhome.com/event/chino-valley-library-weekly-storytimes-tuesdays/2026-06-09/
ATTACH;FMTTYPE=image/webp:https://callchinovalleyhome.com/wp-content/uploads/2024/07/Chino-Valley-Local-Author-Storytime.webp
ORGANIZER;CN="Rebecca Laurence":MAILTO:rlaurence@chinoaz.net
END:VEVENT
BEGIN:VEVENT
DTSTART;TZID=America/Los_Angeles:20260609T150000
DTEND;TZID=America/Los_Angeles:20260609T170000
DTSTAMP:20260422T151756
CREATED:20250218T200750Z
LAST-MODIFIED:20250218T201606Z
UID:10004074-1781017200-1781024400@callchinovalleyhome.com
SUMMARY:Lego Club
DESCRIPTION:Come afterschool to build something fun! Great for Elementary and Middle School ages. (If you child is under 5yrs\, please supervise them). \nDrop in\, drop out. Ok to arrive late or leave early.
URL:https://callchinovalleyhome.com/event/lego-club-5-2-2/2026-06-09/
LOCATION:Chino Valley Public Library\, 1020 W Palomino Rd Chino Valley\, AZ 86323\, Chino Valley\, AZ\, 86323\, United States
ATTACH;FMTTYPE=image/webp:https://callchinovalleyhome.com/wp-content/uploads/2024/06/Chino-Valley-Library-Lego-Event.webp
ORGANIZER;CN="Rebecca Laurence":MAILTO:rlaurence@chinoaz.net
END:VEVENT
BEGIN:VEVENT
DTSTART;TZID=America/Los_Angeles:20260610T100000
DTEND;TZID=America/Los_Angeles:20260610T120000
DTSTAMP:20260422T151756
CREATED:20260422T205839Z
LAST-MODIFIED:20260422T211055Z
UID:10005846-1781085600-1781092800@callchinovalleyhome.com
SUMMARY:Wild World Safari
DESCRIPTION:Two back to back shows (10am and 11am) \nIsn’t that WILD!? Wildman Phil brings animals from around the world all together now for a lively\, interactive experience where everyone gets up close and personal with some of the most incredible creatures on the planet. Adventurer and wildlife expert Wildman Phil enjoys sharing how he was introduced to his love of exploration at a young age by the books he read from his local public library. These stories helped him develop a passion and exuberance for all things prickly\, pointy\, venomous\, and creepy. \nHeld indoors as part of our Summer Reading Program. \nAll ages welcome. \nChino Valley Public Library\n1020 W Palomino Rd\nChino Valley\, AZ 86323
URL:https://callchinovalleyhome.com/event/wild-world-safari/
ATTACH;FMTTYPE=image/webp:https://callchinovalleyhome.com/wp-content/uploads/2026/04/Wildman-Phil.webp
ORGANIZER;CN="Rebecca Laurence":MAILTO:rlaurence@chinoaz.net
END:VEVENT
BEGIN:VEVENT
DTSTART;TZID=America/Los_Angeles:20260612T100000
DTEND;TZID=America/Los_Angeles:20260612T110000
DTSTAMP:20260422T151756
CREATED:20251218T212027Z
LAST-MODIFIED:20251218T212027Z
UID:10005755-1781258400-1781262000@callchinovalleyhome.com
SUMMARY:Chino Valley Library Weekly Storytimes (Fridays)
DESCRIPTION:Stories\, songs/games\, snack (& a craft for big kids) – new theme every week! \nLots of fun for young families. \n10:00 am – 0-3 years old \n10:30 am – 3-10 years old \nSometimes we have special guests come for story times – watch the calendar/flyers! \nLocation: Chino Valley Public Library at 1020 Palomino Rd\, Chino Valley\, AZ 86323
URL:https://callchinovalleyhome.com/event/chino-valley-library-weekly-storytimes-fridays-2/2026-06-12/
ATTACH;FMTTYPE=image/webp:https://callchinovalleyhome.com/wp-content/uploads/2024/07/Chino-Valley-Local-Author-Storytime.webp
ORGANIZER;CN="Rebecca Laurence":MAILTO:rlaurence@chinoaz.net
END:VEVENT
BEGIN:VEVENT
DTSTART;TZID=America/Los_Angeles:20260612T150000
DTEND;TZID=America/Los_Angeles:20260612T170000
DTSTAMP:20260422T151756
CREATED:20240611T174359Z
LAST-MODIFIED:20240611T174359Z
UID:10003003-1781276400-1781283600@callchinovalleyhome.com
SUMMARY:STEAM Workshop
DESCRIPTION:Every Second Friday bring your kids and teens down to the library to explore\, build\, and create with cool gadgets\, sets and kits\, builders\, and electronics!
URL:https://callchinovalleyhome.com/event/steam-workshop-2/2026-06-12/
LOCATION:Chino Valley Public Library\, 1020 W Palomino Rd Chino Valley\, AZ 86323\, Chino Valley\, AZ\, 86323\, United States
ATTACH;FMTTYPE=image/webp:https://callchinovalleyhome.com/wp-content/uploads/2024/06/Chino-Valley-Library-STEAM-Workshops.webp
ORGANIZER;CN="Rebecca Laurence":MAILTO:rlaurence@chinoaz.net
END:VEVENT
BEGIN:VEVENT
DTSTART;TZID=America/Los_Angeles:20260612T160000
DTEND;TZID=America/Los_Angeles:20260612T210000
DTSTAMP:20260422T151756
CREATED:20241230T200349Z
LAST-MODIFIED:20241230T200349Z
UID:10004807-1781280000-1781298000@callchinovalleyhome.com
SUMMARY:Olsen's Events Mounted Shooting Practice
DESCRIPTION:Every Friday! \nWinter Hours Vary\, Call for Start Time \n$20/person \nBeginners Welcome
URL:https://callchinovalleyhome.com/event/olsens-events-mounted-shooting-practice-2/2026-06-12/
LOCATION:Olsen’s Events\, 344 S Hwy 89 Chino Valley\, AZ\, 86323\, Chino Valley\, AZ\, 86323\, United States
ATTACH;FMTTYPE=image/png:https://callchinovalleyhome.com/wp-content/uploads/2024/12/Winter-Mounted-Shooting-Practice.png
END:VEVENT
BEGIN:VEVENT
DTSTART;TZID=America/Los_Angeles:20260613T090000
DTEND;TZID=America/Los_Angeles:20260613T120000
DTSTAMP:20260422T151756
CREATED:20260322T045731Z
LAST-MODIFIED:20260322T045731Z
UID:10005841-1781341200-1781352000@callchinovalleyhome.com
SUMMARY:3 Cans Up Summer Gymkhana Series
DESCRIPTION:Buckles and Awards \nFor more information call or text Chris at 928-716-2362 or Jessica at 928-727-5377 \nOlsen’s Event Arena\n344 S Hwy 89\, Chino Valley\, AZ\, United States\, Arizona 86323
URL:https://callchinovalleyhome.com/event/3-cans-up-summer-gymkhana-series-2/2026-06-13/
ATTACH;FMTTYPE=image/webp:https://callchinovalleyhome.com/wp-content/uploads/2025/04/3-Cans-Up-Summer-Gymkhana-Series.webp
END:VEVENT
BEGIN:VEVENT
DTSTART;TZID=America/Los_Angeles:20260615T150000
DTEND;TZID=America/Los_Angeles:20260615T180000
DTSTAMP:20260422T151756
CREATED:20240510T182131Z
LAST-MODIFIED:20250113T050929Z
UID:10000449-1781535600-1781546400@callchinovalleyhome.com
SUMMARY:Chess Group
DESCRIPTION:
URL:https://callchinovalleyhome.com/event/chess-group-5/2026-06-15/
LOCATION:Chino Valley Public Library\, 1020 W Palomino Rd Chino Valley\, AZ 86323\, Chino Valley\, AZ\, 86323\, United States
ATTACH;FMTTYPE=image/jpeg:https://callchinovalleyhome.com/wp-content/uploads/2024/05/Chino-Valley-Public-Library.jpg
ORGANIZER;CN="Rebecca Laurence":MAILTO:rlaurence@chinoaz.net
END:VEVENT
BEGIN:VEVENT
DTSTART;TZID=America/Los_Angeles:20260616T100000
DTEND;TZID=America/Los_Angeles:20260616T110000
DTSTAMP:20260422T151756
CREATED:20251218T211901Z
LAST-MODIFIED:20251218T212057Z
UID:10005687-1781604000-1781607600@callchinovalleyhome.com
SUMMARY:Chino Valley Library Weekly Storytimes (Tuesdays)
DESCRIPTION:Stories\, songs/games\, snack (& a craft for big kids) – new theme every week! \nLots of fun for young families. \n10:00 am – 0-3 years old \n10:30 am – 3-10 years old \nSometimes we have special guests come for story times – watch the calendar/flyers! \nLocation: Chino Valley Public Library at 1020 Palomino Rd\, Chino Valley\, AZ 86323
URL:https://callchinovalleyhome.com/event/chino-valley-library-weekly-storytimes-tuesdays/2026-06-16/
ATTACH;FMTTYPE=image/webp:https://callchinovalleyhome.com/wp-content/uploads/2024/07/Chino-Valley-Local-Author-Storytime.webp
ORGANIZER;CN="Rebecca Laurence":MAILTO:rlaurence@chinoaz.net
END:VEVENT
BEGIN:VEVENT
DTSTART;TZID=America/Los_Angeles:20260616T103000
DTEND;TZID=America/Los_Angeles:20260616T113000
DTSTAMP:20260422T151756
CREATED:20260422T210521Z
LAST-MODIFIED:20260422T210521Z
UID:10005847-1781605800-1781609400@callchinovalleyhome.com
SUMMARY:Tooth Time with Chompers
DESCRIPTION:Fun Activities & Story with Chompers the Dinosaur & Sir Floss a Lot Puppets \nLearn about Oral Health & Hygiene and receive complimentary goodie bags. \nPresented by My Kids’ Dentist and held at Chino Valley Public Library. \nChino Valley Public Library\n1020 W Palomino Rd\nChino Valley\, AZ 86323
URL:https://callchinovalleyhome.com/event/tooth-time-with-chompers/
ATTACH;FMTTYPE=image/webp:https://callchinovalleyhome.com/wp-content/uploads/2026/04/Chino-Valley-Tooth-Time-with-Chompers.webp
ORGANIZER;CN="Rebecca Laurence":MAILTO:rlaurence@chinoaz.net
END:VEVENT
BEGIN:VEVENT
DTSTART;TZID=America/Los_Angeles:20260616T130000
DTEND;TZID=America/Los_Angeles:20260616T140000
DTSTAMP:20260422T151756
CREATED:20251218T213251Z
LAST-MODIFIED:20251218T213251Z
UID:10005801-1781614800-1781618400@callchinovalleyhome.com
SUMMARY:Master Gardener Presentation
DESCRIPTION:University of Arizona Cooperative Extension presents free Master Gardener talks every month on the 3rd Tuesday at 1pm. Each month has a new topic or theme and is open to all. Come join us and learn more about gardening\, yard care\, nature\, yard wildlife\, plants\, growing and more!
URL:https://callchinovalleyhome.com/event/master-gardener-presentation-3/2026-06-16/
LOCATION:Chino Valley Public Library\, 1020 W Palomino Rd Chino Valley\, AZ 86323\, Chino Valley\, AZ\, 86323\, United States
ATTACH;FMTTYPE=image/webp:https://callchinovalleyhome.com/wp-content/uploads/2024/07/Chino-Valley-Master-Gardener.webp
ORGANIZER;CN="University of AZ Cooperative Extension":MAILTO:YCMGspeakersbureau@gmail.com
END:VEVENT
BEGIN:VEVENT
DTSTART;TZID=America/Los_Angeles:20260616T150000
DTEND;TZID=America/Los_Angeles:20260616T170000
DTSTAMP:20260422T151756
CREATED:20250218T200750Z
LAST-MODIFIED:20250218T201606Z
UID:10004075-1781622000-1781629200@callchinovalleyhome.com
SUMMARY:Lego Club
DESCRIPTION:Come afterschool to build something fun! Great for Elementary and Middle School ages. (If you child is under 5yrs\, please supervise them). \nDrop in\, drop out. Ok to arrive late or leave early.
URL:https://callchinovalleyhome.com/event/lego-club-5-2-2/2026-06-16/
LOCATION:Chino Valley Public Library\, 1020 W Palomino Rd Chino Valley\, AZ 86323\, Chino Valley\, AZ\, 86323\, United States
ATTACH;FMTTYPE=image/webp:https://callchinovalleyhome.com/wp-content/uploads/2024/06/Chino-Valley-Library-Lego-Event.webp
ORGANIZER;CN="Rebecca Laurence":MAILTO:rlaurence@chinoaz.net
END:VEVENT
BEGIN:VEVENT
DTSTART;TZID=America/Los_Angeles:20260617T100000
DTEND;TZID=America/Los_Angeles:20260617T120000
DTSTAMP:20260422T151756
CREATED:20260422T211545Z
LAST-MODIFIED:20260422T211545Z
UID:10005848-1781690400-1781697600@callchinovalleyhome.com
SUMMARY:Awesome Assemblies Wacky Science
DESCRIPTION:Wacky Science is packed with ways to get your students on stage and involved! Here are just a few examples of the crazy experiments your students will do during the show: Stinky Dinosaurs\, The Incredible Shrinking Head optical illusion\, Mobius Strips\, Air Pressure\, The Triangle of Terror STEM and more! \nYour kids will be riveted from start to finish. They won’t want to miss a thing! \nHeld indoors as part of our Summer Reading Program. \nAll ages welcome. \nChino Valley Public Library\n1020 W Palomino Rd\nChino Valley\, AZ 86323
URL:https://callchinovalleyhome.com/event/awesome-assemblies-wacky-science/
ATTACH;FMTTYPE=image/webp:https://callchinovalleyhome.com/wp-content/uploads/2026/04/Chino-Valley-Wacky-Science.webp
ORGANIZER;CN="Rebecca Laurence":MAILTO:rlaurence@chinoaz.net
END:VEVENT
BEGIN:VEVENT
DTSTART;TZID=America/Los_Angeles:20260619T100000
DTEND;TZID=America/Los_Angeles:20260619T110000
DTSTAMP:20260422T151756
CREATED:20251218T212027Z
LAST-MODIFIED:20251218T212027Z
UID:10005756-1781863200-1781866800@callchinovalleyhome.com
SUMMARY:Chino Valley Library Weekly Storytimes (Fridays)
DESCRIPTION:Stories\, songs/games\, snack (& a craft for big kids) – new theme every week! \nLots of fun for young families. \n10:00 am – 0-3 years old \n10:30 am – 3-10 years old \nSometimes we have special guests come for story times – watch the calendar/flyers! \nLocation: Chino Valley Public Library at 1020 Palomino Rd\, Chino Valley\, AZ 86323
URL:https://callchinovalleyhome.com/event/chino-valley-library-weekly-storytimes-fridays-2/2026-06-19/
ATTACH;FMTTYPE=image/webp:https://callchinovalleyhome.com/wp-content/uploads/2024/07/Chino-Valley-Local-Author-Storytime.webp
ORGANIZER;CN="Rebecca Laurence":MAILTO:rlaurence@chinoaz.net
END:VEVENT
BEGIN:VEVENT
DTSTART;TZID=America/Los_Angeles:20260619T160000
DTEND;TZID=America/Los_Angeles:20260619T210000
DTSTAMP:20260422T151756
CREATED:20241230T200349Z
LAST-MODIFIED:20241230T200349Z
UID:10004808-1781884800-1781902800@callchinovalleyhome.com
SUMMARY:Olsen's Events Mounted Shooting Practice
DESCRIPTION:Every Friday! \nWinter Hours Vary\, Call for Start Time \n$20/person \nBeginners Welcome
URL:https://callchinovalleyhome.com/event/olsens-events-mounted-shooting-practice-2/2026-06-19/
LOCATION:Olsen’s Events\, 344 S Hwy 89 Chino Valley\, AZ\, 86323\, Chino Valley\, AZ\, 86323\, United States
ATTACH;FMTTYPE=image/png:https://callchinovalleyhome.com/wp-content/uploads/2024/12/Winter-Mounted-Shooting-Practice.png
END:VEVENT
END:VCALENDAR