BEGIN:VCALENDAR
VERSION:2.0
PRODID:-//Call Chino Valley Home - ECPv6.15.20//NONSGML v1.0//EN
CALSCALE:GREGORIAN
METHOD:PUBLISH
X-ORIGINAL-URL:https://callchinovalleyhome.com
X-WR-CALDESC:Events for Call Chino Valley Home
REFRESH-INTERVAL;VALUE=DURATION:PT1H
X-Robots-Tag:noindex
X-PUBLISHED-TTL:PT1H
BEGIN:VTIMEZONE
TZID:America/Los_Angeles
BEGIN:DAYLIGHT
TZOFFSETFROM:-0800
TZOFFSETTO:-0700
TZNAME:PDT
DTSTART:20250309T100000
END:DAYLIGHT
BEGIN:STANDARD
TZOFFSETFROM:-0700
TZOFFSETTO:-0800
TZNAME:PST
DTSTART:20251102T090000
END:STANDARD
BEGIN:DAYLIGHT
TZOFFSETFROM:-0800
TZOFFSETTO:-0700
TZNAME:PDT
DTSTART:20260308T100000
END:DAYLIGHT
BEGIN:STANDARD
TZOFFSETFROM:-0700
TZOFFSETTO:-0800
TZNAME:PST
DTSTART:20261101T090000
END:STANDARD
BEGIN:DAYLIGHT
TZOFFSETFROM:-0800
TZOFFSETTO:-0700
TZNAME:PDT
DTSTART:20270314T100000
END:DAYLIGHT
BEGIN:STANDARD
TZOFFSETFROM:-0700
TZOFFSETTO:-0800
TZNAME:PST
DTSTART:20271107T090000
END:STANDARD
END:VTIMEZONE
BEGIN:VEVENT
DTSTART;TZID=America/Los_Angeles:20260501T100000
DTEND;TZID=America/Los_Angeles:20260501T110000
DTSTAMP:20260422T195829
CREATED:20251218T212027Z
LAST-MODIFIED:20251218T212027Z
UID:10005749-1777629600-1777633200@callchinovalleyhome.com
SUMMARY:Chino Valley Library Weekly Storytimes (Fridays)
DESCRIPTION:Stories\, songs/games\, snack (& a craft for big kids) – new theme every week! \nLots of fun for young families. \n10:00 am – 0-3 years old \n10:30 am – 3-10 years old \nSometimes we have special guests come for story times – watch the calendar/flyers! \nLocation: Chino Valley Public Library at 1020 Palomino Rd\, Chino Valley\, AZ 86323
URL:https://callchinovalleyhome.com/event/chino-valley-library-weekly-storytimes-fridays-2/2026-05-01/
ATTACH;FMTTYPE=image/webp:https://callchinovalleyhome.com/wp-content/uploads/2024/07/Chino-Valley-Local-Author-Storytime.webp
ORGANIZER;CN="Rebecca Laurence":MAILTO:rlaurence@chinoaz.net
END:VEVENT
BEGIN:VEVENT
DTSTART;TZID=America/Los_Angeles:20260501T160000
DTEND;TZID=America/Los_Angeles:20260501T210000
DTSTAMP:20260422T195829
CREATED:20241230T200349Z
LAST-MODIFIED:20241230T200349Z
UID:10004801-1777651200-1777669200@callchinovalleyhome.com
SUMMARY:Olsen's Events Mounted Shooting Practice
DESCRIPTION:Every Friday! \nWinter Hours Vary\, Call for Start Time \n$20/person \nBeginners Welcome
URL:https://callchinovalleyhome.com/event/olsens-events-mounted-shooting-practice-2/2026-05-01/
LOCATION:Olsen’s Events\, 344 S Hwy 89 Chino Valley\, AZ\, 86323\, Chino Valley\, AZ\, 86323\, United States
ATTACH;FMTTYPE=image/png:https://callchinovalleyhome.com/wp-content/uploads/2024/12/Winter-Mounted-Shooting-Practice.png
END:VEVENT
BEGIN:VEVENT
DTSTART;TZID=America/Los_Angeles:20260502T080000
DTEND;TZID=America/Los_Angeles:20260502T120000
DTSTAMP:20260422T195829
CREATED:20260322T045402Z
LAST-MODIFIED:20260322T045402Z
UID:10005831-1777708800-1777723200@callchinovalleyhome.com
SUMMARY:FFA Benefit Team Roping
DESCRIPTION:Books Open at 8:00 am \nRoping starts at 9:00am \nMust have current Global Handicap Number \nBuckles to Average Winners \nAll proceeds go to the Chino Valley FFA Chapter \nOlsen’s Event Arena\n344 S Hwy 89\, Chino Valley\, AZ\, United States\, Arizona 86323
URL:https://callchinovalleyhome.com/event/ffa-benefit-team-roping-3/
ATTACH;FMTTYPE=image/webp:https://callchinovalleyhome.com/wp-content/uploads/2024/08/Chino-Valley-Olsens-Events-Team-Roping.webp
END:VEVENT
BEGIN:VEVENT
DTSTART;TZID=America/Los_Angeles:20260503T140000
DTEND;TZID=America/Los_Angeles:20260503T170000
DTSTAMP:20260422T195829
CREATED:20260422T225010Z
LAST-MODIFIED:20260422T225010Z
UID:10005859-1777816800-1777827600@callchinovalleyhome.com
SUMMARY:Olsen's Events Obstacle Challenge
DESCRIPTION:4-Week Obstacle Course Challenge – Open\, Novice \n\nIn-Hand\nLine Driving Classes (no carts)\n\nObstacles may include bridges\, water\, dragging\, flags\, basic maneuvers and more! Please get your horses desensitized and ready for anything! \nMust attend at least 3 out of 4 of the events to be eligible for prizes! We will drop the show with the lowest score! You can attend for day money even if you are not in the series! \nBuckle to winner of each class! \nOlsen’s Event Arena\n344 S Hwy 89\, Chino Valley\, AZ\, United States\, Arizona 86323
URL:https://callchinovalleyhome.com/event/olsens-events-obstacle-challenge/2026-05-03/
ATTACH;FMTTYPE=image/webp:https://callchinovalleyhome.com/wp-content/uploads/2024/11/Sunset-Ranch-Obstacle-Challenge-Weekend.webp
END:VEVENT
BEGIN:VEVENT
DTSTART;TZID=America/Los_Angeles:20260504T150000
DTEND;TZID=America/Los_Angeles:20260504T180000
DTSTAMP:20260422T195829
CREATED:20240510T182131Z
LAST-MODIFIED:20250113T050929Z
UID:10000443-1777906800-1777917600@callchinovalleyhome.com
SUMMARY:Chess Group
DESCRIPTION:
URL:https://callchinovalleyhome.com/event/chess-group-5/2026-05-04/
LOCATION:Chino Valley Public Library\, 1020 W Palomino Rd Chino Valley\, AZ 86323\, Chino Valley\, AZ\, 86323\, United States
ATTACH;FMTTYPE=image/jpeg:https://callchinovalleyhome.com/wp-content/uploads/2024/05/Chino-Valley-Public-Library.jpg
ORGANIZER;CN="Rebecca Laurence":MAILTO:rlaurence@chinoaz.net
END:VEVENT
BEGIN:VEVENT
DTSTART;TZID=America/Los_Angeles:20260505T100000
DTEND;TZID=America/Los_Angeles:20260505T110000
DTSTAMP:20260422T195829
CREATED:20251218T211901Z
LAST-MODIFIED:20251218T212057Z
UID:10005681-1777975200-1777978800@callchinovalleyhome.com
SUMMARY:Chino Valley Library Weekly Storytimes (Tuesdays)
DESCRIPTION:Stories\, songs/games\, snack (& a craft for big kids) – new theme every week! \nLots of fun for young families. \n10:00 am – 0-3 years old \n10:30 am – 3-10 years old \nSometimes we have special guests come for story times – watch the calendar/flyers! \nLocation: Chino Valley Public Library at 1020 Palomino Rd\, Chino Valley\, AZ 86323
URL:https://callchinovalleyhome.com/event/chino-valley-library-weekly-storytimes-tuesdays/2026-05-05/
ATTACH;FMTTYPE=image/webp:https://callchinovalleyhome.com/wp-content/uploads/2024/07/Chino-Valley-Local-Author-Storytime.webp
ORGANIZER;CN="Rebecca Laurence":MAILTO:rlaurence@chinoaz.net
END:VEVENT
BEGIN:VEVENT
DTSTART;TZID=America/Los_Angeles:20260505T150000
DTEND;TZID=America/Los_Angeles:20260505T170000
DTSTAMP:20260422T195829
CREATED:20250218T200750Z
LAST-MODIFIED:20250218T201606Z
UID:10004069-1777993200-1778000400@callchinovalleyhome.com
SUMMARY:Lego Club
DESCRIPTION:Come afterschool to build something fun! Great for Elementary and Middle School ages. (If you child is under 5yrs\, please supervise them). \nDrop in\, drop out. Ok to arrive late or leave early.
URL:https://callchinovalleyhome.com/event/lego-club-5-2-2/2026-05-05/
LOCATION:Chino Valley Public Library\, 1020 W Palomino Rd Chino Valley\, AZ 86323\, Chino Valley\, AZ\, 86323\, United States
ATTACH;FMTTYPE=image/webp:https://callchinovalleyhome.com/wp-content/uploads/2024/06/Chino-Valley-Library-Lego-Event.webp
ORGANIZER;CN="Rebecca Laurence":MAILTO:rlaurence@chinoaz.net
END:VEVENT
BEGIN:VEVENT
DTSTART;TZID=America/Los_Angeles:20260508T100000
DTEND;TZID=America/Los_Angeles:20260508T110000
DTSTAMP:20260422T195829
CREATED:20251218T212027Z
LAST-MODIFIED:20251218T212027Z
UID:10005750-1778234400-1778238000@callchinovalleyhome.com
SUMMARY:Chino Valley Library Weekly Storytimes (Fridays)
DESCRIPTION:Stories\, songs/games\, snack (& a craft for big kids) – new theme every week! \nLots of fun for young families. \n10:00 am – 0-3 years old \n10:30 am – 3-10 years old \nSometimes we have special guests come for story times – watch the calendar/flyers! \nLocation: Chino Valley Public Library at 1020 Palomino Rd\, Chino Valley\, AZ 86323
URL:https://callchinovalleyhome.com/event/chino-valley-library-weekly-storytimes-fridays-2/2026-05-08/
ATTACH;FMTTYPE=image/webp:https://callchinovalleyhome.com/wp-content/uploads/2024/07/Chino-Valley-Local-Author-Storytime.webp
ORGANIZER;CN="Rebecca Laurence":MAILTO:rlaurence@chinoaz.net
END:VEVENT
BEGIN:VEVENT
DTSTART;TZID=America/Los_Angeles:20260508T150000
DTEND;TZID=America/Los_Angeles:20260508T170000
DTSTAMP:20260422T195829
CREATED:20240611T174359Z
LAST-MODIFIED:20240611T174359Z
UID:10003002-1778252400-1778259600@callchinovalleyhome.com
SUMMARY:STEAM Workshop
DESCRIPTION:Every Second Friday bring your kids and teens down to the library to explore\, build\, and create with cool gadgets\, sets and kits\, builders\, and electronics!
URL:https://callchinovalleyhome.com/event/steam-workshop-2/2026-05-08/
LOCATION:Chino Valley Public Library\, 1020 W Palomino Rd Chino Valley\, AZ 86323\, Chino Valley\, AZ\, 86323\, United States
ATTACH;FMTTYPE=image/webp:https://callchinovalleyhome.com/wp-content/uploads/2024/06/Chino-Valley-Library-STEAM-Workshops.webp
ORGANIZER;CN="Rebecca Laurence":MAILTO:rlaurence@chinoaz.net
END:VEVENT
BEGIN:VEVENT
DTSTART;TZID=America/Los_Angeles:20260508T160000
DTEND;TZID=America/Los_Angeles:20260508T210000
DTSTAMP:20260422T195829
CREATED:20241230T200349Z
LAST-MODIFIED:20241230T200349Z
UID:10004802-1778256000-1778274000@callchinovalleyhome.com
SUMMARY:Olsen's Events Mounted Shooting Practice
DESCRIPTION:Every Friday! \nWinter Hours Vary\, Call for Start Time \n$20/person \nBeginners Welcome
URL:https://callchinovalleyhome.com/event/olsens-events-mounted-shooting-practice-2/2026-05-08/
LOCATION:Olsen’s Events\, 344 S Hwy 89 Chino Valley\, AZ\, 86323\, Chino Valley\, AZ\, 86323\, United States
ATTACH;FMTTYPE=image/png:https://callchinovalleyhome.com/wp-content/uploads/2024/12/Winter-Mounted-Shooting-Practice.png
END:VEVENT
BEGIN:VEVENT
DTSTART;TZID=America/Los_Angeles:20260509T090000
DTEND;TZID=America/Los_Angeles:20260509T120000
DTSTAMP:20260422T195829
CREATED:20260322T043135Z
LAST-MODIFIED:20260322T043135Z
UID:10005818-1778317200-1778328000@callchinovalleyhome.com
SUMMARY:Touch-A-Truck Event
DESCRIPTION:HONK HONK! Calling all truck lovers! \n\n\n\nGet ready for a hands-on adventure!\n\nThe Town of Chino Valley is thrilled to host our FREE Touch-A-Truck event. Bring the whole family to Community Center Park to get up close and personal with emergency vehicles\, heavy machinery\, and cool specialty vehicles.\n\nIt’s the perfect chance for kids to climb aboard\, sit in the driver’s seat\, and meet the amazing people who operate these machines!\n\n\n When: Saturday\, May 9th\n Time: 9:00 am – 12:00 pm\n Where: Community Center Park (1527 N Rd 1 E\, Chino Valley)\n Cost: FREE!\n\n\n\nDon’t miss out on this fun\, interactive experience for all ages! We can’t wait to see you there!\n\n\n\nLooking to be a vendor? Please send in your application to recreation@chinoaz.net.\nQuestions? Contact Recreation: 928-636-9780 or recreation@chinoaz.net
URL:https://callchinovalleyhome.com/event/touch-a-truck-event/
ATTACH;FMTTYPE=image/webp:https://callchinovalleyhome.com/wp-content/uploads/2026/03/Chino-Valley-Touch-a-Truck-Event.webp
END:VEVENT
BEGIN:VEVENT
DTSTART;TZID=America/Los_Angeles:20260510T140000
DTEND;TZID=America/Los_Angeles:20260510T170000
DTSTAMP:20260422T195829
CREATED:20260422T225010Z
LAST-MODIFIED:20260422T225010Z
UID:10005860-1778421600-1778432400@callchinovalleyhome.com
SUMMARY:Olsen's Events Obstacle Challenge
DESCRIPTION:4-Week Obstacle Course Challenge – Open\, Novice \n\nIn-Hand\nLine Driving Classes (no carts)\n\nObstacles may include bridges\, water\, dragging\, flags\, basic maneuvers and more! Please get your horses desensitized and ready for anything! \nMust attend at least 3 out of 4 of the events to be eligible for prizes! We will drop the show with the lowest score! You can attend for day money even if you are not in the series! \nBuckle to winner of each class! \nOlsen’s Event Arena\n344 S Hwy 89\, Chino Valley\, AZ\, United States\, Arizona 86323
URL:https://callchinovalleyhome.com/event/olsens-events-obstacle-challenge/2026-05-10/
ATTACH;FMTTYPE=image/webp:https://callchinovalleyhome.com/wp-content/uploads/2024/11/Sunset-Ranch-Obstacle-Challenge-Weekend.webp
END:VEVENT
BEGIN:VEVENT
DTSTART;TZID=America/Los_Angeles:20260511T150000
DTEND;TZID=America/Los_Angeles:20260511T180000
DTSTAMP:20260422T195829
CREATED:20240510T182131Z
LAST-MODIFIED:20250113T050929Z
UID:10000444-1778511600-1778522400@callchinovalleyhome.com
SUMMARY:Chess Group
DESCRIPTION:
URL:https://callchinovalleyhome.com/event/chess-group-5/2026-05-11/
LOCATION:Chino Valley Public Library\, 1020 W Palomino Rd Chino Valley\, AZ 86323\, Chino Valley\, AZ\, 86323\, United States
ATTACH;FMTTYPE=image/jpeg:https://callchinovalleyhome.com/wp-content/uploads/2024/05/Chino-Valley-Public-Library.jpg
ORGANIZER;CN="Rebecca Laurence":MAILTO:rlaurence@chinoaz.net
END:VEVENT
BEGIN:VEVENT
DTSTART;TZID=America/Los_Angeles:20260512T100000
DTEND;TZID=America/Los_Angeles:20260512T110000
DTSTAMP:20260422T195829
CREATED:20251218T211901Z
LAST-MODIFIED:20251218T212057Z
UID:10005682-1778580000-1778583600@callchinovalleyhome.com
SUMMARY:Chino Valley Library Weekly Storytimes (Tuesdays)
DESCRIPTION:Stories\, songs/games\, snack (& a craft for big kids) – new theme every week! \nLots of fun for young families. \n10:00 am – 0-3 years old \n10:30 am – 3-10 years old \nSometimes we have special guests come for story times – watch the calendar/flyers! \nLocation: Chino Valley Public Library at 1020 Palomino Rd\, Chino Valley\, AZ 86323
URL:https://callchinovalleyhome.com/event/chino-valley-library-weekly-storytimes-tuesdays/2026-05-12/
ATTACH;FMTTYPE=image/webp:https://callchinovalleyhome.com/wp-content/uploads/2024/07/Chino-Valley-Local-Author-Storytime.webp
ORGANIZER;CN="Rebecca Laurence":MAILTO:rlaurence@chinoaz.net
END:VEVENT
BEGIN:VEVENT
DTSTART;TZID=America/Los_Angeles:20260512T140000
DTEND;TZID=America/Los_Angeles:20260512T150000
DTSTAMP:20260422T195829
CREATED:20260422T222006Z
LAST-MODIFIED:20260422T222006Z
UID:10005855-1778594400-1778598000@callchinovalleyhome.com
SUMMARY:Gems of Dementia with Teepa Snow
DESCRIPTION:Gain a deeper understanding of dementia care. The Town of Chino Valley\, in partnership with Caring Causes\, Inc.\, invites the community to a very special FREE presentation: “GEMS” of Dementia.This is a valuable opportunity for caregivers\, family members\, and anyone wanting to learn about navigating the journey of dementia with compassion and a new perspective. WHEN: Tuesday\, May 12\, 2026 TIME: 2:00 PM WHERE: Chino Valley Senior Center (1021 W Butterfield Rd.)We hope to see you there for this important educational event.QUESTIONS or would like to REGISTER?Contact Recreation at  928-636-9780  Email: recreation@chinoaz.net
URL:https://callchinovalleyhome.com/event/gems-of-dementia-with-teepa-snow/
ATTACH;FMTTYPE=image/webp:https://callchinovalleyhome.com/wp-content/uploads/2026/04/Chino-Valley-Gems-of-Dementia.webp
END:VEVENT
BEGIN:VEVENT
DTSTART;TZID=America/Los_Angeles:20260512T150000
DTEND;TZID=America/Los_Angeles:20260512T170000
DTSTAMP:20260422T195829
CREATED:20250218T200750Z
LAST-MODIFIED:20250218T201606Z
UID:10004070-1778598000-1778605200@callchinovalleyhome.com
SUMMARY:Lego Club
DESCRIPTION:Come afterschool to build something fun! Great for Elementary and Middle School ages. (If you child is under 5yrs\, please supervise them). \nDrop in\, drop out. Ok to arrive late or leave early.
URL:https://callchinovalleyhome.com/event/lego-club-5-2-2/2026-05-12/
LOCATION:Chino Valley Public Library\, 1020 W Palomino Rd Chino Valley\, AZ 86323\, Chino Valley\, AZ\, 86323\, United States
ATTACH;FMTTYPE=image/webp:https://callchinovalleyhome.com/wp-content/uploads/2024/06/Chino-Valley-Library-Lego-Event.webp
ORGANIZER;CN="Rebecca Laurence":MAILTO:rlaurence@chinoaz.net
END:VEVENT
BEGIN:VEVENT
DTSTART;TZID=America/Los_Angeles:20260515T100000
DTEND;TZID=America/Los_Angeles:20260515T110000
DTSTAMP:20260422T195829
CREATED:20251218T212027Z
LAST-MODIFIED:20251218T212027Z
UID:10005751-1778839200-1778842800@callchinovalleyhome.com
SUMMARY:Chino Valley Library Weekly Storytimes (Fridays)
DESCRIPTION:Stories\, songs/games\, snack (& a craft for big kids) – new theme every week! \nLots of fun for young families. \n10:00 am – 0-3 years old \n10:30 am – 3-10 years old \nSometimes we have special guests come for story times – watch the calendar/flyers! \nLocation: Chino Valley Public Library at 1020 Palomino Rd\, Chino Valley\, AZ 86323
URL:https://callchinovalleyhome.com/event/chino-valley-library-weekly-storytimes-fridays-2/2026-05-15/
ATTACH;FMTTYPE=image/webp:https://callchinovalleyhome.com/wp-content/uploads/2024/07/Chino-Valley-Local-Author-Storytime.webp
ORGANIZER;CN="Rebecca Laurence":MAILTO:rlaurence@chinoaz.net
END:VEVENT
BEGIN:VEVENT
DTSTART;TZID=America/Los_Angeles:20260515T160000
DTEND;TZID=America/Los_Angeles:20260515T210000
DTSTAMP:20260422T195829
CREATED:20241230T200349Z
LAST-MODIFIED:20241230T200349Z
UID:10004803-1778860800-1778878800@callchinovalleyhome.com
SUMMARY:Olsen's Events Mounted Shooting Practice
DESCRIPTION:Every Friday! \nWinter Hours Vary\, Call for Start Time \n$20/person \nBeginners Welcome
URL:https://callchinovalleyhome.com/event/olsens-events-mounted-shooting-practice-2/2026-05-15/
LOCATION:Olsen’s Events\, 344 S Hwy 89 Chino Valley\, AZ\, 86323\, Chino Valley\, AZ\, 86323\, United States
ATTACH;FMTTYPE=image/png:https://callchinovalleyhome.com/wp-content/uploads/2024/12/Winter-Mounted-Shooting-Practice.png
END:VEVENT
BEGIN:VEVENT
DTSTART;TZID=America/Los_Angeles:20260516T090000
DTEND;TZID=America/Los_Angeles:20260516T120000
DTSTAMP:20260422T195829
CREATED:20260322T045731Z
LAST-MODIFIED:20260322T045731Z
UID:10005840-1778922000-1778932800@callchinovalleyhome.com
SUMMARY:3 Cans Up Summer Gymkhana Series
DESCRIPTION:Buckles and Awards \nFor more information call or text Chris at 928-716-2362 or Jessica at 928-727-5377 \nOlsen’s Event Arena\n344 S Hwy 89\, Chino Valley\, AZ\, United States\, Arizona 86323
URL:https://callchinovalleyhome.com/event/3-cans-up-summer-gymkhana-series-2/2026-05-16/
ATTACH;FMTTYPE=image/webp:https://callchinovalleyhome.com/wp-content/uploads/2025/04/3-Cans-Up-Summer-Gymkhana-Series.webp
END:VEVENT
BEGIN:VEVENT
DTSTART;TZID=America/Los_Angeles:20260518T150000
DTEND;TZID=America/Los_Angeles:20260518T180000
DTSTAMP:20260422T195829
CREATED:20240510T182131Z
LAST-MODIFIED:20250113T050929Z
UID:10000445-1779116400-1779127200@callchinovalleyhome.com
SUMMARY:Chess Group
DESCRIPTION:
URL:https://callchinovalleyhome.com/event/chess-group-5/2026-05-18/
LOCATION:Chino Valley Public Library\, 1020 W Palomino Rd Chino Valley\, AZ 86323\, Chino Valley\, AZ\, 86323\, United States
ATTACH;FMTTYPE=image/jpeg:https://callchinovalleyhome.com/wp-content/uploads/2024/05/Chino-Valley-Public-Library.jpg
ORGANIZER;CN="Rebecca Laurence":MAILTO:rlaurence@chinoaz.net
END:VEVENT
BEGIN:VEVENT
DTSTART;TZID=America/Los_Angeles:20260519T100000
DTEND;TZID=America/Los_Angeles:20260519T110000
DTSTAMP:20260422T195829
CREATED:20251218T211901Z
LAST-MODIFIED:20251218T212057Z
UID:10005683-1779184800-1779188400@callchinovalleyhome.com
SUMMARY:Chino Valley Library Weekly Storytimes (Tuesdays)
DESCRIPTION:Stories\, songs/games\, snack (& a craft for big kids) – new theme every week! \nLots of fun for young families. \n10:00 am – 0-3 years old \n10:30 am – 3-10 years old \nSometimes we have special guests come for story times – watch the calendar/flyers! \nLocation: Chino Valley Public Library at 1020 Palomino Rd\, Chino Valley\, AZ 86323
URL:https://callchinovalleyhome.com/event/chino-valley-library-weekly-storytimes-tuesdays/2026-05-19/
ATTACH;FMTTYPE=image/webp:https://callchinovalleyhome.com/wp-content/uploads/2024/07/Chino-Valley-Local-Author-Storytime.webp
ORGANIZER;CN="Rebecca Laurence":MAILTO:rlaurence@chinoaz.net
END:VEVENT
BEGIN:VEVENT
DTSTART;TZID=America/Los_Angeles:20260519T130000
DTEND;TZID=America/Los_Angeles:20260519T140000
DTSTAMP:20260422T195829
CREATED:20251218T213251Z
LAST-MODIFIED:20251218T213251Z
UID:10005800-1779195600-1779199200@callchinovalleyhome.com
SUMMARY:Master Gardener Presentation
DESCRIPTION:University of Arizona Cooperative Extension presents free Master Gardener talks every month on the 3rd Tuesday at 1pm. Each month has a new topic or theme and is open to all. Come join us and learn more about gardening\, yard care\, nature\, yard wildlife\, plants\, growing and more!
URL:https://callchinovalleyhome.com/event/master-gardener-presentation-3/2026-05-19/
LOCATION:Chino Valley Public Library\, 1020 W Palomino Rd Chino Valley\, AZ 86323\, Chino Valley\, AZ\, 86323\, United States
ATTACH;FMTTYPE=image/webp:https://callchinovalleyhome.com/wp-content/uploads/2024/07/Chino-Valley-Master-Gardener.webp
ORGANIZER;CN="University of AZ Cooperative Extension":MAILTO:YCMGspeakersbureau@gmail.com
END:VEVENT
BEGIN:VEVENT
DTSTART;TZID=America/Los_Angeles:20260519T150000
DTEND;TZID=America/Los_Angeles:20260519T170000
DTSTAMP:20260422T195829
CREATED:20250218T200750Z
LAST-MODIFIED:20250218T201606Z
UID:10004071-1779202800-1779210000@callchinovalleyhome.com
SUMMARY:Lego Club
DESCRIPTION:Come afterschool to build something fun! Great for Elementary and Middle School ages. (If you child is under 5yrs\, please supervise them). \nDrop in\, drop out. Ok to arrive late or leave early.
URL:https://callchinovalleyhome.com/event/lego-club-5-2-2/2026-05-19/
LOCATION:Chino Valley Public Library\, 1020 W Palomino Rd Chino Valley\, AZ 86323\, Chino Valley\, AZ\, 86323\, United States
ATTACH;FMTTYPE=image/webp:https://callchinovalleyhome.com/wp-content/uploads/2024/06/Chino-Valley-Library-Lego-Event.webp
ORGANIZER;CN="Rebecca Laurence":MAILTO:rlaurence@chinoaz.net
END:VEVENT
BEGIN:VEVENT
DTSTART;TZID=America/Los_Angeles:20260522T100000
DTEND;TZID=America/Los_Angeles:20260522T110000
DTSTAMP:20260422T195829
CREATED:20251218T212027Z
LAST-MODIFIED:20251218T212027Z
UID:10005752-1779444000-1779447600@callchinovalleyhome.com
SUMMARY:Chino Valley Library Weekly Storytimes (Fridays)
DESCRIPTION:Stories\, songs/games\, snack (& a craft for big kids) – new theme every week! \nLots of fun for young families. \n10:00 am – 0-3 years old \n10:30 am – 3-10 years old \nSometimes we have special guests come for story times – watch the calendar/flyers! \nLocation: Chino Valley Public Library at 1020 Palomino Rd\, Chino Valley\, AZ 86323
URL:https://callchinovalleyhome.com/event/chino-valley-library-weekly-storytimes-fridays-2/2026-05-22/
ATTACH;FMTTYPE=image/webp:https://callchinovalleyhome.com/wp-content/uploads/2024/07/Chino-Valley-Local-Author-Storytime.webp
ORGANIZER;CN="Rebecca Laurence":MAILTO:rlaurence@chinoaz.net
END:VEVENT
BEGIN:VEVENT
DTSTART;TZID=America/Los_Angeles:20260522T160000
DTEND;TZID=America/Los_Angeles:20260522T210000
DTSTAMP:20260422T195829
CREATED:20241230T200349Z
LAST-MODIFIED:20241230T200349Z
UID:10004804-1779465600-1779483600@callchinovalleyhome.com
SUMMARY:Olsen's Events Mounted Shooting Practice
DESCRIPTION:Every Friday! \nWinter Hours Vary\, Call for Start Time \n$20/person \nBeginners Welcome
URL:https://callchinovalleyhome.com/event/olsens-events-mounted-shooting-practice-2/2026-05-22/
LOCATION:Olsen’s Events\, 344 S Hwy 89 Chino Valley\, AZ\, 86323\, Chino Valley\, AZ\, 86323\, United States
ATTACH;FMTTYPE=image/png:https://callchinovalleyhome.com/wp-content/uploads/2024/12/Winter-Mounted-Shooting-Practice.png
END:VEVENT
BEGIN:VEVENT
DTSTART;TZID=America/Los_Angeles:20260524T140000
DTEND;TZID=America/Los_Angeles:20260524T170000
DTSTAMP:20260422T195829
CREATED:20260422T225010Z
LAST-MODIFIED:20260422T225010Z
UID:10005861-1779631200-1779642000@callchinovalleyhome.com
SUMMARY:Olsen's Events Obstacle Challenge
DESCRIPTION:4-Week Obstacle Course Challenge – Open\, Novice \n\nIn-Hand\nLine Driving Classes (no carts)\n\nObstacles may include bridges\, water\, dragging\, flags\, basic maneuvers and more! Please get your horses desensitized and ready for anything! \nMust attend at least 3 out of 4 of the events to be eligible for prizes! We will drop the show with the lowest score! You can attend for day money even if you are not in the series! \nBuckle to winner of each class! \nOlsen’s Event Arena\n344 S Hwy 89\, Chino Valley\, AZ\, United States\, Arizona 86323
URL:https://callchinovalleyhome.com/event/olsens-events-obstacle-challenge/2026-05-24/
ATTACH;FMTTYPE=image/webp:https://callchinovalleyhome.com/wp-content/uploads/2024/11/Sunset-Ranch-Obstacle-Challenge-Weekend.webp
END:VEVENT
BEGIN:VEVENT
DTSTART;TZID=America/Los_Angeles:20260525T150000
DTEND;TZID=America/Los_Angeles:20260525T180000
DTSTAMP:20260422T195829
CREATED:20240510T182131Z
LAST-MODIFIED:20250113T050929Z
UID:10000446-1779721200-1779732000@callchinovalleyhome.com
SUMMARY:Chess Group
DESCRIPTION:
URL:https://callchinovalleyhome.com/event/chess-group-5/2026-05-25/
LOCATION:Chino Valley Public Library\, 1020 W Palomino Rd Chino Valley\, AZ 86323\, Chino Valley\, AZ\, 86323\, United States
ATTACH;FMTTYPE=image/jpeg:https://callchinovalleyhome.com/wp-content/uploads/2024/05/Chino-Valley-Public-Library.jpg
ORGANIZER;CN="Rebecca Laurence":MAILTO:rlaurence@chinoaz.net
END:VEVENT
BEGIN:VEVENT
DTSTART;TZID=America/Los_Angeles:20260526T100000
DTEND;TZID=America/Los_Angeles:20260526T110000
DTSTAMP:20260422T195829
CREATED:20251218T211901Z
LAST-MODIFIED:20251218T212057Z
UID:10005684-1779789600-1779793200@callchinovalleyhome.com
SUMMARY:Chino Valley Library Weekly Storytimes (Tuesdays)
DESCRIPTION:Stories\, songs/games\, snack (& a craft for big kids) – new theme every week! \nLots of fun for young families. \n10:00 am – 0-3 years old \n10:30 am – 3-10 years old \nSometimes we have special guests come for story times – watch the calendar/flyers! \nLocation: Chino Valley Public Library at 1020 Palomino Rd\, Chino Valley\, AZ 86323
URL:https://callchinovalleyhome.com/event/chino-valley-library-weekly-storytimes-tuesdays/2026-05-26/
ATTACH;FMTTYPE=image/webp:https://callchinovalleyhome.com/wp-content/uploads/2024/07/Chino-Valley-Local-Author-Storytime.webp
ORGANIZER;CN="Rebecca Laurence":MAILTO:rlaurence@chinoaz.net
END:VEVENT
BEGIN:VEVENT
DTSTART;TZID=America/Los_Angeles:20260526T140000
DTEND;TZID=America/Los_Angeles:20260526T150000
DTSTAMP:20260422T195829
CREATED:20260422T222318Z
LAST-MODIFIED:20260422T222318Z
UID:10005856-1779804000-1779807600@callchinovalleyhome.com
SUMMARY:Falls Prevention Class
DESCRIPTION:Stay Steady\, Stay Safe! Did you know that falls are a leading cause of injury for older adults? But they are NOT an inevitable part of aging!Join the us for a FREE Falls Prevention Class! Come learn practical tips and strategies to reduce your risk and maintain your independence. WHEN: Tuesday\, May 26th TIME: 2:00 pm WHERE: Chino Valley Senior Center (1021 W Butterfield Rd.)Don’t miss this opportunity to take charge of your health and safety!QUESTIONS or would like to REGISTER?Contact Recreation at  928-636-9780  Email: recreation@chinoaz.net
URL:https://callchinovalleyhome.com/event/falls-prevention-class/
ATTACH;FMTTYPE=image/webp:https://callchinovalleyhome.com/wp-content/uploads/2026/04/Chino-Valley-Fall-Prevention.webp
END:VEVENT
BEGIN:VEVENT
DTSTART;TZID=America/Los_Angeles:20260526T150000
DTEND;TZID=America/Los_Angeles:20260526T170000
DTSTAMP:20260422T195829
CREATED:20250218T200750Z
LAST-MODIFIED:20250218T201606Z
UID:10004072-1779807600-1779814800@callchinovalleyhome.com
SUMMARY:Lego Club
DESCRIPTION:Come afterschool to build something fun! Great for Elementary and Middle School ages. (If you child is under 5yrs\, please supervise them). \nDrop in\, drop out. Ok to arrive late or leave early.
URL:https://callchinovalleyhome.com/event/lego-club-5-2-2/2026-05-26/
LOCATION:Chino Valley Public Library\, 1020 W Palomino Rd Chino Valley\, AZ 86323\, Chino Valley\, AZ\, 86323\, United States
ATTACH;FMTTYPE=image/webp:https://callchinovalleyhome.com/wp-content/uploads/2024/06/Chino-Valley-Library-Lego-Event.webp
ORGANIZER;CN="Rebecca Laurence":MAILTO:rlaurence@chinoaz.net
END:VEVENT
END:VCALENDAR