BEGIN:VCALENDAR
VERSION:2.0
PRODID:-//Call Chino Valley Home - ECPv6.15.20//NONSGML v1.0//EN
CALSCALE:GREGORIAN
METHOD:PUBLISH
X-WR-CALNAME:Call Chino Valley Home
X-ORIGINAL-URL:https://callchinovalleyhome.com
X-WR-CALDESC:Events for Call Chino Valley Home
REFRESH-INTERVAL;VALUE=DURATION:PT1H
X-Robots-Tag:noindex
X-PUBLISHED-TTL:PT1H
BEGIN:VTIMEZONE
TZID:America/Los_Angeles
BEGIN:DAYLIGHT
TZOFFSETFROM:-0800
TZOFFSETTO:-0700
TZNAME:PDT
DTSTART:20240310T100000
END:DAYLIGHT
BEGIN:STANDARD
TZOFFSETFROM:-0700
TZOFFSETTO:-0800
TZNAME:PST
DTSTART:20241103T090000
END:STANDARD
BEGIN:DAYLIGHT
TZOFFSETFROM:-0800
TZOFFSETTO:-0700
TZNAME:PDT
DTSTART:20250309T100000
END:DAYLIGHT
BEGIN:STANDARD
TZOFFSETFROM:-0700
TZOFFSETTO:-0800
TZNAME:PST
DTSTART:20251102T090000
END:STANDARD
BEGIN:DAYLIGHT
TZOFFSETFROM:-0800
TZOFFSETTO:-0700
TZNAME:PDT
DTSTART:20260308T100000
END:DAYLIGHT
BEGIN:STANDARD
TZOFFSETFROM:-0700
TZOFFSETTO:-0800
TZNAME:PST
DTSTART:20261101T090000
END:STANDARD
END:VTIMEZONE
BEGIN:VEVENT
DTSTART;TZID=America/Los_Angeles:20250530T160000
DTEND;TZID=America/Los_Angeles:20250530T210000
DTSTAMP:20260419T171654
CREATED:20241230T200349Z
LAST-MODIFIED:20241230T200349Z
UID:10004753-1748620800-1748638800@callchinovalleyhome.com
SUMMARY:Olsen's Events Mounted Shooting Practice
DESCRIPTION:Every Friday! \nWinter Hours Vary\, Call for Start Time \n$20/person \nBeginners Welcome
URL:https://callchinovalleyhome.com/event/olsens-events-mounted-shooting-practice-2/2025-05-30/
LOCATION:Olsen’s Events\, 344 S Hwy 89 Chino Valley\, AZ\, 86323\, Chino Valley\, AZ\, 86323\, United States
ATTACH;FMTTYPE=image/png:https://callchinovalleyhome.com/wp-content/uploads/2024/12/Winter-Mounted-Shooting-Practice.png
END:VEVENT
BEGIN:VEVENT
DTSTART;TZID=America/Los_Angeles:20250530T150000
DTEND;TZID=America/Los_Angeles:20250530T164500
DTSTAMP:20260419T171654
CREATED:20250507T214346Z
LAST-MODIFIED:20250507T214346Z
UID:10005412-1748617200-1748623500@callchinovalleyhome.com
SUMMARY:Wild Robot Movie
DESCRIPTION:Watch the animated movie based on the popular book series! PG\, all ages welcome\, free popcorn provided.
URL:https://callchinovalleyhome.com/event/wild-robot-movie/
LOCATION:Chino Valley Public Library\, 1020 W Palomino Rd Chino Valley\, AZ 86323\, Chino Valley\, AZ\, 86323\, United States
ATTACH;FMTTYPE=image/webp:https://callchinovalleyhome.com/wp-content/uploads/2025/05/Chino-Valley-Library-Wild-Robot.webp
ORGANIZER;CN="Rebecca Laurence":MAILTO:rlaurence@chinoaz.net
END:VEVENT
BEGIN:VEVENT
DTSTART;TZID=America/Los_Angeles:20250530T100000
DTEND;TZID=America/Los_Angeles:20250530T110000
DTSTAMP:20260419T171654
CREATED:20250218T195126Z
LAST-MODIFIED:20250218T195127Z
UID:10005156-1748599200-1748602800@callchinovalleyhome.com
SUMMARY:Chino Valley Library Weekly Storytimes
DESCRIPTION:Themed stories\, songs\, games\, snack (and craft for big kids) each week \nIndoors \nTuesdays and Fridays 10am (0-3 yrs) \nTuesdays and Fridays 10:30am (3-8yrs)
URL:https://callchinovalleyhome.com/event/chino-valley-library-weekly-storytimes-6-2/2025-05-30/
LOCATION:Chino Valley Public Library\, 1020 W Palomino Rd Chino Valley\, AZ 86323\, Chino Valley\, AZ\, 86323\, United States
ATTACH;FMTTYPE=image/webp:https://callchinovalleyhome.com/wp-content/uploads/2024/07/Chino-Valley-Local-Author-Storytime.webp
ORGANIZER;CN="Rebecca Laurence":MAILTO:rlaurence@chinoaz.net
END:VEVENT
BEGIN:VEVENT
DTSTART;TZID=America/Los_Angeles:20250530T090000
DTEND;TZID=America/Los_Angeles:20250530T160000
DTSTAMP:20260419T171654
CREATED:20250422T204323Z
LAST-MODIFIED:20250507T210101Z
UID:10005359-1748595600-1748620800@callchinovalleyhome.com
SUMMARY:Olsen's Events Horse Trainer Challenge
DESCRIPTION:All proceeds support this program which helps places horses in their loving forever homes. \nSign-Ups and Payments taken by Shyan Ingrao: 928-202-2003 \nQuestions call Wendy: 928-607-6605
URL:https://callchinovalleyhome.com/event/olsens-events-horse-trainer-challenge/2025-05-30/
LOCATION:Olsen’s Events\, 344 S Hwy 89 Chino Valley\, AZ\, 86323\, Chino Valley\, AZ\, 86323\, United States
ATTACH;FMTTYPE=image/webp:https://callchinovalleyhome.com/wp-content/uploads/2025/04/Horse-Trainer-Challenge.webp
END:VEVENT
BEGIN:VEVENT
DTSTART;TZID=America/Los_Angeles:20250529T160000
DTEND;TZID=America/Los_Angeles:20250529T200000
DTSTAMP:20260419T171654
CREATED:20250422T211736Z
LAST-MODIFIED:20250507T204318Z
UID:10005355-1748534400-1748548800@callchinovalleyhome.com
SUMMARY:Olsen's Events | Summer Series
DESCRIPTION:Time Onlys form 4:00p-5:30p | Run at 6:00pm \n\nSeries 1 – must attend 3 out of 4 for awards – April 4\, 10\, 17\, 24\nSeries 2 – must attend 3 out of 4 for awards – May 1\, 15\, 22\, 29\nSeries 3 – must attend 3 out of 4 for awards  – June 6\, 13\, 20\, 27\nSeries 4 – must attend 4 out of 5 for awards – July 3\, 11\, 17\, 24\, 31\nSeries 5 – must attend 5 out of 6 for awards – Aug 14\, 21\, Sep 4\, 11\, 18\, 25\n\nOrder of events \n\nPeewee Poles\nOpen Poles\nPeeWee Barrels\nCombined Draw Open Barrels
URL:https://callchinovalleyhome.com/event/olsens-events-summer-series-2/2025-05-29/
LOCATION:Olsen’s Events\, 344 S Hwy 89 Chino Valley\, AZ\, 86323\, Chino Valley\, AZ\, 86323\, United States
ATTACH;FMTTYPE=image/webp:https://callchinovalleyhome.com/wp-content/uploads/2025/04/Olsens-Events-Summer-Series.webp
END:VEVENT
BEGIN:VEVENT
DTSTART;TZID=America/Los_Angeles:20250527T150000
DTEND;TZID=America/Los_Angeles:20250527T170000
DTSTAMP:20260419T171654
CREATED:20250218T200750Z
LAST-MODIFIED:20250218T201606Z
UID:10004020-1748358000-1748365200@callchinovalleyhome.com
SUMMARY:Lego Club
DESCRIPTION:Come afterschool to build something fun! Great for Elementary and Middle School ages. (If you child is under 5yrs\, please supervise them). \nDrop in\, drop out. Ok to arrive late or leave early.
URL:https://callchinovalleyhome.com/event/lego-club-5-2-2/2025-05-27/
LOCATION:Chino Valley Public Library\, 1020 W Palomino Rd Chino Valley\, AZ 86323\, Chino Valley\, AZ\, 86323\, United States
ATTACH;FMTTYPE=image/webp:https://callchinovalleyhome.com/wp-content/uploads/2024/06/Chino-Valley-Library-Lego-Event.webp
ORGANIZER;CN="Rebecca Laurence":MAILTO:rlaurence@chinoaz.net
END:VEVENT
BEGIN:VEVENT
DTSTART;TZID=America/Los_Angeles:20250527T110000
DTEND;TZID=America/Los_Angeles:20250527T120000
DTSTAMP:20260419T171654
CREATED:20250507T212450Z
LAST-MODIFIED:20250507T213329Z
UID:10005380-1748343600-1748347200@callchinovalleyhome.com
SUMMARY:Paws for Friendship
DESCRIPTION:Come practice your reading to a calm and friendly therapy dog team inside the Children’s section of the Library! These patient furry listeners are perfect for those developing readers. Choose a book from the library shelves or bring one from home. And don’t forget to join our Free Summer Reading Program and get prizes for reading this Summer!
URL:https://callchinovalleyhome.com/event/paws-for-friendship-6/2025-05-27/
LOCATION:Chino Valley Public Library\, 1020 W Palomino Rd Chino Valley\, AZ 86323\, Chino Valley\, AZ\, 86323\, United States
ATTACH;FMTTYPE=image/webp:https://callchinovalleyhome.com/wp-content/uploads/2024/06/Chino-Valley-Library-Paws-for-Friendship.webp
ORGANIZER;CN="Rebecca Laurence":MAILTO:rlaurence@chinoaz.net
END:VEVENT
BEGIN:VEVENT
DTSTART;TZID=America/Los_Angeles:20250527T100000
DTEND;TZID=America/Los_Angeles:20250527T110000
DTSTAMP:20260419T171654
CREATED:20250113T051254Z
LAST-MODIFIED:20250828T205255Z
UID:10005054-1748340000-1748343600@callchinovalleyhome.com
SUMMARY:Chino Valley Library Weekly Storytimes (Tuesdays)
DESCRIPTION:Stories\, songs/games\, snack (& a craft for big kids) – new theme every week! \nLots of fun for young families. \nTuesdays are inside \nFridays are outside by the gazebo (weather permitting\, until around the end of October\, then both will be inside). \n10:00 am – 0-3 years old \n10:30 am – 3-10 years old \nSometimes we have special guests come for story times – watch the calendar/flyers! \nLocation: Chino Valley Public Library at 1020 Palomino Rd\, Chino Valley\, AZ 86323
URL:https://callchinovalleyhome.com/event/chino-valley-library-weekly-storytimes-5/2025-05-27/
ATTACH;FMTTYPE=image/webp:https://callchinovalleyhome.com/wp-content/uploads/2024/07/Chino-Valley-Local-Author-Storytime.webp
ORGANIZER;CN="Rebecca Laurence":MAILTO:rlaurence@chinoaz.net
END:VEVENT
BEGIN:VEVENT
DTSTART;TZID=America/Los_Angeles:20250526T150000
DTEND;TZID=America/Los_Angeles:20250526T180000
DTSTAMP:20260419T171654
CREATED:20240510T182131Z
LAST-MODIFIED:20250113T050929Z
UID:10000394-1748271600-1748282400@callchinovalleyhome.com
SUMMARY:Chess Group
DESCRIPTION:
URL:https://callchinovalleyhome.com/event/chess-group-5/2025-05-26/
LOCATION:Chino Valley Public Library\, 1020 W Palomino Rd Chino Valley\, AZ 86323\, Chino Valley\, AZ\, 86323\, United States
ATTACH;FMTTYPE=image/jpeg:https://callchinovalleyhome.com/wp-content/uploads/2024/05/Chino-Valley-Public-Library.jpg
ORGANIZER;CN="Rebecca Laurence":MAILTO:rlaurence@chinoaz.net
END:VEVENT
BEGIN:VEVENT
DTSTART;TZID=America/Los_Angeles:20250524T090000
DTEND;TZID=America/Los_Angeles:20250524T160000
DTSTAMP:20260419T171654
CREATED:20250508T211207Z
LAST-MODIFIED:20250508T211220Z
UID:10005427-1748077200-1748102400@callchinovalleyhome.com
SUMMARY:Old Stage Stop Art and Yard Show
DESCRIPTION:Memorial Day Weekend Friday & Saturday \nMay 23rd – 24th from 9am to 4pm. \nrt and Yard Show with 45 -50 Vendors. \nThere will be unique items for everybody!
URL:https://callchinovalleyhome.com/event/old-stage-stop-art-and-yard-show/2025-05-24/
LOCATION:Old Stage Stop\, Corner of Williamson Valley Rd & Outer Loop Rd
ATTACH;FMTTYPE=image/webp:https://callchinovalleyhome.com/wp-content/uploads/2025/05/Old-Stage-Stop-Art-and-Yard-Show.webp
END:VEVENT
BEGIN:VEVENT
DTSTART;TZID=America/Los_Angeles:20250524T090000
DTEND;TZID=America/Los_Angeles:20250524T160000
DTSTAMP:20260419T171654
CREATED:20250422T043913Z
LAST-MODIFIED:20250422T043913Z
UID:10005291-1748077200-1748102400@callchinovalleyhome.com
SUMMARY:Chino Valley Old Stage Stop Art and Yard Show
DESCRIPTION:Local handcrafted items. \nMemorial Day Weekend \n 
URL:https://callchinovalleyhome.com/event/chino-valley-old-stage-stop-art-and-yard-show/2025-05-24/
LOCATION:Old Stage Stop\, Corner of Williamson Valley Rd & Outer Loop Rd
ATTACH;FMTTYPE=image/webp:https://callchinovalleyhome.com/wp-content/uploads/2025/04/Chino-Valley-Old-Stage-Stop-Art-and-Yard-Show.webp
END:VEVENT
BEGIN:VEVENT
DTSTART;TZID=America/Los_Angeles:20250523T160000
DTEND;TZID=America/Los_Angeles:20250523T210000
DTSTAMP:20260419T171654
CREATED:20241230T200349Z
LAST-MODIFIED:20241230T200349Z
UID:10004752-1748016000-1748034000@callchinovalleyhome.com
SUMMARY:Olsen's Events Mounted Shooting Practice
DESCRIPTION:Every Friday! \nWinter Hours Vary\, Call for Start Time \n$20/person \nBeginners Welcome
URL:https://callchinovalleyhome.com/event/olsens-events-mounted-shooting-practice-2/2025-05-23/
LOCATION:Olsen’s Events\, 344 S Hwy 89 Chino Valley\, AZ\, 86323\, Chino Valley\, AZ\, 86323\, United States
ATTACH;FMTTYPE=image/png:https://callchinovalleyhome.com/wp-content/uploads/2024/12/Winter-Mounted-Shooting-Practice.png
END:VEVENT
BEGIN:VEVENT
DTSTART;TZID=America/Los_Angeles:20250523T100000
DTEND;TZID=America/Los_Angeles:20250523T110000
DTSTAMP:20260419T171654
CREATED:20250218T195126Z
LAST-MODIFIED:20250218T195127Z
UID:10005155-1747994400-1747998000@callchinovalleyhome.com
SUMMARY:Chino Valley Library Weekly Storytimes
DESCRIPTION:Themed stories\, songs\, games\, snack (and craft for big kids) each week \nIndoors \nTuesdays and Fridays 10am (0-3 yrs) \nTuesdays and Fridays 10:30am (3-8yrs)
URL:https://callchinovalleyhome.com/event/chino-valley-library-weekly-storytimes-6-2/2025-05-23/
LOCATION:Chino Valley Public Library\, 1020 W Palomino Rd Chino Valley\, AZ 86323\, Chino Valley\, AZ\, 86323\, United States
ATTACH;FMTTYPE=image/webp:https://callchinovalleyhome.com/wp-content/uploads/2024/07/Chino-Valley-Local-Author-Storytime.webp
ORGANIZER;CN="Rebecca Laurence":MAILTO:rlaurence@chinoaz.net
END:VEVENT
BEGIN:VEVENT
DTSTART;TZID=America/Los_Angeles:20250523T090000
DTEND;TZID=America/Los_Angeles:20250523T160000
DTSTAMP:20260419T171654
CREATED:20250508T211207Z
LAST-MODIFIED:20250508T211220Z
UID:10005426-1747990800-1748016000@callchinovalleyhome.com
SUMMARY:Old Stage Stop Art and Yard Show
DESCRIPTION:Memorial Day Weekend Friday & Saturday \nMay 23rd – 24th from 9am to 4pm. \nrt and Yard Show with 45 -50 Vendors. \nThere will be unique items for everybody!
URL:https://callchinovalleyhome.com/event/old-stage-stop-art-and-yard-show/2025-05-23/
LOCATION:Old Stage Stop\, Corner of Williamson Valley Rd & Outer Loop Rd
ATTACH;FMTTYPE=image/webp:https://callchinovalleyhome.com/wp-content/uploads/2025/05/Old-Stage-Stop-Art-and-Yard-Show.webp
END:VEVENT
BEGIN:VEVENT
DTSTART;TZID=America/Los_Angeles:20250523T090000
DTEND;TZID=America/Los_Angeles:20250523T160000
DTSTAMP:20260419T171654
CREATED:20250422T043913Z
LAST-MODIFIED:20250422T043913Z
UID:10005290-1747990800-1748016000@callchinovalleyhome.com
SUMMARY:Chino Valley Old Stage Stop Art and Yard Show
DESCRIPTION:Local handcrafted items. \nMemorial Day Weekend \n 
URL:https://callchinovalleyhome.com/event/chino-valley-old-stage-stop-art-and-yard-show/2025-05-23/
LOCATION:Old Stage Stop\, Corner of Williamson Valley Rd & Outer Loop Rd
ATTACH;FMTTYPE=image/webp:https://callchinovalleyhome.com/wp-content/uploads/2025/04/Chino-Valley-Old-Stage-Stop-Art-and-Yard-Show.webp
END:VEVENT
BEGIN:VEVENT
DTSTART;TZID=America/Los_Angeles:20250522T160000
DTEND;TZID=America/Los_Angeles:20250522T200000
DTSTAMP:20260419T171654
CREATED:20250422T211736Z
LAST-MODIFIED:20250507T204318Z
UID:10005338-1747929600-1747944000@callchinovalleyhome.com
SUMMARY:Olsen's Events | Summer Series
DESCRIPTION:Time Onlys form 4:00p-5:30p | Run at 6:00pm \n\nSeries 1 – must attend 3 out of 4 for awards – April 4\, 10\, 17\, 24\nSeries 2 – must attend 3 out of 4 for awards – May 1\, 15\, 22\, 29\nSeries 3 – must attend 3 out of 4 for awards  – June 6\, 13\, 20\, 27\nSeries 4 – must attend 4 out of 5 for awards – July 3\, 11\, 17\, 24\, 31\nSeries 5 – must attend 5 out of 6 for awards – Aug 14\, 21\, Sep 4\, 11\, 18\, 25\n\nOrder of events \n\nPeewee Poles\nOpen Poles\nPeeWee Barrels\nCombined Draw Open Barrels
URL:https://callchinovalleyhome.com/event/olsens-events-summer-series-2/2025-05-22/
LOCATION:Olsen’s Events\, 344 S Hwy 89 Chino Valley\, AZ\, 86323\, Chino Valley\, AZ\, 86323\, United States
ATTACH;FMTTYPE=image/webp:https://callchinovalleyhome.com/wp-content/uploads/2025/04/Olsens-Events-Summer-Series.webp
END:VEVENT
BEGIN:VEVENT
DTSTART;TZID=America/Los_Angeles:20250520T150000
DTEND;TZID=America/Los_Angeles:20250520T170000
DTSTAMP:20260419T171654
CREATED:20250218T200750Z
LAST-MODIFIED:20250218T201606Z
UID:10004019-1747753200-1747760400@callchinovalleyhome.com
SUMMARY:Lego Club
DESCRIPTION:Come afterschool to build something fun! Great for Elementary and Middle School ages. (If you child is under 5yrs\, please supervise them). \nDrop in\, drop out. Ok to arrive late or leave early.
URL:https://callchinovalleyhome.com/event/lego-club-5-2-2/2025-05-20/
LOCATION:Chino Valley Public Library\, 1020 W Palomino Rd Chino Valley\, AZ 86323\, Chino Valley\, AZ\, 86323\, United States
ATTACH;FMTTYPE=image/webp:https://callchinovalleyhome.com/wp-content/uploads/2024/06/Chino-Valley-Library-Lego-Event.webp
ORGANIZER;CN="Rebecca Laurence":MAILTO:rlaurence@chinoaz.net
END:VEVENT
BEGIN:VEVENT
DTSTART;TZID=America/Los_Angeles:20250520T130000
DTEND;TZID=America/Los_Angeles:20250520T140000
DTSTAMP:20260419T171654
CREATED:20250204T060507Z
LAST-MODIFIED:20251030T210730Z
UID:10005232-1747746000-1747749600@callchinovalleyhome.com
SUMMARY:Master Gardener Presentation
DESCRIPTION:University of Arizona Cooperative Extension presents free Master Gardener talks every month on the 3rd Tuesday at 1pm (except the month of December). Each month has a new topic or theme and is open to all. Come join us and learn more about gardening\, yard care\, nature\, yard wildlife\, plants\, growing and more!
URL:https://callchinovalleyhome.com/event/master-gardener-presentation-2-2/2025-05-20/
LOCATION:Chino Valley Public Library\, 1020 W Palomino Rd Chino Valley\, AZ 86323\, Chino Valley\, AZ\, 86323\, United States
ATTACH;FMTTYPE=image/webp:https://callchinovalleyhome.com/wp-content/uploads/2024/07/Chino-Valley-Master-Gardener.webp
ORGANIZER;CN="University of AZ Cooperative Extension":MAILTO:YCMGspeakersbureau@gmail.com
END:VEVENT
BEGIN:VEVENT
DTSTART;TZID=America/Los_Angeles:20250520T110000
DTEND;TZID=America/Los_Angeles:20250520T120000
DTSTAMP:20260419T171654
CREATED:20250507T212450Z
LAST-MODIFIED:20250507T213329Z
UID:10005379-1747738800-1747742400@callchinovalleyhome.com
SUMMARY:Paws for Friendship
DESCRIPTION:Come practice your reading to a calm and friendly therapy dog team inside the Children’s section of the Library! These patient furry listeners are perfect for those developing readers. Choose a book from the library shelves or bring one from home. And don’t forget to join our Free Summer Reading Program and get prizes for reading this Summer!
URL:https://callchinovalleyhome.com/event/paws-for-friendship-6/2025-05-20/
LOCATION:Chino Valley Public Library\, 1020 W Palomino Rd Chino Valley\, AZ 86323\, Chino Valley\, AZ\, 86323\, United States
ATTACH;FMTTYPE=image/webp:https://callchinovalleyhome.com/wp-content/uploads/2024/06/Chino-Valley-Library-Paws-for-Friendship.webp
ORGANIZER;CN="Rebecca Laurence":MAILTO:rlaurence@chinoaz.net
END:VEVENT
BEGIN:VEVENT
DTSTART;TZID=America/Los_Angeles:20250520T100000
DTEND;TZID=America/Los_Angeles:20250520T110000
DTSTAMP:20260419T171654
CREATED:20250113T051254Z
LAST-MODIFIED:20250828T205255Z
UID:10005053-1747735200-1747738800@callchinovalleyhome.com
SUMMARY:Chino Valley Library Weekly Storytimes (Tuesdays)
DESCRIPTION:Stories\, songs/games\, snack (& a craft for big kids) – new theme every week! \nLots of fun for young families. \nTuesdays are inside \nFridays are outside by the gazebo (weather permitting\, until around the end of October\, then both will be inside). \n10:00 am – 0-3 years old \n10:30 am – 3-10 years old \nSometimes we have special guests come for story times – watch the calendar/flyers! \nLocation: Chino Valley Public Library at 1020 Palomino Rd\, Chino Valley\, AZ 86323
URL:https://callchinovalleyhome.com/event/chino-valley-library-weekly-storytimes-5/2025-05-20/
ATTACH;FMTTYPE=image/webp:https://callchinovalleyhome.com/wp-content/uploads/2024/07/Chino-Valley-Local-Author-Storytime.webp
ORGANIZER;CN="Rebecca Laurence":MAILTO:rlaurence@chinoaz.net
END:VEVENT
BEGIN:VEVENT
DTSTART;TZID=America/Los_Angeles:20250519T150000
DTEND;TZID=America/Los_Angeles:20250519T180000
DTSTAMP:20260419T171654
CREATED:20240510T182131Z
LAST-MODIFIED:20250113T050929Z
UID:10000393-1747666800-1747677600@callchinovalleyhome.com
SUMMARY:Chess Group
DESCRIPTION:
URL:https://callchinovalleyhome.com/event/chess-group-5/2025-05-19/
LOCATION:Chino Valley Public Library\, 1020 W Palomino Rd Chino Valley\, AZ 86323\, Chino Valley\, AZ\, 86323\, United States
ATTACH;FMTTYPE=image/jpeg:https://callchinovalleyhome.com/wp-content/uploads/2024/05/Chino-Valley-Public-Library.jpg
ORGANIZER;CN="Rebecca Laurence":MAILTO:rlaurence@chinoaz.net
END:VEVENT
BEGIN:VEVENT
DTSTART;TZID=America/Los_Angeles:20250518T130000
DTEND;TZID=America/Los_Angeles:20250518T170000
DTSTAMP:20260419T171654
CREATED:20250422T052153Z
LAST-MODIFIED:20250422T052153Z
UID:10005303-1747573200-1747587600@callchinovalleyhome.com
SUMMARY:2025 High Point Saddle & Buckle Series
DESCRIPTION:Saddles to High Point in Each Division of the Open 4D! \nBuckles and other great prizes! \nOrder of Events/Fees – 70% Payback \n\nPeewee Poles\n3D Open Poles\nPeewee Barrels\nPeewee Goat Tying\n3D Goat Tying\nPee wee Dummy Breakaway\n3D Dummy Breakaway\nOpen 4D Barrels\nYouth 4D Barrels\nNovice Target Barrels\nGreen Horse 4D Barrels
URL:https://callchinovalleyhome.com/event/2025-high-point-saddle-buckle-series/2025-05-18/
LOCATION:Olsen’s Events\, 344 S Hwy 89 Chino Valley\, AZ\, 86323\, Chino Valley\, AZ\, 86323\, United States
ATTACH;FMTTYPE=image/webp:https://callchinovalleyhome.com/wp-content/uploads/2025/04/2025-High-Point-Saddle-Buckle-Series.webp
END:VEVENT
BEGIN:VEVENT
DTSTART;TZID=America/Los_Angeles:20250517T080000
DTEND;TZID=America/Los_Angeles:20250517T130000
DTSTAMP:20260419T171654
CREATED:20250317T232131Z
LAST-MODIFIED:20250317T232131Z
UID:10005283-1747468800-1747486800@callchinovalleyhome.com
SUMMARY:13th Annual Bob Kaecker Memorial Golf Tournament
DESCRIPTION:Please join us for our 13th Annual Bob Kaecker Memorial Golf Tournament! \nIt’s time to grab your clubs\, gather your team and join us for a day of fun on the fairways! \nThis event isn’t just about golfing – It’s about making a positive imact in our community and driving business in Chino Valley! \nEntrance fee includes: Breakfast\, 18 holes\, range balls\, lunch\, bountiful swag bags and a ton of fun! \nALL PROCEEDS GO DIRECTLY TO OUR CHINO VALLEY HIGH SCHOOL SCHOLARSHIP FUND. IN 2024\, WE WERE ABLE TO PROVIDE SIX COLLEGE BOUND STUDENTS WITH DIRECT PAYMENTS TOWARDS THEIR TUITION EXPENSES. ALL OF OUR 2024 C.V.H.S. SCHOLARSHIP WINNERS HAD A GPA OVER 4.2! \nCash prizes for men’s & women’s teams\, mixed teams & just for fun \nRaffles Prizes – 50/50 – Mulligans (We know you want them) \n  \nCheck in & breakfast at 8:00\nshotgun start at 9:00 am\nLunch at 1:00 pm
URL:https://callchinovalleyhome.com/event/13th-annual-bob-kaecker-memorial-golf-tournament/
LOCATION:Antelope Hills Golf Course\, Antelope Hills Golf Course 1 Perkins Drive Prescott\, AZ 86301\, Prescott\, AZ\, 86301\, United States
ATTACH;FMTTYPE=image/webp:https://callchinovalleyhome.com/wp-content/uploads/2025/03/Chino-Valley-13th-Annual-Bob-Kaecker-Memorial-Golf-Tournament.webp
ORGANIZER;CN="Annie Perkins":MAILTO:director@chinovalley.org
END:VEVENT
BEGIN:VEVENT
DTSTART;VALUE=DATE:20250517
DTEND;VALUE=DATE:20250519
DTSTAMP:20260419T171654
CREATED:20250422T045842Z
LAST-MODIFIED:20250422T045842Z
UID:10005292-1747440000-1747612799@callchinovalleyhome.com
SUMMARY:Sunset Ranch Obstacle Challenges
DESCRIPTION:Sunset Ranch Obstacle Challenge – 2025 Buckle Series! \nCome show off what you’ve been working on while building your horse’s confidence each and every competition \n\nMounted and In-Hand divisions\nFour levels of difficulty\nPrecision – Freestyle – Speed – Liberty\n\nAmateurs\, youth\, green horses\, competition jitters – all are welcome! \nCVEP Dates \n\nMay 17-18\nJune 21-22\nSeptember 27/28\nOctober 11/12\n\nMore information and online registration at https://sunsetranch.us
URL:https://callchinovalleyhome.com/event/sunset-ranch-obstacle-challenges/
LOCATION:Chino Valley Equestrian Park\, 2280 Equestrain Way\, Chino Valley\, AZ 86232\, Chino Valley\, AZ\, 86232\, United States
ATTACH;FMTTYPE=image/webp:https://callchinovalleyhome.com/wp-content/uploads/2024/11/Sunset-Ranch-Obstacle-Challenge-Weekend.webp
ORGANIZER;CN="Megan Bennett":MAILTO:megan@sunsetranch.us
END:VEVENT
BEGIN:VEVENT
DTSTART;TZID=America/Los_Angeles:20250516T160000
DTEND;TZID=America/Los_Angeles:20250516T210000
DTSTAMP:20260419T171654
CREATED:20241230T200349Z
LAST-MODIFIED:20241230T200349Z
UID:10004751-1747411200-1747429200@callchinovalleyhome.com
SUMMARY:Olsen's Events Mounted Shooting Practice
DESCRIPTION:Every Friday! \nWinter Hours Vary\, Call for Start Time \n$20/person \nBeginners Welcome
URL:https://callchinovalleyhome.com/event/olsens-events-mounted-shooting-practice-2/2025-05-16/
LOCATION:Olsen’s Events\, 344 S Hwy 89 Chino Valley\, AZ\, 86323\, Chino Valley\, AZ\, 86323\, United States
ATTACH;FMTTYPE=image/png:https://callchinovalleyhome.com/wp-content/uploads/2024/12/Winter-Mounted-Shooting-Practice.png
END:VEVENT
BEGIN:VEVENT
DTSTART;TZID=America/Los_Angeles:20250516T130000
DTEND;TZID=America/Los_Angeles:20250516T140000
DTSTAMP:20260419T171654
CREATED:20250507T213157Z
LAST-MODIFIED:20250507T213157Z
UID:10005378-1747400400-1747404000@callchinovalleyhome.com
SUMMARY:Learn About Beekeeping
DESCRIPTION:Join Sandra Schilling of Prescott Bee Club to learn about the fascinating world of bees and beekeeping! Free\, all ages welcome\, door prize.
URL:https://callchinovalleyhome.com/event/learn-about-beekeeping/
LOCATION:Chino Valley Public Library\, 1020 W Palomino Rd Chino Valley\, AZ 86323\, Chino Valley\, AZ\, 86323\, United States
ATTACH;FMTTYPE=image/webp:https://callchinovalleyhome.com/wp-content/uploads/2025/05/Chino-Valley-Library-Bee-Keeping.webp
ORGANIZER;CN="Rebecca Laurence":MAILTO:rlaurence@chinoaz.net
END:VEVENT
BEGIN:VEVENT
DTSTART;TZID=America/Los_Angeles:20250516T100000
DTEND;TZID=America/Los_Angeles:20250516T110000
DTSTAMP:20260419T171654
CREATED:20250218T195126Z
LAST-MODIFIED:20250218T195127Z
UID:10005154-1747389600-1747393200@callchinovalleyhome.com
SUMMARY:Chino Valley Library Weekly Storytimes
DESCRIPTION:Themed stories\, songs\, games\, snack (and craft for big kids) each week \nIndoors \nTuesdays and Fridays 10am (0-3 yrs) \nTuesdays and Fridays 10:30am (3-8yrs)
URL:https://callchinovalleyhome.com/event/chino-valley-library-weekly-storytimes-6-2/2025-05-16/
LOCATION:Chino Valley Public Library\, 1020 W Palomino Rd Chino Valley\, AZ 86323\, Chino Valley\, AZ\, 86323\, United States
ATTACH;FMTTYPE=image/webp:https://callchinovalleyhome.com/wp-content/uploads/2024/07/Chino-Valley-Local-Author-Storytime.webp
ORGANIZER;CN="Rebecca Laurence":MAILTO:rlaurence@chinoaz.net
END:VEVENT
BEGIN:VEVENT
DTSTART;TZID=America/Los_Angeles:20250515T160000
DTEND;TZID=America/Los_Angeles:20250515T200000
DTSTAMP:20260419T171654
CREATED:20250422T211736Z
LAST-MODIFIED:20250507T204318Z
UID:10005337-1747324800-1747339200@callchinovalleyhome.com
SUMMARY:Olsen's Events | Summer Series
DESCRIPTION:Time Onlys form 4:00p-5:30p | Run at 6:00pm \n\nSeries 1 – must attend 3 out of 4 for awards – April 4\, 10\, 17\, 24\nSeries 2 – must attend 3 out of 4 for awards – May 1\, 15\, 22\, 29\nSeries 3 – must attend 3 out of 4 for awards  – June 6\, 13\, 20\, 27\nSeries 4 – must attend 4 out of 5 for awards – July 3\, 11\, 17\, 24\, 31\nSeries 5 – must attend 5 out of 6 for awards – Aug 14\, 21\, Sep 4\, 11\, 18\, 25\n\nOrder of events \n\nPeewee Poles\nOpen Poles\nPeeWee Barrels\nCombined Draw Open Barrels
URL:https://callchinovalleyhome.com/event/olsens-events-summer-series-2/2025-05-15/
LOCATION:Olsen’s Events\, 344 S Hwy 89 Chino Valley\, AZ\, 86323\, Chino Valley\, AZ\, 86323\, United States
ATTACH;FMTTYPE=image/webp:https://callchinovalleyhome.com/wp-content/uploads/2025/04/Olsens-Events-Summer-Series.webp
END:VEVENT
BEGIN:VEVENT
DTSTART;TZID=America/Los_Angeles:20250513T150000
DTEND;TZID=America/Los_Angeles:20250513T170000
DTSTAMP:20260419T171654
CREATED:20250218T200750Z
LAST-MODIFIED:20250218T201606Z
UID:10004018-1747148400-1747155600@callchinovalleyhome.com
SUMMARY:Lego Club
DESCRIPTION:Come afterschool to build something fun! Great for Elementary and Middle School ages. (If you child is under 5yrs\, please supervise them). \nDrop in\, drop out. Ok to arrive late or leave early.
URL:https://callchinovalleyhome.com/event/lego-club-5-2-2/2025-05-13/
LOCATION:Chino Valley Public Library\, 1020 W Palomino Rd Chino Valley\, AZ 86323\, Chino Valley\, AZ\, 86323\, United States
ATTACH;FMTTYPE=image/webp:https://callchinovalleyhome.com/wp-content/uploads/2024/06/Chino-Valley-Library-Lego-Event.webp
ORGANIZER;CN="Rebecca Laurence":MAILTO:rlaurence@chinoaz.net
END:VEVENT
BEGIN:VEVENT
DTSTART;TZID=America/Los_Angeles:20250513T110000
DTEND;TZID=America/Los_Angeles:20250513T120000
DTSTAMP:20260419T171654
CREATED:20250507T212450Z
LAST-MODIFIED:20250507T213329Z
UID:10005375-1747134000-1747137600@callchinovalleyhome.com
SUMMARY:Paws for Friendship
DESCRIPTION:Come practice your reading to a calm and friendly therapy dog team inside the Children’s section of the Library! These patient furry listeners are perfect for those developing readers. Choose a book from the library shelves or bring one from home. And don’t forget to join our Free Summer Reading Program and get prizes for reading this Summer!
URL:https://callchinovalleyhome.com/event/paws-for-friendship-6/2025-05-13/
LOCATION:Chino Valley Public Library\, 1020 W Palomino Rd Chino Valley\, AZ 86323\, Chino Valley\, AZ\, 86323\, United States
ATTACH;FMTTYPE=image/webp:https://callchinovalleyhome.com/wp-content/uploads/2024/06/Chino-Valley-Library-Paws-for-Friendship.webp
ORGANIZER;CN="Rebecca Laurence":MAILTO:rlaurence@chinoaz.net
END:VEVENT
END:VCALENDAR