BEGIN:VCALENDAR
VERSION:2.0
PRODID:-//Call Chino Valley Home - ECPv6.15.20//NONSGML v1.0//EN
CALSCALE:GREGORIAN
METHOD:PUBLISH
X-ORIGINAL-URL:https://callchinovalleyhome.com
X-WR-CALDESC:Events for Call Chino Valley Home
REFRESH-INTERVAL;VALUE=DURATION:PT1H
X-Robots-Tag:noindex
X-PUBLISHED-TTL:PT1H
BEGIN:VTIMEZONE
TZID:America/Los_Angeles
BEGIN:DAYLIGHT
TZOFFSETFROM:-0800
TZOFFSETTO:-0700
TZNAME:PDT
DTSTART:20240310T100000
END:DAYLIGHT
BEGIN:STANDARD
TZOFFSETFROM:-0700
TZOFFSETTO:-0800
TZNAME:PST
DTSTART:20241103T090000
END:STANDARD
BEGIN:DAYLIGHT
TZOFFSETFROM:-0800
TZOFFSETTO:-0700
TZNAME:PDT
DTSTART:20250309T100000
END:DAYLIGHT
BEGIN:STANDARD
TZOFFSETFROM:-0700
TZOFFSETTO:-0800
TZNAME:PST
DTSTART:20251102T090000
END:STANDARD
BEGIN:DAYLIGHT
TZOFFSETFROM:-0800
TZOFFSETTO:-0700
TZNAME:PDT
DTSTART:20260308T100000
END:DAYLIGHT
BEGIN:STANDARD
TZOFFSETFROM:-0700
TZOFFSETTO:-0800
TZNAME:PST
DTSTART:20261101T090000
END:STANDARD
END:VTIMEZONE
BEGIN:VEVENT
DTSTART;TZID=America/Los_Angeles:20250414T150000
DTEND;TZID=America/Los_Angeles:20250414T180000
DTSTAMP:20260425T094500
CREATED:20240510T182131Z
LAST-MODIFIED:20250113T050929Z
UID:10000388-1744642800-1744653600@callchinovalleyhome.com
SUMMARY:Chess Group
DESCRIPTION:
URL:https://callchinovalleyhome.com/event/chess-group-5/2025-04-14/
LOCATION:Chino Valley Public Library\, 1020 W Palomino Rd Chino Valley\, AZ 86323\, Chino Valley\, AZ\, 86323\, United States
ATTACH;FMTTYPE=image/jpeg:https://callchinovalleyhome.com/wp-content/uploads/2024/05/Chino-Valley-Public-Library.jpg
ORGANIZER;CN="Rebecca Laurence":MAILTO:rlaurence@chinoaz.net
END:VEVENT
BEGIN:VEVENT
DTSTART;TZID=America/Los_Angeles:20250415T100000
DTEND;TZID=America/Los_Angeles:20250415T110000
DTSTAMP:20260425T094500
CREATED:20250113T051254Z
LAST-MODIFIED:20250828T205255Z
UID:10005048-1744711200-1744714800@callchinovalleyhome.com
SUMMARY:Chino Valley Library Weekly Storytimes (Tuesdays)
DESCRIPTION:Stories\, songs/games\, snack (& a craft for big kids) – new theme every week! \nLots of fun for young families. \nTuesdays are inside \nFridays are outside by the gazebo (weather permitting\, until around the end of October\, then both will be inside). \n10:00 am – 0-3 years old \n10:30 am – 3-10 years old \nSometimes we have special guests come for story times – watch the calendar/flyers! \nLocation: Chino Valley Public Library at 1020 Palomino Rd\, Chino Valley\, AZ 86323
URL:https://callchinovalleyhome.com/event/chino-valley-library-weekly-storytimes-5/2025-04-15/
ATTACH;FMTTYPE=image/webp:https://callchinovalleyhome.com/wp-content/uploads/2024/07/Chino-Valley-Local-Author-Storytime.webp
ORGANIZER;CN="Rebecca Laurence":MAILTO:rlaurence@chinoaz.net
END:VEVENT
BEGIN:VEVENT
DTSTART;TZID=America/Los_Angeles:20250415T130000
DTEND;TZID=America/Los_Angeles:20250415T140000
DTSTAMP:20260425T094500
CREATED:20250204T060507Z
LAST-MODIFIED:20251030T210730Z
UID:10005231-1744722000-1744725600@callchinovalleyhome.com
SUMMARY:Master Gardener Presentation
DESCRIPTION:University of Arizona Cooperative Extension presents free Master Gardener talks every month on the 3rd Tuesday at 1pm (except the month of December). Each month has a new topic or theme and is open to all. Come join us and learn more about gardening\, yard care\, nature\, yard wildlife\, plants\, growing and more!
URL:https://callchinovalleyhome.com/event/master-gardener-presentation-2-2/2025-04-15/
LOCATION:Chino Valley Public Library\, 1020 W Palomino Rd Chino Valley\, AZ 86323\, Chino Valley\, AZ\, 86323\, United States
ATTACH;FMTTYPE=image/webp:https://callchinovalleyhome.com/wp-content/uploads/2024/07/Chino-Valley-Master-Gardener.webp
ORGANIZER;CN="University of AZ Cooperative Extension":MAILTO:YCMGspeakersbureau@gmail.com
END:VEVENT
BEGIN:VEVENT
DTSTART;TZID=America/Los_Angeles:20250415T150000
DTEND;TZID=America/Los_Angeles:20250415T170000
DTSTAMP:20260425T094500
CREATED:20250218T200750Z
LAST-MODIFIED:20250218T201606Z
UID:10004014-1744729200-1744736400@callchinovalleyhome.com
SUMMARY:Lego Club
DESCRIPTION:Come afterschool to build something fun! Great for Elementary and Middle School ages. (If you child is under 5yrs\, please supervise them). \nDrop in\, drop out. Ok to arrive late or leave early.
URL:https://callchinovalleyhome.com/event/lego-club-5-2-2/2025-04-15/
LOCATION:Chino Valley Public Library\, 1020 W Palomino Rd Chino Valley\, AZ 86323\, Chino Valley\, AZ\, 86323\, United States
ATTACH;FMTTYPE=image/webp:https://callchinovalleyhome.com/wp-content/uploads/2024/06/Chino-Valley-Library-Lego-Event.webp
ORGANIZER;CN="Rebecca Laurence":MAILTO:rlaurence@chinoaz.net
END:VEVENT
BEGIN:VEVENT
DTSTART;TZID=America/Los_Angeles:20250417T160000
DTEND;TZID=America/Los_Angeles:20250417T200000
DTSTAMP:20260425T094500
CREATED:20250422T211736Z
LAST-MODIFIED:20250507T204318Z
UID:10005333-1744905600-1744920000@callchinovalleyhome.com
SUMMARY:Olsen's Events | Summer Series
DESCRIPTION:Time Onlys form 4:00p-5:30p | Run at 6:00pm \n\nSeries 1 – must attend 3 out of 4 for awards – April 4\, 10\, 17\, 24\nSeries 2 – must attend 3 out of 4 for awards – May 1\, 15\, 22\, 29\nSeries 3 – must attend 3 out of 4 for awards  – June 6\, 13\, 20\, 27\nSeries 4 – must attend 4 out of 5 for awards – July 3\, 11\, 17\, 24\, 31\nSeries 5 – must attend 5 out of 6 for awards – Aug 14\, 21\, Sep 4\, 11\, 18\, 25\n\nOrder of events \n\nPeewee Poles\nOpen Poles\nPeeWee Barrels\nCombined Draw Open Barrels
URL:https://callchinovalleyhome.com/event/olsens-events-summer-series-2/2025-04-17/
LOCATION:Olsen’s Events\, 344 S Hwy 89 Chino Valley\, AZ\, 86323\, Chino Valley\, AZ\, 86323\, United States
ATTACH;FMTTYPE=image/webp:https://callchinovalleyhome.com/wp-content/uploads/2025/04/Olsens-Events-Summer-Series.webp
END:VEVENT
BEGIN:VEVENT
DTSTART;TZID=America/Los_Angeles:20250418T100000
DTEND;TZID=America/Los_Angeles:20250418T110000
DTSTAMP:20260425T094500
CREATED:20250218T195126Z
LAST-MODIFIED:20250218T195127Z
UID:10005150-1744970400-1744974000@callchinovalleyhome.com
SUMMARY:Chino Valley Library Weekly Storytimes
DESCRIPTION:Themed stories\, songs\, games\, snack (and craft for big kids) each week \nIndoors \nTuesdays and Fridays 10am (0-3 yrs) \nTuesdays and Fridays 10:30am (3-8yrs)
URL:https://callchinovalleyhome.com/event/chino-valley-library-weekly-storytimes-6-2/2025-04-18/
LOCATION:Chino Valley Public Library\, 1020 W Palomino Rd Chino Valley\, AZ 86323\, Chino Valley\, AZ\, 86323\, United States
ATTACH;FMTTYPE=image/webp:https://callchinovalleyhome.com/wp-content/uploads/2024/07/Chino-Valley-Local-Author-Storytime.webp
ORGANIZER;CN="Rebecca Laurence":MAILTO:rlaurence@chinoaz.net
END:VEVENT
BEGIN:VEVENT
DTSTART;TZID=America/Los_Angeles:20250418T160000
DTEND;TZID=America/Los_Angeles:20250418T210000
DTSTAMP:20260425T094500
CREATED:20241230T200349Z
LAST-MODIFIED:20241230T200349Z
UID:10004747-1744992000-1745010000@callchinovalleyhome.com
SUMMARY:Olsen's Events Mounted Shooting Practice
DESCRIPTION:Every Friday! \nWinter Hours Vary\, Call for Start Time \n$20/person \nBeginners Welcome
URL:https://callchinovalleyhome.com/event/olsens-events-mounted-shooting-practice-2/2025-04-18/
LOCATION:Olsen’s Events\, 344 S Hwy 89 Chino Valley\, AZ\, 86323\, Chino Valley\, AZ\, 86323\, United States
ATTACH;FMTTYPE=image/png:https://callchinovalleyhome.com/wp-content/uploads/2024/12/Winter-Mounted-Shooting-Practice.png
END:VEVENT
BEGIN:VEVENT
DTSTART;TZID=America/Los_Angeles:20250421T103000
DTEND;TZID=America/Los_Angeles:20250421T113000
DTSTAMP:20260425T094500
CREATED:20250317T211320Z
LAST-MODIFIED:20250317T211320Z
UID:10005276-1745231400-1745235000@callchinovalleyhome.com
SUMMARY:Learn About Wire-Wrapped Jewelry
DESCRIPTION:Join John Munday of Prescott’s Gem and Mineral Club to see examples of wire wrapped jewelry and see a presentation on the medium. This unique\, diverse\, creative jewelry style is both a fun and an affordable hobby to get into! Learn about the process and designs (both simplistic and complex\, with or without stonework) and be inspired to try it on your own. Free\, recommended for adults or older children/teens.
URL:https://callchinovalleyhome.com/event/learn-about-wire-wrapped-jewelry/
LOCATION:Chino Valley Public Library\, 1020 W Palomino Rd Chino Valley\, AZ 86323\, Chino Valley\, AZ\, 86323\, United States
ATTACH;FMTTYPE=image/webp:https://callchinovalleyhome.com/wp-content/uploads/2025/03/Chino-Valley-Library-Wire-Wrapped-Jewelry.webp
ORGANIZER;CN="Rebecca Laurence":MAILTO:rlaurence@chinoaz.net
END:VEVENT
BEGIN:VEVENT
DTSTART;TZID=America/Los_Angeles:20250421T150000
DTEND;TZID=America/Los_Angeles:20250421T180000
DTSTAMP:20260425T094500
CREATED:20240510T182131Z
LAST-MODIFIED:20250113T050929Z
UID:10000389-1745247600-1745258400@callchinovalleyhome.com
SUMMARY:Chess Group
DESCRIPTION:
URL:https://callchinovalleyhome.com/event/chess-group-5/2025-04-21/
LOCATION:Chino Valley Public Library\, 1020 W Palomino Rd Chino Valley\, AZ 86323\, Chino Valley\, AZ\, 86323\, United States
ATTACH;FMTTYPE=image/jpeg:https://callchinovalleyhome.com/wp-content/uploads/2024/05/Chino-Valley-Public-Library.jpg
ORGANIZER;CN="Rebecca Laurence":MAILTO:rlaurence@chinoaz.net
END:VEVENT
BEGIN:VEVENT
DTSTART;TZID=America/Los_Angeles:20250422T100000
DTEND;TZID=America/Los_Angeles:20250422T110000
DTSTAMP:20260425T094500
CREATED:20250113T051254Z
LAST-MODIFIED:20250828T205255Z
UID:10005049-1745316000-1745319600@callchinovalleyhome.com
SUMMARY:Chino Valley Library Weekly Storytimes (Tuesdays)
DESCRIPTION:Stories\, songs/games\, snack (& a craft for big kids) – new theme every week! \nLots of fun for young families. \nTuesdays are inside \nFridays are outside by the gazebo (weather permitting\, until around the end of October\, then both will be inside). \n10:00 am – 0-3 years old \n10:30 am – 3-10 years old \nSometimes we have special guests come for story times – watch the calendar/flyers! \nLocation: Chino Valley Public Library at 1020 Palomino Rd\, Chino Valley\, AZ 86323
URL:https://callchinovalleyhome.com/event/chino-valley-library-weekly-storytimes-5/2025-04-22/
ATTACH;FMTTYPE=image/webp:https://callchinovalleyhome.com/wp-content/uploads/2024/07/Chino-Valley-Local-Author-Storytime.webp
ORGANIZER;CN="Rebecca Laurence":MAILTO:rlaurence@chinoaz.net
END:VEVENT
BEGIN:VEVENT
DTSTART;TZID=America/Los_Angeles:20250422T150000
DTEND;TZID=America/Los_Angeles:20250422T170000
DTSTAMP:20260425T094500
CREATED:20250218T200750Z
LAST-MODIFIED:20250218T201606Z
UID:10004015-1745334000-1745341200@callchinovalleyhome.com
SUMMARY:Lego Club
DESCRIPTION:Come afterschool to build something fun! Great for Elementary and Middle School ages. (If you child is under 5yrs\, please supervise them). \nDrop in\, drop out. Ok to arrive late or leave early.
URL:https://callchinovalleyhome.com/event/lego-club-5-2-2/2025-04-22/
LOCATION:Chino Valley Public Library\, 1020 W Palomino Rd Chino Valley\, AZ 86323\, Chino Valley\, AZ\, 86323\, United States
ATTACH;FMTTYPE=image/webp:https://callchinovalleyhome.com/wp-content/uploads/2024/06/Chino-Valley-Library-Lego-Event.webp
ORGANIZER;CN="Rebecca Laurence":MAILTO:rlaurence@chinoaz.net
END:VEVENT
BEGIN:VEVENT
DTSTART;TZID=America/Los_Angeles:20250424T160000
DTEND;TZID=America/Los_Angeles:20250424T200000
DTSTAMP:20260425T094500
CREATED:20250422T211736Z
LAST-MODIFIED:20250507T204318Z
UID:10005334-1745510400-1745524800@callchinovalleyhome.com
SUMMARY:Olsen's Events | Summer Series
DESCRIPTION:Time Onlys form 4:00p-5:30p | Run at 6:00pm \n\nSeries 1 – must attend 3 out of 4 for awards – April 4\, 10\, 17\, 24\nSeries 2 – must attend 3 out of 4 for awards – May 1\, 15\, 22\, 29\nSeries 3 – must attend 3 out of 4 for awards  – June 6\, 13\, 20\, 27\nSeries 4 – must attend 4 out of 5 for awards – July 3\, 11\, 17\, 24\, 31\nSeries 5 – must attend 5 out of 6 for awards – Aug 14\, 21\, Sep 4\, 11\, 18\, 25\n\nOrder of events \n\nPeewee Poles\nOpen Poles\nPeeWee Barrels\nCombined Draw Open Barrels
URL:https://callchinovalleyhome.com/event/olsens-events-summer-series-2/2025-04-24/
LOCATION:Olsen’s Events\, 344 S Hwy 89 Chino Valley\, AZ\, 86323\, Chino Valley\, AZ\, 86323\, United States
ATTACH;FMTTYPE=image/webp:https://callchinovalleyhome.com/wp-content/uploads/2025/04/Olsens-Events-Summer-Series.webp
END:VEVENT
BEGIN:VEVENT
DTSTART;TZID=America/Los_Angeles:20250424T170000
DTEND;TZID=America/Los_Angeles:20250424T200000
DTSTAMP:20260425T094500
CREATED:20250317T231147Z
LAST-MODIFIED:20250317T231147Z
UID:10005282-1745514000-1745524800@callchinovalleyhome.com
SUMMARY:Chino Valley Annual Business and Awards Dinner
DESCRIPTION:Please join in the fun for the this year’s theme “Growing in Chino Valley”
URL:https://callchinovalleyhome.com/event/chino-valley-annual-business-and-awards-dinner/
LOCATION:Yavapai College – Chino Valley Campus
ATTACH;FMTTYPE=image/webp:https://callchinovalleyhome.com/wp-content/uploads/2025/03/Chino-Valley-Annual-Business_Awards-Dinner.webp
END:VEVENT
BEGIN:VEVENT
DTSTART;TZID=America/Los_Angeles:20250425T100000
DTEND;TZID=America/Los_Angeles:20250425T110000
DTSTAMP:20260425T094500
CREATED:20250218T195126Z
LAST-MODIFIED:20250218T195127Z
UID:10005151-1745575200-1745578800@callchinovalleyhome.com
SUMMARY:Chino Valley Library Weekly Storytimes
DESCRIPTION:Themed stories\, songs\, games\, snack (and craft for big kids) each week \nIndoors \nTuesdays and Fridays 10am (0-3 yrs) \nTuesdays and Fridays 10:30am (3-8yrs)
URL:https://callchinovalleyhome.com/event/chino-valley-library-weekly-storytimes-6-2/2025-04-25/
LOCATION:Chino Valley Public Library\, 1020 W Palomino Rd Chino Valley\, AZ 86323\, Chino Valley\, AZ\, 86323\, United States
ATTACH;FMTTYPE=image/webp:https://callchinovalleyhome.com/wp-content/uploads/2024/07/Chino-Valley-Local-Author-Storytime.webp
ORGANIZER;CN="Rebecca Laurence":MAILTO:rlaurence@chinoaz.net
END:VEVENT
BEGIN:VEVENT
DTSTART;TZID=America/Los_Angeles:20250425T160000
DTEND;TZID=America/Los_Angeles:20250425T210000
DTSTAMP:20260425T094500
CREATED:20241230T200349Z
LAST-MODIFIED:20241230T200349Z
UID:10004748-1745596800-1745614800@callchinovalleyhome.com
SUMMARY:Olsen's Events Mounted Shooting Practice
DESCRIPTION:Every Friday! \nWinter Hours Vary\, Call for Start Time \n$20/person \nBeginners Welcome
URL:https://callchinovalleyhome.com/event/olsens-events-mounted-shooting-practice-2/2025-04-25/
LOCATION:Olsen’s Events\, 344 S Hwy 89 Chino Valley\, AZ\, 86323\, Chino Valley\, AZ\, 86323\, United States
ATTACH;FMTTYPE=image/png:https://callchinovalleyhome.com/wp-content/uploads/2024/12/Winter-Mounted-Shooting-Practice.png
END:VEVENT
BEGIN:VEVENT
DTSTART;TZID=America/Los_Angeles:20250426T100000
DTEND;TZID=America/Los_Angeles:20250426T140000
DTSTAMP:20260425T094500
CREATED:20250422T041652Z
LAST-MODIFIED:20250422T042102Z
UID:10005287-1745661600-1745676000@callchinovalleyhome.com
SUMMARY:Chino Valley High School Safe Grad 5k and Fun Run
DESCRIPTION:This benefits the CVHS Class of 2025 Safe Grad Night \nSign Up Here \nAdditional Info can be found here: https://chinoroyalrun25.com/
URL:https://callchinovalleyhome.com/event/chino-valley-high-school-safe-grad-5k-and-fun-run/
LOCATION:Memory Park in Chino Valley\, Palomino Road and N Road 1 West\, AZ\, United States
ATTACH;FMTTYPE=image/webp:https://callchinovalleyhome.com/wp-content/uploads/2025/04/Chino-Valley-High-School-Safe-Grad-5k-and-Fun-Run.webp
END:VEVENT
BEGIN:VEVENT
DTSTART;TZID=America/Los_Angeles:20250427T130000
DTEND;TZID=America/Los_Angeles:20250427T170000
DTSTAMP:20260425T094500
CREATED:20250422T052153Z
LAST-MODIFIED:20250422T052153Z
UID:10005302-1745758800-1745773200@callchinovalleyhome.com
SUMMARY:2025 High Point Saddle & Buckle Series
DESCRIPTION:Saddles to High Point in Each Division of the Open 4D! \nBuckles and other great prizes! \nOrder of Events/Fees – 70% Payback \n\nPeewee Poles\n3D Open Poles\nPeewee Barrels\nPeewee Goat Tying\n3D Goat Tying\nPee wee Dummy Breakaway\n3D Dummy Breakaway\nOpen 4D Barrels\nYouth 4D Barrels\nNovice Target Barrels\nGreen Horse 4D Barrels
URL:https://callchinovalleyhome.com/event/2025-high-point-saddle-buckle-series/2025-04-27/
LOCATION:Olsen’s Events\, 344 S Hwy 89 Chino Valley\, AZ\, 86323\, Chino Valley\, AZ\, 86323\, United States
ATTACH;FMTTYPE=image/webp:https://callchinovalleyhome.com/wp-content/uploads/2025/04/2025-High-Point-Saddle-Buckle-Series.webp
END:VEVENT
BEGIN:VEVENT
DTSTART;TZID=America/Los_Angeles:20250428T130000
DTEND;TZID=America/Los_Angeles:20250428T180000
DTSTAMP:20260425T094500
CREATED:20250422T035314Z
LAST-MODIFIED:20250422T035405Z
UID:10005284-1745845200-1745863200@callchinovalleyhome.com
SUMMARY:School Age Vaccination Clinic
DESCRIPTION:Vaccination clinic scheduled for April 28 from 1pm-6:15pm at HMS.\n\n\nInfo on the flier\, use this link to register.
URL:https://callchinovalleyhome.com/event/chino-valley-back-to-school-immunization-clinic-2/
LOCATION:Heritage Middle School Health Office\, Heritage Middle School Health Office 1076 N Road 1 W Chino Valley\, AZ 86323\, Chino Valley\, AZ\, 86323\, United States
ATTACH;FMTTYPE=image/webp:https://callchinovalleyhome.com/wp-content/uploads/2024/07/Chino-Valley-Back-to-School-Immunizations.webp
END:VEVENT
BEGIN:VEVENT
DTSTART;TZID=America/Los_Angeles:20250428T150000
DTEND;TZID=America/Los_Angeles:20250428T180000
DTSTAMP:20260425T094500
CREATED:20240510T182131Z
LAST-MODIFIED:20250113T050929Z
UID:10000390-1745852400-1745863200@callchinovalleyhome.com
SUMMARY:Chess Group
DESCRIPTION:
URL:https://callchinovalleyhome.com/event/chess-group-5/2025-04-28/
LOCATION:Chino Valley Public Library\, 1020 W Palomino Rd Chino Valley\, AZ 86323\, Chino Valley\, AZ\, 86323\, United States
ATTACH;FMTTYPE=image/jpeg:https://callchinovalleyhome.com/wp-content/uploads/2024/05/Chino-Valley-Public-Library.jpg
ORGANIZER;CN="Rebecca Laurence":MAILTO:rlaurence@chinoaz.net
END:VEVENT
BEGIN:VEVENT
DTSTART;TZID=America/Los_Angeles:20250429T100000
DTEND;TZID=America/Los_Angeles:20250429T110000
DTSTAMP:20260425T094500
CREATED:20250113T051254Z
LAST-MODIFIED:20250828T205255Z
UID:10005050-1745920800-1745924400@callchinovalleyhome.com
SUMMARY:Chino Valley Library Weekly Storytimes (Tuesdays)
DESCRIPTION:Stories\, songs/games\, snack (& a craft for big kids) – new theme every week! \nLots of fun for young families. \nTuesdays are inside \nFridays are outside by the gazebo (weather permitting\, until around the end of October\, then both will be inside). \n10:00 am – 0-3 years old \n10:30 am – 3-10 years old \nSometimes we have special guests come for story times – watch the calendar/flyers! \nLocation: Chino Valley Public Library at 1020 Palomino Rd\, Chino Valley\, AZ 86323
URL:https://callchinovalleyhome.com/event/chino-valley-library-weekly-storytimes-5/2025-04-29/
ATTACH;FMTTYPE=image/webp:https://callchinovalleyhome.com/wp-content/uploads/2024/07/Chino-Valley-Local-Author-Storytime.webp
ORGANIZER;CN="Rebecca Laurence":MAILTO:rlaurence@chinoaz.net
END:VEVENT
BEGIN:VEVENT
DTSTART;TZID=America/Los_Angeles:20250429T150000
DTEND;TZID=America/Los_Angeles:20250429T170000
DTSTAMP:20260425T094500
CREATED:20250218T200750Z
LAST-MODIFIED:20250218T201606Z
UID:10004016-1745938800-1745946000@callchinovalleyhome.com
SUMMARY:Lego Club
DESCRIPTION:Come afterschool to build something fun! Great for Elementary and Middle School ages. (If you child is under 5yrs\, please supervise them). \nDrop in\, drop out. Ok to arrive late or leave early.
URL:https://callchinovalleyhome.com/event/lego-club-5-2-2/2025-04-29/
LOCATION:Chino Valley Public Library\, 1020 W Palomino Rd Chino Valley\, AZ 86323\, Chino Valley\, AZ\, 86323\, United States
ATTACH;FMTTYPE=image/webp:https://callchinovalleyhome.com/wp-content/uploads/2024/06/Chino-Valley-Library-Lego-Event.webp
ORGANIZER;CN="Rebecca Laurence":MAILTO:rlaurence@chinoaz.net
END:VEVENT
BEGIN:VEVENT
DTSTART;TZID=America/Los_Angeles:20250501T160000
DTEND;TZID=America/Los_Angeles:20250501T200000
DTSTAMP:20260425T094500
CREATED:20250422T211736Z
LAST-MODIFIED:20250507T204318Z
UID:10005335-1746115200-1746129600@callchinovalleyhome.com
SUMMARY:Olsen's Events | Summer Series
DESCRIPTION:Time Onlys form 4:00p-5:30p | Run at 6:00pm \n\nSeries 1 – must attend 3 out of 4 for awards – April 4\, 10\, 17\, 24\nSeries 2 – must attend 3 out of 4 for awards – May 1\, 15\, 22\, 29\nSeries 3 – must attend 3 out of 4 for awards  – June 6\, 13\, 20\, 27\nSeries 4 – must attend 4 out of 5 for awards – July 3\, 11\, 17\, 24\, 31\nSeries 5 – must attend 5 out of 6 for awards – Aug 14\, 21\, Sep 4\, 11\, 18\, 25\n\nOrder of events \n\nPeewee Poles\nOpen Poles\nPeeWee Barrels\nCombined Draw Open Barrels
URL:https://callchinovalleyhome.com/event/olsens-events-summer-series-2/2025-05-01/
LOCATION:Olsen’s Events\, 344 S Hwy 89 Chino Valley\, AZ\, 86323\, Chino Valley\, AZ\, 86323\, United States
ATTACH;FMTTYPE=image/webp:https://callchinovalleyhome.com/wp-content/uploads/2025/04/Olsens-Events-Summer-Series.webp
END:VEVENT
BEGIN:VEVENT
DTSTART;TZID=America/Los_Angeles:20250502T080000
DTEND;TZID=America/Los_Angeles:20250502T120000
DTSTAMP:20260425T094500
CREATED:20250422T040106Z
LAST-MODIFIED:20250422T040106Z
UID:10005285-1746172800-1746187200@callchinovalleyhome.com
SUMMARY:HMS & CVHS Athletes - Sport Physicals
DESCRIPTION:In order to be cleared for sports at Chino Valley Unified School District\, for the 2025/2026 school year\, please complete the following BEFORE the first day of tryouts. \n\nCurrent physcal paperwork forthe 25/26 sports season\nAdditional school-specific require forms\n\n$20 Cash\, Check\, Card
URL:https://callchinovalleyhome.com/event/hms-cvhs-athletes-sport-physicals/
LOCATION:Heritage Middle School Gym
ATTACH;FMTTYPE=image/webp:https://callchinovalleyhome.com/wp-content/uploads/2025/04/Chino-Valley-Athletes-Sport-Physicals.webp
ORGANIZER;CN="Kimberly Range":MAILTO:krange@chinovalleyschools.com
END:VEVENT
BEGIN:VEVENT
DTSTART;TZID=America/Los_Angeles:20250502T100000
DTEND;TZID=America/Los_Angeles:20250502T110000
DTSTAMP:20260425T094500
CREATED:20250218T195126Z
LAST-MODIFIED:20250218T195127Z
UID:10005152-1746180000-1746183600@callchinovalleyhome.com
SUMMARY:Chino Valley Library Weekly Storytimes
DESCRIPTION:Themed stories\, songs\, games\, snack (and craft for big kids) each week \nIndoors \nTuesdays and Fridays 10am (0-3 yrs) \nTuesdays and Fridays 10:30am (3-8yrs)
URL:https://callchinovalleyhome.com/event/chino-valley-library-weekly-storytimes-6-2/2025-05-02/
LOCATION:Chino Valley Public Library\, 1020 W Palomino Rd Chino Valley\, AZ 86323\, Chino Valley\, AZ\, 86323\, United States
ATTACH;FMTTYPE=image/webp:https://callchinovalleyhome.com/wp-content/uploads/2024/07/Chino-Valley-Local-Author-Storytime.webp
ORGANIZER;CN="Rebecca Laurence":MAILTO:rlaurence@chinoaz.net
END:VEVENT
BEGIN:VEVENT
DTSTART;TZID=America/Los_Angeles:20250502T160000
DTEND;TZID=America/Los_Angeles:20250502T210000
DTSTAMP:20260425T094500
CREATED:20241230T200349Z
LAST-MODIFIED:20241230T200349Z
UID:10004749-1746201600-1746219600@callchinovalleyhome.com
SUMMARY:Olsen's Events Mounted Shooting Practice
DESCRIPTION:Every Friday! \nWinter Hours Vary\, Call for Start Time \n$20/person \nBeginners Welcome
URL:https://callchinovalleyhome.com/event/olsens-events-mounted-shooting-practice-2/2025-05-02/
LOCATION:Olsen’s Events\, 344 S Hwy 89 Chino Valley\, AZ\, 86323\, Chino Valley\, AZ\, 86323\, United States
ATTACH;FMTTYPE=image/png:https://callchinovalleyhome.com/wp-content/uploads/2024/12/Winter-Mounted-Shooting-Practice.png
END:VEVENT
BEGIN:VEVENT
DTSTART;TZID=America/Los_Angeles:20250503T080000
DTEND;TZID=America/Los_Angeles:20250503T120000
DTSTAMP:20260425T094500
CREATED:20250422T210040Z
LAST-MODIFIED:20250422T210040Z
UID:10005325-1746259200-1746273600@callchinovalleyhome.com
SUMMARY:FFA Benefit Team Roping
DESCRIPTION:Books Open at 8:00 am \nRoping starts at 9:00am \nMust have current Global Handicap Number \nBuckles to Average Winners \nAll proceeds go tot he Chino Valley FFA Chapter
URL:https://callchinovalleyhome.com/event/ffa-benefit-team-roping-2/
LOCATION:Olsen’s Events\, 344 S Hwy 89 Chino Valley\, AZ\, 86323\, Chino Valley\, AZ\, 86323\, United States
ATTACH;FMTTYPE=image/webp:https://callchinovalleyhome.com/wp-content/uploads/2024/08/Chino-Valley-Olsens-Events-Team-Roping.webp
END:VEVENT
BEGIN:VEVENT
DTSTART;TZID=America/Los_Angeles:20250503T190000
DTEND;TZID=America/Los_Angeles:20250503T220000
DTSTAMP:20260425T094500
CREATED:20250317T212019Z
LAST-MODIFIED:20250317T212112Z
UID:10005277-1746298800-1746309600@callchinovalleyhome.com
SUMMARY:Star Wars Movie Under the Stars
DESCRIPTION:Movie at Community Center Park \nJoin us with your friends and family for a night of fun under the stars! \nMovie Starts when it gets dark. \n 
URL:https://callchinovalleyhome.com/event/star-wars-movie-under-the-stars/
LOCATION:Community Center Park\, Perkinsville and Road 1 East\, Chino Valley\, AZ\, 86323
ATTACH;FMTTYPE=image/webp:https://callchinovalleyhome.com/wp-content/uploads/2025/03/Chino-Valley-Movie-Star-Wars.webp
END:VEVENT
BEGIN:VEVENT
DTSTART;VALUE=DATE:20250505
DTEND;VALUE=DATE:20250617
DTSTAMP:20260425T094501
CREATED:20250507T210524Z
LAST-MODIFIED:20250507T210524Z
UID:10005361-1746403200-1750118399@callchinovalleyhome.com
SUMMARY:Mother's and Father's Day Diaper Drive
DESCRIPTION:Mother’s and Father’s Day Diaper Drive for the Wrapped in Love Diaper Bank is collecting adult and baby wipes\, diapers\, period products and incontinence supplies for families in Yavapai County. Locations are found throughout the county. Go to our website for additional information – WrappedinLoveDiaperBank.org
URL:https://callchinovalleyhome.com/event/mothers-and-fathers-day-diaper-drive-2/
LOCATION:Paulden Public Library\, 16 Big Chino Road\, Paulden\, AZ\, 86334
ATTACH;FMTTYPE=image/webp:https://callchinovalleyhome.com/wp-content/uploads/2024/05/Chino-Valley-Wrapped-in-Love-Diaper-Drive-Event.webp
ORGANIZER;CN="Wrapped in Love Diaper Bank":MAILTO:WILdiaperbank@gmail.com
END:VEVENT
BEGIN:VEVENT
DTSTART;TZID=America/Los_Angeles:20250505T150000
DTEND;TZID=America/Los_Angeles:20250505T180000
DTSTAMP:20260425T094501
CREATED:20240510T182131Z
LAST-MODIFIED:20250113T050929Z
UID:10000391-1746457200-1746468000@callchinovalleyhome.com
SUMMARY:Chess Group
DESCRIPTION:
URL:https://callchinovalleyhome.com/event/chess-group-5/2025-05-05/
LOCATION:Chino Valley Public Library\, 1020 W Palomino Rd Chino Valley\, AZ 86323\, Chino Valley\, AZ\, 86323\, United States
ATTACH;FMTTYPE=image/jpeg:https://callchinovalleyhome.com/wp-content/uploads/2024/05/Chino-Valley-Public-Library.jpg
ORGANIZER;CN="Rebecca Laurence":MAILTO:rlaurence@chinoaz.net
END:VEVENT
BEGIN:VEVENT
DTSTART;TZID=America/Los_Angeles:20250506T100000
DTEND;TZID=America/Los_Angeles:20250506T110000
DTSTAMP:20260425T094501
CREATED:20250113T051254Z
LAST-MODIFIED:20250828T205255Z
UID:10005051-1746525600-1746529200@callchinovalleyhome.com
SUMMARY:Chino Valley Library Weekly Storytimes (Tuesdays)
DESCRIPTION:Stories\, songs/games\, snack (& a craft for big kids) – new theme every week! \nLots of fun for young families. \nTuesdays are inside \nFridays are outside by the gazebo (weather permitting\, until around the end of October\, then both will be inside). \n10:00 am – 0-3 years old \n10:30 am – 3-10 years old \nSometimes we have special guests come for story times – watch the calendar/flyers! \nLocation: Chino Valley Public Library at 1020 Palomino Rd\, Chino Valley\, AZ 86323
URL:https://callchinovalleyhome.com/event/chino-valley-library-weekly-storytimes-5/2025-05-06/
ATTACH;FMTTYPE=image/webp:https://callchinovalleyhome.com/wp-content/uploads/2024/07/Chino-Valley-Local-Author-Storytime.webp
ORGANIZER;CN="Rebecca Laurence":MAILTO:rlaurence@chinoaz.net
END:VEVENT
END:VCALENDAR