BEGIN:VCALENDAR
VERSION:2.0
PRODID:-//Call Chino Valley Home - ECPv6.15.20//NONSGML v1.0//EN
CALSCALE:GREGORIAN
METHOD:PUBLISH
X-WR-CALNAME:Call Chino Valley Home
X-ORIGINAL-URL:https://callchinovalleyhome.com
X-WR-CALDESC:Events for Call Chino Valley Home
REFRESH-INTERVAL;VALUE=DURATION:PT1H
X-Robots-Tag:noindex
X-PUBLISHED-TTL:PT1H
BEGIN:VTIMEZONE
TZID:America/Los_Angeles
BEGIN:DAYLIGHT
TZOFFSETFROM:-0800
TZOFFSETTO:-0700
TZNAME:PDT
DTSTART:20230312T100000
END:DAYLIGHT
BEGIN:STANDARD
TZOFFSETFROM:-0700
TZOFFSETTO:-0800
TZNAME:PST
DTSTART:20231105T090000
END:STANDARD
BEGIN:DAYLIGHT
TZOFFSETFROM:-0800
TZOFFSETTO:-0700
TZNAME:PDT
DTSTART:20240310T100000
END:DAYLIGHT
BEGIN:STANDARD
TZOFFSETFROM:-0700
TZOFFSETTO:-0800
TZNAME:PST
DTSTART:20241103T090000
END:STANDARD
BEGIN:DAYLIGHT
TZOFFSETFROM:-0800
TZOFFSETTO:-0700
TZNAME:PDT
DTSTART:20250309T100000
END:DAYLIGHT
BEGIN:STANDARD
TZOFFSETFROM:-0700
TZOFFSETTO:-0800
TZNAME:PST
DTSTART:20251102T090000
END:STANDARD
END:VTIMEZONE
BEGIN:VTIMEZONE
TZID:America/Phoenix
BEGIN:STANDARD
TZOFFSETFROM:-0700
TZOFFSETTO:-0700
TZNAME:MST
DTSTART:20230101T000000
END:STANDARD
END:VTIMEZONE
BEGIN:VEVENT
DTSTART;TZID=America/Los_Angeles:20241126T150000
DTEND;TZID=America/Los_Angeles:20241126T170000
DTSTAMP:20260425T083724
CREATED:20240724T171807Z
LAST-MODIFIED:20240724T171809Z
UID:10003994-1732633200-1732640400@callchinovalleyhome.com
SUMMARY:Lego Club
DESCRIPTION:Come afterschool to build something fun! Great for Elementary and Middle School ages. (If you child is under 5yrs\, please supervise them). \nDrop in\, drop out. Ok to arrive late or leave early.
URL:https://callchinovalleyhome.com/event/lego-club-5-2/2024-11-26/
LOCATION:Chino Valley Public Library\, 1020 W Palomino Rd Chino Valley\, AZ 86323\, Chino Valley\, AZ\, 86323\, United States
ATTACH;FMTTYPE=image/webp:https://callchinovalleyhome.com/wp-content/uploads/2024/06/Chino-Valley-Library-Lego-Event.webp
ORGANIZER;CN="Rebecca Laurence":MAILTO:rlaurence@chinoaz.net
END:VEVENT
BEGIN:VEVENT
DTSTART;TZID=America/Los_Angeles:20241126T100000
DTEND;TZID=America/Los_Angeles:20241126T110000
DTSTAMP:20260425T083724
CREATED:20241016T195842Z
LAST-MODIFIED:20241016T201941Z
UID:10004631-1732615200-1732618800@callchinovalleyhome.com
SUMMARY:Chino Valley Library Weekly Storytimes
DESCRIPTION:Themed stories\, songs\, games\, snack (and craft for big kids) each week \nIndoors \nTuesday 10am (0-3 yrs) \nTuesday 10:30am (3-8yrs) \nOutdoors \nFridays 10am (0-3 yrs) \nFridays 10:30am (3-8yrs) \n**Fridays are identical to Tuesday\, except 11/1/24 will be Highlands Nature Center (outside) instead\, and 11/22/24 will have a magic show instead. We will have some child-appropriate holiday themes throughout the season.
URL:https://callchinovalleyhome.com/event/chino-valley-library-weekly-storytimes-2-2/2024-11-26/
LOCATION:Chino Valley Public Library\, 1020 W Palomino Rd Chino Valley\, AZ 86323\, Chino Valley\, AZ\, 86323\, United States
ATTACH;FMTTYPE=image/webp:https://callchinovalleyhome.com/wp-content/uploads/2024/07/Chino-Valley-Local-Author-Storytime.webp
ORGANIZER;CN="Rebecca Laurence":MAILTO:rlaurence@chinoaz.net
END:VEVENT
BEGIN:VEVENT
DTSTART;TZID=America/Los_Angeles:20241125T150000
DTEND;TZID=America/Los_Angeles:20241125T180000
DTSTAMP:20260425T083724
CREATED:20240510T182131Z
LAST-MODIFIED:20250113T050929Z
UID:10000368-1732546800-1732557600@callchinovalleyhome.com
SUMMARY:Chess Group
DESCRIPTION:
URL:https://callchinovalleyhome.com/event/chess-group-5/2024-11-25/
LOCATION:Chino Valley Public Library\, 1020 W Palomino Rd Chino Valley\, AZ 86323\, Chino Valley\, AZ\, 86323\, United States
ATTACH;FMTTYPE=image/jpeg:https://callchinovalleyhome.com/wp-content/uploads/2024/05/Chino-Valley-Public-Library.jpg
ORGANIZER;CN="Rebecca Laurence":MAILTO:rlaurence@chinoaz.net
END:VEVENT
BEGIN:VEVENT
DTSTART;TZID=America/Los_Angeles:20241122T160000
DTEND;TZID=America/Los_Angeles:20241122T210000
DTSTAMP:20260425T083724
CREATED:20240820T055138Z
LAST-MODIFIED:20241230T200717Z
UID:10004280-1732291200-1732309200@callchinovalleyhome.com
SUMMARY:Olsen's Events Mounted Shooting Practice
DESCRIPTION:Every Friday Beginning August 30th \n$20/person \nBeginners Welcome
URL:https://callchinovalleyhome.com/event/olsens-events-mounted-shooting-practice/2024-11-22/
LOCATION:Olsen’s Events\, 344 S Hwy 89 Chino Valley\, AZ\, 86323\, Chino Valley\, AZ\, 86323\, United States
ATTACH;FMTTYPE=image/webp:https://callchinovalleyhome.com/wp-content/uploads/2024/08/Chino-Valley-Olsens-Events-Mounted-Shooting-Practice.webp
END:VEVENT
BEGIN:VEVENT
DTSTART;TZID=America/Los_Angeles:20241122T103000
DTEND;TZID=America/Los_Angeles:20241122T120000
DTSTAMP:20260425T083724
CREATED:20240926T052235Z
LAST-MODIFIED:20240926T052235Z
UID:10004608-1732271400-1732276800@callchinovalleyhome.com
SUMMARY:Gingerbread Lady and Pie Feast at Chino Valley Library
DESCRIPTION:The Gingerbread Lady is full of fun\, magic\, storytelling\, audience participation and lots of laughs! \nCome join us and have a slice of Pumpkin Pie and a cup of Apple Juice after the show! \nMagic show 10:30-11:15\, enjoy free pie afterwards \nhttps://jansandwich.com/childrens-entertainment
URL:https://callchinovalleyhome.com/event/gingerbread-lady-and-pie-feast-at-chino-valley-library/
LOCATION:Chino Valley Public Library\, 1020 W Palomino Rd Chino Valley\, AZ 86323\, Chino Valley\, AZ\, 86323\, United States
ATTACH;FMTTYPE=image/webp:https://callchinovalleyhome.com/wp-content/uploads/2024/09/Gingerbread-Lady-Pie-Feast-Chino-Valley-Library.webp
ORGANIZER;CN="Rebecca Laurence":MAILTO:rlaurence@chinoaz.net
END:VEVENT
BEGIN:VEVENT
DTSTART;TZID=America/Los_Angeles:20241122T100000
DTEND;TZID=America/Los_Angeles:20241122T110000
DTSTAMP:20260425T083724
CREATED:20241112T041325Z
LAST-MODIFIED:20241112T041325Z
UID:10004622-1732269600-1732273200@callchinovalleyhome.com
SUMMARY:Chino Valley Library Weekly Storytimes
DESCRIPTION:Themed stories\, songs\, games\, snack (and craft for big kids) each week \nIndoors \nTuesday 10am (0-3 yrs) \nTuesday 10:30am (3-8yrs) \nOutdoors \nFridays 10am (0-3 yrs) \nFridays 10:30am (3-8yrs) \n**Fridays are identical to Tuesday\, except 11/1/24 will be Highlands Nature Center (outside) instead\, and 11/22/24 will have a magic show instead. We will have some child-appropriate holiday themes throughout the season.
URL:https://callchinovalleyhome.com/event/chino-valley-library-weekly-storytimes-4-2-2/2024-11-22/
LOCATION:Chino Valley Public Library\, 1020 W Palomino Rd Chino Valley\, AZ 86323\, Chino Valley\, AZ\, 86323\, United States
ATTACH;FMTTYPE=image/webp:https://callchinovalleyhome.com/wp-content/uploads/2024/07/Chino-Valley-Local-Author-Storytime.webp
ORGANIZER;CN="Rebecca Laurence":MAILTO:rlaurence@chinoaz.net
END:VEVENT
BEGIN:VEVENT
DTSTART;TZID=America/Los_Angeles:20241121T151500
DTEND;TZID=America/Los_Angeles:20241121T161500
DTSTAMP:20260425T083724
CREATED:20241120T213039Z
LAST-MODIFIED:20241120T213039Z
UID:10004695-1732202100-1732205700@callchinovalleyhome.com
SUMMARY:Pet Partners
DESCRIPTION:Practice your developing reading skills by reading to a friendly therapy dog and handler! Perfect for young students but all readers are welcome. You can also pet the dogs. Great for those involved in the Summer Reading Program…track your reading while you’re here ;) Dogs may be in children’s area or in community room (if we need more room or quieter area.)
URL:https://callchinovalleyhome.com/event/pet-partners-4-2/2024-11-21/
LOCATION:Chino Valley Public Library\, 1020 W Palomino Rd Chino Valley\, AZ 86323\, Chino Valley\, AZ\, 86323\, United States
ATTACH;FMTTYPE=image/webp:https://callchinovalleyhome.com/wp-content/uploads/2024/06/Chino-Valley-Library-Paws-for-Friendship.webp
ORGANIZER;CN="Rebecca Laurence":MAILTO:rlaurence@chinoaz.net
END:VEVENT
BEGIN:VEVENT
DTSTART;TZID=America/Los_Angeles:20241119T150000
DTEND;TZID=America/Los_Angeles:20241119T170000
DTSTAMP:20260425T083724
CREATED:20240724T171807Z
LAST-MODIFIED:20240724T171809Z
UID:10003993-1732028400-1732035600@callchinovalleyhome.com
SUMMARY:Lego Club
DESCRIPTION:Come afterschool to build something fun! Great for Elementary and Middle School ages. (If you child is under 5yrs\, please supervise them). \nDrop in\, drop out. Ok to arrive late or leave early.
URL:https://callchinovalleyhome.com/event/lego-club-5-2/2024-11-19/
LOCATION:Chino Valley Public Library\, 1020 W Palomino Rd Chino Valley\, AZ 86323\, Chino Valley\, AZ\, 86323\, United States
ATTACH;FMTTYPE=image/webp:https://callchinovalleyhome.com/wp-content/uploads/2024/06/Chino-Valley-Library-Lego-Event.webp
ORGANIZER;CN="Rebecca Laurence":MAILTO:rlaurence@chinoaz.net
END:VEVENT
BEGIN:VEVENT
DTSTART;TZID=America/Los_Angeles:20241119T100000
DTEND;TZID=America/Los_Angeles:20241119T110000
DTSTAMP:20260425T083724
CREATED:20241016T195842Z
LAST-MODIFIED:20241016T201941Z
UID:10004630-1732010400-1732014000@callchinovalleyhome.com
SUMMARY:Chino Valley Library Weekly Storytimes
DESCRIPTION:Themed stories\, songs\, games\, snack (and craft for big kids) each week \nIndoors \nTuesday 10am (0-3 yrs) \nTuesday 10:30am (3-8yrs) \nOutdoors \nFridays 10am (0-3 yrs) \nFridays 10:30am (3-8yrs) \n**Fridays are identical to Tuesday\, except 11/1/24 will be Highlands Nature Center (outside) instead\, and 11/22/24 will have a magic show instead. We will have some child-appropriate holiday themes throughout the season.
URL:https://callchinovalleyhome.com/event/chino-valley-library-weekly-storytimes-2-2/2024-11-19/
LOCATION:Chino Valley Public Library\, 1020 W Palomino Rd Chino Valley\, AZ 86323\, Chino Valley\, AZ\, 86323\, United States
ATTACH;FMTTYPE=image/webp:https://callchinovalleyhome.com/wp-content/uploads/2024/07/Chino-Valley-Local-Author-Storytime.webp
ORGANIZER;CN="Rebecca Laurence":MAILTO:rlaurence@chinoaz.net
END:VEVENT
BEGIN:VEVENT
DTSTART;TZID=America/Los_Angeles:20241118T150000
DTEND;TZID=America/Los_Angeles:20241118T180000
DTSTAMP:20260425T083724
CREATED:20240510T182131Z
LAST-MODIFIED:20250113T050929Z
UID:10000367-1731942000-1731952800@callchinovalleyhome.com
SUMMARY:Chess Group
DESCRIPTION:
URL:https://callchinovalleyhome.com/event/chess-group-5/2024-11-18/
LOCATION:Chino Valley Public Library\, 1020 W Palomino Rd Chino Valley\, AZ 86323\, Chino Valley\, AZ\, 86323\, United States
ATTACH;FMTTYPE=image/jpeg:https://callchinovalleyhome.com/wp-content/uploads/2024/05/Chino-Valley-Public-Library.jpg
ORGANIZER;CN="Rebecca Laurence":MAILTO:rlaurence@chinoaz.net
END:VEVENT
BEGIN:VEVENT
DTSTART;TZID=America/Los_Angeles:20241117T140000
DTEND;TZID=America/Los_Angeles:20241117T170000
DTSTAMP:20260425T083724
CREATED:20241112T051903Z
LAST-MODIFIED:20241112T051903Z
UID:10004709-1731852000-1731862800@callchinovalleyhome.com
SUMMARY:Olsen's Events Sunday Fun Day! Barrels\, Poles\, Goats Jackpot
DESCRIPTION:
URL:https://callchinovalleyhome.com/event/olsens-events-sunday-fun-day-barrels-poles-goats-jackpot/
LOCATION:Olsen’s Events\, 344 S Hwy 89 Chino Valley\, AZ\, 86323\, Chino Valley\, AZ\, 86323\, United States
ATTACH;FMTTYPE=image/webp:https://callchinovalleyhome.com/wp-content/uploads/2024/11/Olsen-Events-Sunday-Fun-Day-Barrels-Poles-Goats-Jackpot.webp
END:VEVENT
BEGIN:VEVENT
DTSTART;VALUE=DATE:20241116
DTEND;VALUE=DATE:20241118
DTSTAMP:20260425T083724
CREATED:20241111T034929Z
LAST-MODIFIED:20241111T034929Z
UID:10004649-1731715200-1731887999@callchinovalleyhome.com
SUMMARY:Sunset Ranch Obstacle Challenge Weekend
DESCRIPTION:Come on out for a fun filled weekend of Obstacles! \nSaturday Mounted and In-Hand Clinics and open schooling \nSunday SROC obstacle Challenge! \nContact Megan for a copy of the flier with pricing and times to be sent directly to you. \nContact Megan Bennett to register- 602-565-1514
URL:https://callchinovalleyhome.com/event/sunset-ranch-obstacle-challenge-weekend-2/
LOCATION:Chino Valley Equestrian Park\, 2280 Equestrain Way\, Chino Valley\, AZ 86232\, Chino Valley\, AZ\, 86232\, United States
ATTACH;FMTTYPE=image/webp:https://callchinovalleyhome.com/wp-content/uploads/2024/11/Sunset-Ranch-Obstacle-Challenge-Weekend.webp
ORGANIZER;CN="Megan Bennett":MAILTO:megan@sunsetranch.us
END:VEVENT
BEGIN:VEVENT
DTSTART;TZID=America/Los_Angeles:20241115T160000
DTEND;TZID=America/Los_Angeles:20241115T210000
DTSTAMP:20260425T083724
CREATED:20240820T055138Z
LAST-MODIFIED:20241230T200717Z
UID:10004279-1731686400-1731704400@callchinovalleyhome.com
SUMMARY:Olsen's Events Mounted Shooting Practice
DESCRIPTION:Every Friday Beginning August 30th \n$20/person \nBeginners Welcome
URL:https://callchinovalleyhome.com/event/olsens-events-mounted-shooting-practice/2024-11-15/
LOCATION:Olsen’s Events\, 344 S Hwy 89 Chino Valley\, AZ\, 86323\, Chino Valley\, AZ\, 86323\, United States
ATTACH;FMTTYPE=image/webp:https://callchinovalleyhome.com/wp-content/uploads/2024/08/Chino-Valley-Olsens-Events-Mounted-Shooting-Practice.webp
END:VEVENT
BEGIN:VEVENT
DTSTART;TZID=America/Phoenix:20241115T140000
DTEND;TZID=America/Phoenix:20241115T150000
DTSTAMP:20260425T083724
CREATED:20241016T201217Z
LAST-MODIFIED:20241112T043104Z
UID:10004615-1731679200-1731682800@callchinovalleyhome.com
SUMMARY:Lego Craft Event
DESCRIPTION:Design a mini house – Keep what you make! Free\, all materials provided\, all age students welcome (if child under 5yrs please supervise)\, invite a friend! \n  \nSave the date January 17 for our next event like this – make a customized Lego vehicle!
URL:https://callchinovalleyhome.com/event/lego-craft-event-2/
LOCATION:Chino Valley Public Library\, 1020 W Palomino Rd Chino Valley\, AZ 86323\, Chino Valley\, AZ\, 86323\, United States
ATTACH;FMTTYPE=image/webp:https://callchinovalleyhome.com/wp-content/uploads/2024/06/Chino-Valley-Library-Lego-Event.webp
ORGANIZER;CN="Rebecca Laurence":MAILTO:rlaurence@chinoaz.net
END:VEVENT
BEGIN:VEVENT
DTSTART;TZID=America/Los_Angeles:20241115T100000
DTEND;TZID=America/Los_Angeles:20241115T110000
DTSTAMP:20260425T083724
CREATED:20241112T041325Z
LAST-MODIFIED:20241112T041325Z
UID:10004621-1731664800-1731668400@callchinovalleyhome.com
SUMMARY:Chino Valley Library Weekly Storytimes
DESCRIPTION:Themed stories\, songs\, games\, snack (and craft for big kids) each week \nIndoors \nTuesday 10am (0-3 yrs) \nTuesday 10:30am (3-8yrs) \nOutdoors \nFridays 10am (0-3 yrs) \nFridays 10:30am (3-8yrs) \n**Fridays are identical to Tuesday\, except 11/1/24 will be Highlands Nature Center (outside) instead\, and 11/22/24 will have a magic show instead. We will have some child-appropriate holiday themes throughout the season.
URL:https://callchinovalleyhome.com/event/chino-valley-library-weekly-storytimes-4-2-2/2024-11-15/
LOCATION:Chino Valley Public Library\, 1020 W Palomino Rd Chino Valley\, AZ 86323\, Chino Valley\, AZ\, 86323\, United States
ATTACH;FMTTYPE=image/webp:https://callchinovalleyhome.com/wp-content/uploads/2024/07/Chino-Valley-Local-Author-Storytime.webp
ORGANIZER;CN="Rebecca Laurence":MAILTO:rlaurence@chinoaz.net
END:VEVENT
BEGIN:VEVENT
DTSTART;TZID=America/Los_Angeles:20241114T151500
DTEND;TZID=America/Los_Angeles:20241114T161500
DTSTAMP:20260425T083724
CREATED:20240611T173741Z
LAST-MODIFIED:20241112T041118Z
UID:10004694-1731597300-1731600900@callchinovalleyhome.com
SUMMARY:Pet Partners
DESCRIPTION:Practice your developing reading skills by reading to a friendly therapy dog and handler! Perfect for young students but all readers are welcome. You can also pet the dogs. Great for those involved in the Summer Reading Program…track your reading while you’re here ;) Dogs may be in children’s area or in community room (if we need more room or quieter area.)
URL:https://callchinovalleyhome.com/event/pet-partners-4/2024-11-14/
LOCATION:Chino Valley Public Library\, 1020 W Palomino Rd Chino Valley\, AZ 86323\, Chino Valley\, AZ\, 86323\, United States
ATTACH;FMTTYPE=image/webp:https://callchinovalleyhome.com/wp-content/uploads/2024/06/Chino-Valley-Library-Paws-for-Friendship.webp
ORGANIZER;CN="Rebecca Laurence":MAILTO:rlaurence@chinoaz.net
END:VEVENT
BEGIN:VEVENT
DTSTART;TZID=America/Los_Angeles:20241114T110000
DTEND;TZID=America/Los_Angeles:20241114T130000
DTSTAMP:20260425T083724
CREATED:20240129T143129Z
LAST-MODIFIED:20240129T144538Z
UID:10000138-1731582000-1731589200@callchinovalleyhome.com
SUMMARY:Chamber Lunch and Learn | Mental Health
DESCRIPTION:Chino Valley Area Chamber of Commerce Lunch & Learn. Discover assistance that is available at NO charge\, for mental or behavioral health issues!
URL:https://callchinovalleyhome.com/event/chamber-lunch-and-learn-mental-health-2/
LOCATION:MY PLACE ON 89\, 798 S. AZ Hwy 89\, Chino Valley\, AZ 86323\, Chino Valley\, AZ\, United States
ATTACH;FMTTYPE=image/webp:https://callchinovalleyhome.com/wp-content/uploads/2024/01/Chamber-Lunch-and-Learn-Mental-Health.webp
END:VEVENT
BEGIN:VEVENT
DTSTART;TZID=America/Los_Angeles:20241113T100000
DTEND;TZID=America/Los_Angeles:20241113T110000
DTSTAMP:20260425T083724
CREATED:20240724T172538Z
LAST-MODIFIED:20240724T172538Z
UID:10004241-1731492000-1731495600@callchinovalleyhome.com
SUMMARY:Master Gardener Presentation
DESCRIPTION:Yavapai County Master Gardener monthly presentation on the 2nd Wednesday (excluding December). Each month’s theme is about a new topic. Provided by University of Arizona Cooperative Extension.
URL:https://callchinovalleyhome.com/event/master-gardener-presentation/2024-11-13/
LOCATION:Chino Valley Public Library\, 1020 W Palomino Rd Chino Valley\, AZ 86323\, Chino Valley\, AZ\, 86323\, United States
ATTACH;FMTTYPE=image/webp:https://callchinovalleyhome.com/wp-content/uploads/2024/07/Chino-Valley-Master-Gardener.webp
ORGANIZER;CN="University of AZ Cooperative Extension":MAILTO:YCMGspeakersbureau@gmail.com
END:VEVENT
BEGIN:VEVENT
DTSTART;TZID=America/Los_Angeles:20241112T150000
DTEND;TZID=America/Los_Angeles:20241112T170000
DTSTAMP:20260425T083724
CREATED:20240724T171807Z
LAST-MODIFIED:20240724T171809Z
UID:10003992-1731423600-1731430800@callchinovalleyhome.com
SUMMARY:Lego Club
DESCRIPTION:Come afterschool to build something fun! Great for Elementary and Middle School ages. (If you child is under 5yrs\, please supervise them). \nDrop in\, drop out. Ok to arrive late or leave early.
URL:https://callchinovalleyhome.com/event/lego-club-5-2/2024-11-12/
LOCATION:Chino Valley Public Library\, 1020 W Palomino Rd Chino Valley\, AZ 86323\, Chino Valley\, AZ\, 86323\, United States
ATTACH;FMTTYPE=image/webp:https://callchinovalleyhome.com/wp-content/uploads/2024/06/Chino-Valley-Library-Lego-Event.webp
ORGANIZER;CN="Rebecca Laurence":MAILTO:rlaurence@chinoaz.net
END:VEVENT
BEGIN:VEVENT
DTSTART;TZID=America/Los_Angeles:20241112T100000
DTEND;TZID=America/Los_Angeles:20241112T110000
DTSTAMP:20260425T083724
CREATED:20241016T195842Z
LAST-MODIFIED:20241016T201941Z
UID:10004629-1731405600-1731409200@callchinovalleyhome.com
SUMMARY:Chino Valley Library Weekly Storytimes
DESCRIPTION:Themed stories\, songs\, games\, snack (and craft for big kids) each week \nIndoors \nTuesday 10am (0-3 yrs) \nTuesday 10:30am (3-8yrs) \nOutdoors \nFridays 10am (0-3 yrs) \nFridays 10:30am (3-8yrs) \n**Fridays are identical to Tuesday\, except 11/1/24 will be Highlands Nature Center (outside) instead\, and 11/22/24 will have a magic show instead. We will have some child-appropriate holiday themes throughout the season.
URL:https://callchinovalleyhome.com/event/chino-valley-library-weekly-storytimes-2-2/2024-11-12/
LOCATION:Chino Valley Public Library\, 1020 W Palomino Rd Chino Valley\, AZ 86323\, Chino Valley\, AZ\, 86323\, United States
ATTACH;FMTTYPE=image/webp:https://callchinovalleyhome.com/wp-content/uploads/2024/07/Chino-Valley-Local-Author-Storytime.webp
ORGANIZER;CN="Rebecca Laurence":MAILTO:rlaurence@chinoaz.net
END:VEVENT
BEGIN:VEVENT
DTSTART;TZID=America/Los_Angeles:20241111T150000
DTEND;TZID=America/Los_Angeles:20241111T180000
DTSTAMP:20260425T083724
CREATED:20240510T182131Z
LAST-MODIFIED:20250113T050929Z
UID:10000366-1731337200-1731348000@callchinovalleyhome.com
SUMMARY:Chess Group
DESCRIPTION:
URL:https://callchinovalleyhome.com/event/chess-group-5/2024-11-11/
LOCATION:Chino Valley Public Library\, 1020 W Palomino Rd Chino Valley\, AZ 86323\, Chino Valley\, AZ\, 86323\, United States
ATTACH;FMTTYPE=image/jpeg:https://callchinovalleyhome.com/wp-content/uploads/2024/05/Chino-Valley-Public-Library.jpg
ORGANIZER;CN="Rebecca Laurence":MAILTO:rlaurence@chinoaz.net
END:VEVENT
BEGIN:VEVENT
DTSTART;TZID=America/Los_Angeles:20241108T160000
DTEND;TZID=America/Los_Angeles:20241108T210000
DTSTAMP:20260425T083724
CREATED:20240820T055138Z
LAST-MODIFIED:20241230T200717Z
UID:10004278-1731081600-1731099600@callchinovalleyhome.com
SUMMARY:Olsen's Events Mounted Shooting Practice
DESCRIPTION:Every Friday Beginning August 30th \n$20/person \nBeginners Welcome
URL:https://callchinovalleyhome.com/event/olsens-events-mounted-shooting-practice/2024-11-08/
LOCATION:Olsen’s Events\, 344 S Hwy 89 Chino Valley\, AZ\, 86323\, Chino Valley\, AZ\, 86323\, United States
ATTACH;FMTTYPE=image/webp:https://callchinovalleyhome.com/wp-content/uploads/2024/08/Chino-Valley-Olsens-Events-Mounted-Shooting-Practice.webp
END:VEVENT
BEGIN:VEVENT
DTSTART;TZID=America/Los_Angeles:20241108T150000
DTEND;TZID=America/Los_Angeles:20241108T170000
DTSTAMP:20260425T083724
CREATED:20240611T174359Z
LAST-MODIFIED:20240611T174359Z
UID:10002984-1731078000-1731085200@callchinovalleyhome.com
SUMMARY:STEAM Workshop
DESCRIPTION:Every Second Friday bring your kids and teens down to the library to explore\, build\, and create with cool gadgets\, sets and kits\, builders\, and electronics!
URL:https://callchinovalleyhome.com/event/steam-workshop-2/2024-11-08/
LOCATION:Chino Valley Public Library\, 1020 W Palomino Rd Chino Valley\, AZ 86323\, Chino Valley\, AZ\, 86323\, United States
ATTACH;FMTTYPE=image/webp:https://callchinovalleyhome.com/wp-content/uploads/2024/06/Chino-Valley-Library-STEAM-Workshops.webp
ORGANIZER;CN="Rebecca Laurence":MAILTO:rlaurence@chinoaz.net
END:VEVENT
BEGIN:VEVENT
DTSTART;TZID=America/Los_Angeles:20241108T100000
DTEND;TZID=America/Los_Angeles:20241108T110000
DTSTAMP:20260425T083724
CREATED:20241016T200043Z
LAST-MODIFIED:20241016T201829Z
UID:10004620-1731060000-1731063600@callchinovalleyhome.com
SUMMARY:Chino Valley Library Weekly Storytimes
DESCRIPTION:Themed stories\, songs\, games\, snack (and craft for big kids) each week \nIndoors \nTuesday 10am (0-3 yrs) \nTuesday 10:30am (3-8yrs) \nOutdoors \nFridays 10am (0-3 yrs) \nFridays 10:30am (3-8yrs) \n**Fridays are identical to Tuesday\, except 11/1/24 will be Highlands Nature Center (outside) instead\, and 11/22/24 will have a magic show instead. We will have some child-appropriate holiday themes throughout the season.
URL:https://callchinovalleyhome.com/event/chino-valley-library-weekly-storytimes-4-2/2024-11-08/
LOCATION:Chino Valley Public Library\, 1020 W Palomino Rd Chino Valley\, AZ 86323\, Chino Valley\, AZ\, 86323\, United States
ATTACH;FMTTYPE=image/webp:https://callchinovalleyhome.com/wp-content/uploads/2024/07/Chino-Valley-Local-Author-Storytime.webp
ORGANIZER;CN="Rebecca Laurence":MAILTO:rlaurence@chinoaz.net
END:VEVENT
BEGIN:VEVENT
DTSTART;TZID=America/Los_Angeles:20241107T160000
DTEND;TZID=America/Los_Angeles:20241107T190000
DTSTAMP:20260425T083724
CREATED:20240926T050357Z
LAST-MODIFIED:20240926T050357Z
UID:10004606-1730995200-1731006000@callchinovalleyhome.com
SUMMARY:Thanksgiving Craft
DESCRIPTION:Join us November 7th for a FREE Thanksgiving Craft \nChildren 10 and under must be accompanied by an adult.
URL:https://callchinovalleyhome.com/event/thanksgiving-craft/
LOCATION:Chino Valley Community Center\, 1527 N Road 1 East Chino Valley\, AZ 86323\, Chino Valley\, AZ\, 86323\, United States
ATTACH;FMTTYPE=image/webp:https://callchinovalleyhome.com/wp-content/uploads/2024/09/Thanksgiving-Craft.webp
END:VEVENT
BEGIN:VEVENT
DTSTART;TZID=America/Los_Angeles:20241107T151500
DTEND;TZID=America/Los_Angeles:20241107T161500
DTSTAMP:20260425T083724
CREATED:20240611T173741Z
LAST-MODIFIED:20241112T041118Z
UID:10004693-1730992500-1730996100@callchinovalleyhome.com
SUMMARY:Pet Partners
DESCRIPTION:Practice your developing reading skills by reading to a friendly therapy dog and handler! Perfect for young students but all readers are welcome. You can also pet the dogs. Great for those involved in the Summer Reading Program…track your reading while you’re here ;) Dogs may be in children’s area or in community room (if we need more room or quieter area.)
URL:https://callchinovalleyhome.com/event/pet-partners-4/2024-11-07/
LOCATION:Chino Valley Public Library\, 1020 W Palomino Rd Chino Valley\, AZ 86323\, Chino Valley\, AZ\, 86323\, United States
ATTACH;FMTTYPE=image/webp:https://callchinovalleyhome.com/wp-content/uploads/2024/06/Chino-Valley-Library-Paws-for-Friendship.webp
ORGANIZER;CN="Rebecca Laurence":MAILTO:rlaurence@chinoaz.net
END:VEVENT
BEGIN:VEVENT
DTSTART;TZID=America/Los_Angeles:20241105T170000
DTEND;TZID=America/Los_Angeles:20241105T183000
DTSTAMP:20260425T083724
CREATED:20241016T205910Z
LAST-MODIFIED:20241016T205910Z
UID:10004642-1730826000-1730831400@callchinovalleyhome.com
SUMMARY:Business After Hours Mixer
DESCRIPTION:Please join us on 11/5 at the American Legion Post 40 from 5p-6:30p \nBring your “I Voted” Sticker for a $.76 domestic beer! \n$50/$50 drawing to benefit our 2025 CVHS Scholarship Fund Door Prizes and Raffles. \nPlease also bring any tattered American Flags for proper retirement.
URL:https://callchinovalleyhome.com/event/business-after-hours-mixer/
LOCATION:American Legion Post 40\, East Road 3 South\, Chino Valley\, AZ\, 86323\, United States
ATTACH;FMTTYPE=image/webp:https://callchinovalleyhome.com/wp-content/uploads/2024/10/Chino-Valley-Business-After-Hours-Mixer.webp
GEO:34.7240832;-112.4530151
X-APPLE-STRUCTURED-LOCATION;VALUE=URI;X-ADDRESS=American Legion Post 40 East Road 3 South Chino Valley AZ 86323 United States;X-APPLE-RADIUS=500;X-TITLE=East Road 3 South:geo:-112.4530151,34.7240832
END:VEVENT
BEGIN:VEVENT
DTSTART;TZID=America/Los_Angeles:20241105T150000
DTEND;TZID=America/Los_Angeles:20241105T170000
DTSTAMP:20260425T083724
CREATED:20240724T171807Z
LAST-MODIFIED:20240724T171809Z
UID:10003991-1730818800-1730826000@callchinovalleyhome.com
SUMMARY:Lego Club
DESCRIPTION:Come afterschool to build something fun! Great for Elementary and Middle School ages. (If you child is under 5yrs\, please supervise them). \nDrop in\, drop out. Ok to arrive late or leave early.
URL:https://callchinovalleyhome.com/event/lego-club-5-2/2024-11-05/
LOCATION:Chino Valley Public Library\, 1020 W Palomino Rd Chino Valley\, AZ 86323\, Chino Valley\, AZ\, 86323\, United States
ATTACH;FMTTYPE=image/webp:https://callchinovalleyhome.com/wp-content/uploads/2024/06/Chino-Valley-Library-Lego-Event.webp
ORGANIZER;CN="Rebecca Laurence":MAILTO:rlaurence@chinoaz.net
END:VEVENT
BEGIN:VEVENT
DTSTART;TZID=America/Los_Angeles:20241105T100000
DTEND;TZID=America/Los_Angeles:20241105T110000
DTSTAMP:20260425T083724
CREATED:20241016T195842Z
LAST-MODIFIED:20241016T201941Z
UID:10004628-1730800800-1730804400@callchinovalleyhome.com
SUMMARY:Chino Valley Library Weekly Storytimes
DESCRIPTION:Themed stories\, songs\, games\, snack (and craft for big kids) each week \nIndoors \nTuesday 10am (0-3 yrs) \nTuesday 10:30am (3-8yrs) \nOutdoors \nFridays 10am (0-3 yrs) \nFridays 10:30am (3-8yrs) \n**Fridays are identical to Tuesday\, except 11/1/24 will be Highlands Nature Center (outside) instead\, and 11/22/24 will have a magic show instead. We will have some child-appropriate holiday themes throughout the season.
URL:https://callchinovalleyhome.com/event/chino-valley-library-weekly-storytimes-2-2/2024-11-05/
LOCATION:Chino Valley Public Library\, 1020 W Palomino Rd Chino Valley\, AZ 86323\, Chino Valley\, AZ\, 86323\, United States
ATTACH;FMTTYPE=image/webp:https://callchinovalleyhome.com/wp-content/uploads/2024/07/Chino-Valley-Local-Author-Storytime.webp
ORGANIZER;CN="Rebecca Laurence":MAILTO:rlaurence@chinoaz.net
END:VEVENT
BEGIN:VEVENT
DTSTART;TZID=America/Los_Angeles:20241104T150000
DTEND;TZID=America/Los_Angeles:20241104T180000
DTSTAMP:20260425T083724
CREATED:20240510T182131Z
LAST-MODIFIED:20250113T050929Z
UID:10000365-1730732400-1730743200@callchinovalleyhome.com
SUMMARY:Chess Group
DESCRIPTION:
URL:https://callchinovalleyhome.com/event/chess-group-5/2024-11-04/
LOCATION:Chino Valley Public Library\, 1020 W Palomino Rd Chino Valley\, AZ 86323\, Chino Valley\, AZ\, 86323\, United States
ATTACH;FMTTYPE=image/jpeg:https://callchinovalleyhome.com/wp-content/uploads/2024/05/Chino-Valley-Public-Library.jpg
ORGANIZER;CN="Rebecca Laurence":MAILTO:rlaurence@chinoaz.net
END:VEVENT
END:VCALENDAR