BEGIN:VCALENDAR
VERSION:2.0
PRODID:-//Call Chino Valley Home - ECPv6.15.20//NONSGML v1.0//EN
CALSCALE:GREGORIAN
METHOD:PUBLISH
X-WR-CALNAME:Call Chino Valley Home
X-ORIGINAL-URL:https://callchinovalleyhome.com
X-WR-CALDESC:Events for Call Chino Valley Home
REFRESH-INTERVAL;VALUE=DURATION:PT1H
X-Robots-Tag:noindex
X-PUBLISHED-TTL:PT1H
BEGIN:VTIMEZONE
TZID:America/Los_Angeles
BEGIN:DAYLIGHT
TZOFFSETFROM:-0800
TZOFFSETTO:-0700
TZNAME:PDT
DTSTART:20230312T100000
END:DAYLIGHT
BEGIN:STANDARD
TZOFFSETFROM:-0700
TZOFFSETTO:-0800
TZNAME:PST
DTSTART:20231105T090000
END:STANDARD
BEGIN:DAYLIGHT
TZOFFSETFROM:-0800
TZOFFSETTO:-0700
TZNAME:PDT
DTSTART:20240310T100000
END:DAYLIGHT
BEGIN:STANDARD
TZOFFSETFROM:-0700
TZOFFSETTO:-0800
TZNAME:PST
DTSTART:20241103T090000
END:STANDARD
BEGIN:DAYLIGHT
TZOFFSETFROM:-0800
TZOFFSETTO:-0700
TZNAME:PDT
DTSTART:20250309T100000
END:DAYLIGHT
BEGIN:STANDARD
TZOFFSETFROM:-0700
TZOFFSETTO:-0800
TZNAME:PST
DTSTART:20251102T090000
END:STANDARD
END:VTIMEZONE
BEGIN:VEVENT
DTSTART;TZID=America/Los_Angeles:20240910T150000
DTEND;TZID=America/Los_Angeles:20240910T170000
DTSTAMP:20260425T152449
CREATED:20240724T171807Z
LAST-MODIFIED:20240724T171809Z
UID:10003983-1725980400-1725987600@callchinovalleyhome.com
SUMMARY:Lego Club
DESCRIPTION:Come afterschool to build something fun! Great for Elementary and Middle School ages. (If you child is under 5yrs\, please supervise them). \nDrop in\, drop out. Ok to arrive late or leave early.
URL:https://callchinovalleyhome.com/event/lego-club-5-2/2024-09-10/
LOCATION:Chino Valley Public Library\, 1020 W Palomino Rd Chino Valley\, AZ 86323\, Chino Valley\, AZ\, 86323\, United States
ATTACH;FMTTYPE=image/webp:https://callchinovalleyhome.com/wp-content/uploads/2024/06/Chino-Valley-Library-Lego-Event.webp
ORGANIZER;CN="Rebecca Laurence":MAILTO:rlaurence@chinoaz.net
END:VEVENT
BEGIN:VEVENT
DTSTART;TZID=America/Los_Angeles:20240910T100000
DTEND;TZID=America/Los_Angeles:20240910T110000
DTSTAMP:20260425T152449
CREATED:20240724T171047Z
LAST-MODIFIED:20240724T171047Z
UID:10003942-1725962400-1725966000@callchinovalleyhome.com
SUMMARY:Chino Valley Library Weekly Storytimes
DESCRIPTION:Themed stories\, songs\, games\, snack (and craft for big kids) each week \nIndoors \nTuesday 10am (0-3 yrs) \nTuesday 10:30am (3-8yrs) \nOutdoors \nFridays 10am (0-3 yrs) \nFridays 10:30am (3-8yrs) \n**Fridays are identical to Tuesday\, only it’s held outside. In late October or so we will move indoors on Fridays \n***No Storytime Septembers 17 and September 20
URL:https://callchinovalleyhome.com/event/chino-valley-library-weekly-storytimes/2024-09-10/
LOCATION:Chino Valley Public Library\, 1020 W Palomino Rd Chino Valley\, AZ 86323\, Chino Valley\, AZ\, 86323\, United States
ATTACH;FMTTYPE=image/webp:https://callchinovalleyhome.com/wp-content/uploads/2024/07/Chino-Valley-Local-Author-Storytime.webp
ORGANIZER;CN="Rebecca Laurence":MAILTO:rlaurence@chinoaz.net
END:VEVENT
BEGIN:VEVENT
DTSTART;TZID=America/Los_Angeles:20240909T150000
DTEND;TZID=America/Los_Angeles:20240909T180000
DTSTAMP:20260425T152449
CREATED:20240510T182131Z
LAST-MODIFIED:20250113T050929Z
UID:10000357-1725894000-1725904800@callchinovalleyhome.com
SUMMARY:Chess Group
DESCRIPTION:
URL:https://callchinovalleyhome.com/event/chess-group-5/2024-09-09/
LOCATION:Chino Valley Public Library\, 1020 W Palomino Rd Chino Valley\, AZ 86323\, Chino Valley\, AZ\, 86323\, United States
ATTACH;FMTTYPE=image/jpeg:https://callchinovalleyhome.com/wp-content/uploads/2024/05/Chino-Valley-Public-Library.jpg
ORGANIZER;CN="Rebecca Laurence":MAILTO:rlaurence@chinoaz.net
END:VEVENT
BEGIN:VEVENT
DTSTART;TZID=America/Los_Angeles:20240907T090000
DTEND;TZID=America/Los_Angeles:20240907T120000
DTSTAMP:20260425T152449
CREATED:20240611T181450Z
LAST-MODIFIED:20240611T181450Z
UID:10003839-1725699600-1725710400@callchinovalleyhome.com
SUMMARY:Chino Valley Territorial Days Parade
DESCRIPTION:Join us for our 37th Annual Territorial Days Parade!
URL:https://callchinovalleyhome.com/event/chino-valley-territorial-days-parade-2/
LOCATION:Heritage Middle School Health Office\, Heritage Middle School Health Office 1076 N Road 1 W Chino Valley\, AZ 86323\, Chino Valley\, AZ\, 86323\, United States
ATTACH;FMTTYPE=image/webp:https://callchinovalleyhome.com/wp-content/uploads/2024/06/Chino-Valley-Territorial-Days.webp
END:VEVENT
BEGIN:VEVENT
DTSTART;TZID=America/Los_Angeles:20240907T080000
DTEND;TZID=America/Los_Angeles:20240907T120000
DTSTAMP:20260425T152449
CREATED:20240905T054942Z
LAST-MODIFIED:20240905T054942Z
UID:10004529-1725696000-1725710400@callchinovalleyhome.com
SUMMARY:Chino Valley Olsen's Events Team Roping
DESCRIPTION:Books Open at 8:00 am \nRoping starts at 8:30am \nMust have current Global Handicap Number
URL:https://callchinovalleyhome.com/event/chino-valley-olsens-events-team-roping/
LOCATION:Olsen’s Events\, 344 S Hwy 89 Chino Valley\, AZ\, 86323\, Chino Valley\, AZ\, 86323\, United States
ATTACH;FMTTYPE=image/webp:https://callchinovalleyhome.com/wp-content/uploads/2024/09/Chino-Valley-Olsen-Events-Team-Roping.webp
END:VEVENT
BEGIN:VEVENT
DTSTART;TZID=America/Los_Angeles:20240906T160000
DTEND;TZID=America/Los_Angeles:20240906T210000
DTSTAMP:20260425T152449
CREATED:20240820T055138Z
LAST-MODIFIED:20241230T200717Z
UID:10004269-1725638400-1725656400@callchinovalleyhome.com
SUMMARY:Olsen's Events Mounted Shooting Practice
DESCRIPTION:Every Friday Beginning August 30th \n$20/person \nBeginners Welcome
URL:https://callchinovalleyhome.com/event/olsens-events-mounted-shooting-practice/2024-09-06/
LOCATION:Olsen’s Events\, 344 S Hwy 89 Chino Valley\, AZ\, 86323\, Chino Valley\, AZ\, 86323\, United States
ATTACH;FMTTYPE=image/webp:https://callchinovalleyhome.com/wp-content/uploads/2024/08/Chino-Valley-Olsens-Events-Mounted-Shooting-Practice.webp
END:VEVENT
BEGIN:VEVENT
DTSTART;TZID=America/Los_Angeles:20240906T100000
DTEND;TZID=America/Los_Angeles:20240906T110000
DTSTAMP:20260425T152449
CREATED:20240724T171301Z
LAST-MODIFIED:20240724T171301Z
UID:10003965-1725616800-1725620400@callchinovalleyhome.com
SUMMARY:Chino Valley Library Weekly Storytimes
DESCRIPTION:Themed stories\, songs\, games\, snack (and craft for big kids) each week \nIndoors \nTuesday 10am (0-3 yrs) \nTuesday 10:30am (3-8yrs) \nOutdoors \nFridays 10am (0-3 yrs) \nFridays 10:30am (3-8yrs) \n**Fridays are identical to Tuesday\, only it’s held outside. In late October or so we will move indoors on Fridays \n***No Storytime Septembers 17 and September 20
URL:https://callchinovalleyhome.com/event/chino-valley-library-weekly-storytimes-3/2024-09-06/
LOCATION:Chino Valley Public Library\, 1020 W Palomino Rd Chino Valley\, AZ 86323\, Chino Valley\, AZ\, 86323\, United States
ATTACH;FMTTYPE=image/webp:https://callchinovalleyhome.com/wp-content/uploads/2024/07/Chino-Valley-Local-Author-Storytime.webp
ORGANIZER;CN="Rebecca Laurence":MAILTO:rlaurence@chinoaz.net
END:VEVENT
BEGIN:VEVENT
DTSTART;TZID=America/Los_Angeles:20240905T151500
DTEND;TZID=America/Los_Angeles:20240905T161500
DTSTAMP:20260425T152449
CREATED:20240611T173741Z
LAST-MODIFIED:20241112T041118Z
UID:10004684-1725549300-1725552900@callchinovalleyhome.com
SUMMARY:Pet Partners
DESCRIPTION:Practice your developing reading skills by reading to a friendly therapy dog and handler! Perfect for young students but all readers are welcome. You can also pet the dogs. Great for those involved in the Summer Reading Program…track your reading while you’re here ;) Dogs may be in children’s area or in community room (if we need more room or quieter area.)
URL:https://callchinovalleyhome.com/event/pet-partners-4/2024-09-05/
LOCATION:Chino Valley Public Library\, 1020 W Palomino Rd Chino Valley\, AZ 86323\, Chino Valley\, AZ\, 86323\, United States
ATTACH;FMTTYPE=image/webp:https://callchinovalleyhome.com/wp-content/uploads/2024/06/Chino-Valley-Library-Paws-for-Friendship.webp
ORGANIZER;CN="Rebecca Laurence":MAILTO:rlaurence@chinoaz.net
END:VEVENT
BEGIN:VEVENT
DTSTART;TZID=America/Los_Angeles:20240905T150000
DTEND;TZID=America/Los_Angeles:20240905T190000
DTSTAMP:20260425T152449
CREATED:20240905T055920Z
LAST-MODIFIED:20240905T060004Z
UID:10004531-1725548400-1725562800@callchinovalleyhome.com
SUMMARY:Chino Valley Olsen Events Fall Series
DESCRIPTION:Fall Series \nThursday Night 4 Week Series \nOpen Arena 3-5 pm \nRace will begin at 5:30p \nBuckles to Winners in Open Barrels \nPeewee Barrels/Poles ($10) \nOpen Poles ($40) \nYouth Barrels ($40) \nOpen 4D Barrels ($50) \nNovice Barrels ($40) \nGreen Horse Barrels ($40)
URL:https://callchinovalleyhome.com/event/chino-valley-olsen-events-fall-series/2024-09-05/
LOCATION:Olsen’s Events\, 344 S Hwy 89 Chino Valley\, AZ\, 86323\, Chino Valley\, AZ\, 86323\, United States
ATTACH;FMTTYPE=image/webp:https://callchinovalleyhome.com/wp-content/uploads/2024/09/Chino-Valley-Olsen-Events-Fall-Series.webp
END:VEVENT
BEGIN:VEVENT
DTSTART;TZID=America/Los_Angeles:20240905T110000
DTEND;TZID=America/Los_Angeles:20240905T120000
DTSTAMP:20260425T152449
CREATED:20240820T052530Z
LAST-MODIFIED:20240820T052530Z
UID:10004261-1725534000-1725537600@callchinovalleyhome.com
SUMMARY:MATFORCE Message: Parenting the Love and Logic Way Series
DESCRIPTION:For more information and to reserve your FREE space today contact (928) 708-0100 or info@matforceaz.org. Registration deadline Friday\, August 23\, 2024. Help for the challenging times in parenting. • “How do I get them out of bed in time to catch the school bus?” • “How can I stop my children from bickering and fighting?” • “How do I get my children to help with the chores without an argument?” • “How can I get my teenage daughter to come home at the agreed-upon time?” • “How do I talk to my children about drugs?” • And many other day-to-day parenting challenges…
URL:https://callchinovalleyhome.com/event/matforce-message-parenting-the-love-and-logic-way-series/2024-09-05/
LOCATION:Virtual
ATTACH;FMTTYPE=image/webp:https://callchinovalleyhome.com/wp-content/uploads/2024/08/Chino-Valley-Parenting-the-Love-and-Logic-Way.webp
END:VEVENT
BEGIN:VEVENT
DTSTART;TZID=America/Los_Angeles:20240903T150000
DTEND;TZID=America/Los_Angeles:20240903T170000
DTSTAMP:20260425T152449
CREATED:20240724T171807Z
LAST-MODIFIED:20240724T171809Z
UID:10003982-1725375600-1725382800@callchinovalleyhome.com
SUMMARY:Lego Club
DESCRIPTION:Come afterschool to build something fun! Great for Elementary and Middle School ages. (If you child is under 5yrs\, please supervise them). \nDrop in\, drop out. Ok to arrive late or leave early.
URL:https://callchinovalleyhome.com/event/lego-club-5-2/2024-09-03/
LOCATION:Chino Valley Public Library\, 1020 W Palomino Rd Chino Valley\, AZ 86323\, Chino Valley\, AZ\, 86323\, United States
ATTACH;FMTTYPE=image/webp:https://callchinovalleyhome.com/wp-content/uploads/2024/06/Chino-Valley-Library-Lego-Event.webp
ORGANIZER;CN="Rebecca Laurence":MAILTO:rlaurence@chinoaz.net
END:VEVENT
BEGIN:VEVENT
DTSTART;TZID=America/Los_Angeles:20240903T100000
DTEND;TZID=America/Los_Angeles:20240903T110000
DTSTAMP:20260425T152449
CREATED:20240724T171047Z
LAST-MODIFIED:20240724T171047Z
UID:10003941-1725357600-1725361200@callchinovalleyhome.com
SUMMARY:Chino Valley Library Weekly Storytimes
DESCRIPTION:Themed stories\, songs\, games\, snack (and craft for big kids) each week \nIndoors \nTuesday 10am (0-3 yrs) \nTuesday 10:30am (3-8yrs) \nOutdoors \nFridays 10am (0-3 yrs) \nFridays 10:30am (3-8yrs) \n**Fridays are identical to Tuesday\, only it’s held outside. In late October or so we will move indoors on Fridays \n***No Storytime Septembers 17 and September 20
URL:https://callchinovalleyhome.com/event/chino-valley-library-weekly-storytimes/2024-09-03/
LOCATION:Chino Valley Public Library\, 1020 W Palomino Rd Chino Valley\, AZ 86323\, Chino Valley\, AZ\, 86323\, United States
ATTACH;FMTTYPE=image/webp:https://callchinovalleyhome.com/wp-content/uploads/2024/07/Chino-Valley-Local-Author-Storytime.webp
ORGANIZER;CN="Rebecca Laurence":MAILTO:rlaurence@chinoaz.net
END:VEVENT
BEGIN:VEVENT
DTSTART;TZID=America/Los_Angeles:20240901T183000
DTEND;TZID=America/Los_Angeles:20240901T220000
DTSTAMP:20260425T152449
CREATED:20240724T180338Z
LAST-MODIFIED:20240724T180338Z
UID:10004245-1725215400-1725228000@callchinovalleyhome.com
SUMMARY:Chino Valley Territorial Days Drive-In Fireworks
DESCRIPTION:Grab your friends and family and join us for our grand finale to Territorial Days! Concessions available! Gates open at 6:30pm. Fireworks start after dark.
URL:https://callchinovalleyhome.com/event/chino-valley-territorial-days-drive-in-fireworks/
LOCATION:Old Home Manor\, Corner of E Perkinsville Road & Old Home Manor Drive\, Chino Valley\, AZ\, 86323
ATTACH;FMTTYPE=image/webp:https://callchinovalleyhome.com/wp-content/uploads/2024/07/Chino-Valley-Territorial-Days-Drive-In-Fireworks.webp
GEO:34.7748077;-112.4122706
X-APPLE-STRUCTURED-LOCATION;VALUE=URI;X-ADDRESS=Old Home Manor Corner of E Perkinsville Road & Old Home Manor Drive Chino Valley AZ 86323;X-APPLE-RADIUS=500;X-TITLE=Corner of E Perkinsville Road & Old Home Manor Drive:geo:-112.4122706,34.7748077
END:VEVENT
BEGIN:VEVENT
DTSTART;TZID=America/Los_Angeles:20240901T150000
DTEND;TZID=America/Los_Angeles:20240901T210000
DTSTAMP:20260425T152449
CREATED:20240724T180636Z
LAST-MODIFIED:20240724T180636Z
UID:10004246-1725202800-1725224400@callchinovalleyhome.com
SUMMARY:Chino Valley Territorial Days - Free Swim
DESCRIPTION:End the summer with a splash! Enjoy free swim at the pool September 1st 3pm-9pm
URL:https://callchinovalleyhome.com/event/chino-valley-territorial-days-free-swim/
LOCATION:Chino Valley Aquatic Center\, 1204 W Center Street\, Chino Valley\, 86323
ATTACH;FMTTYPE=image/webp:https://callchinovalleyhome.com/wp-content/uploads/2024/07/Chino-Valley-Territorial-Days-Free-Swim.webp
GEO:34.7462436;-112.4688968
X-APPLE-STRUCTURED-LOCATION;VALUE=URI;X-ADDRESS=Chino Valley Aquatic Center 1204 W Center Street Chino Valley 86323;X-APPLE-RADIUS=500;X-TITLE=1204 W Center Street:geo:-112.4688968,34.7462436
END:VEVENT
BEGIN:VEVENT
DTSTART;TZID=America/Los_Angeles:20240901T100000
DTEND;TZID=America/Los_Angeles:20240901T170000
DTSTAMP:20260425T152449
CREATED:20240611T181138Z
LAST-MODIFIED:20240611T181726Z
UID:10003105-1725184800-1725210000@callchinovalleyhome.com
SUMMARY:Chino Valley Territorial Days
DESCRIPTION:Join us for our 37th Annual Territorial Days!
URL:https://callchinovalleyhome.com/event/chino-valley-territorial-days/2024-09-01/
LOCATION:Memory Park in Chino Valley\, Palomino Road and N Road 1 West\, AZ\, United States
ATTACH;FMTTYPE=image/webp:https://callchinovalleyhome.com/wp-content/uploads/2024/06/Chino-Valley-Territorial-Days.webp
ORGANIZER;CN="Town of Chino Valley Development Services":MAILTO:codeenforcement@chinoaz.net
END:VEVENT
BEGIN:VEVENT
DTSTART;TZID=America/Los_Angeles:20240901T090000
DTEND;TZID=America/Los_Angeles:20240901T130000
DTSTAMP:20260425T152449
CREATED:20240724T181229Z
LAST-MODIFIED:20240724T181229Z
UID:10004248-1725181200-1725195600@callchinovalleyhome.com
SUMMARY:Chino Valley Territorial Days - Car Show
DESCRIPTION:All Proceeds Go to Fund First Responder and Military Memorials \nPre 1975 Cars & Trucks \nMultiple Classes and Awards
URL:https://callchinovalleyhome.com/event/chino-valley-territorial-days-car-show/
LOCATION:Chino Valley Aquatic Center\, 1204 W Center Street\, Chino Valley\, 86323
ATTACH;FMTTYPE=image/webp:https://callchinovalleyhome.com/wp-content/uploads/2024/07/Chino-Valley-Territorial-Days-Car-Show.webp
ORGANIZER;CN="Chino Valley Memorial Foundation":MAILTO:cvmemorialfund@gmail.com
GEO:34.7462436;-112.4688968
X-APPLE-STRUCTURED-LOCATION;VALUE=URI;X-ADDRESS=Chino Valley Aquatic Center 1204 W Center Street Chino Valley 86323;X-APPLE-RADIUS=500;X-TITLE=1204 W Center Street:geo:-112.4688968,34.7462436
END:VEVENT
BEGIN:VEVENT
DTSTART;TZID=America/Los_Angeles:20240831T150000
DTEND;TZID=America/Los_Angeles:20240831T190000
DTSTAMP:20260425T152449
CREATED:20240808T221851Z
LAST-MODIFIED:20240808T221851Z
UID:10004250-1725116400-1725130800@callchinovalleyhome.com
SUMMARY:74th Annual Chino Valley FFA Corn Dinner
DESCRIPTION:Come join us for the 74th Annual Chino Valley FFA Corn Dinner\, where we’ll feast on delicious corn and celebrate our FFA community together!
URL:https://callchinovalleyhome.com/event/74th-annual-chino-valley-ffa-corn-dinner/
LOCATION:Del Rio Elementary School\, 1036 North Road 1 West Chino Valley\, AZ 86323\, Chino Valley\, AZ\, 86323\, United States
ATTACH;FMTTYPE=image/webp:https://callchinovalleyhome.com/wp-content/uploads/2024/08/Chino-Valley-FFA-Corn-Dinner.webp
END:VEVENT
BEGIN:VEVENT
DTSTART;TZID=America/Los_Angeles:20240831T100000
DTEND;TZID=America/Los_Angeles:20240831T170000
DTSTAMP:20260425T152449
CREATED:20240611T181138Z
LAST-MODIFIED:20240611T181726Z
UID:10003104-1725098400-1725123600@callchinovalleyhome.com
SUMMARY:Chino Valley Territorial Days
DESCRIPTION:Join us for our 37th Annual Territorial Days!
URL:https://callchinovalleyhome.com/event/chino-valley-territorial-days/2024-08-31/
LOCATION:Memory Park in Chino Valley\, Palomino Road and N Road 1 West\, AZ\, United States
ATTACH;FMTTYPE=image/webp:https://callchinovalleyhome.com/wp-content/uploads/2024/06/Chino-Valley-Territorial-Days.webp
ORGANIZER;CN="Town of Chino Valley Development Services":MAILTO:codeenforcement@chinoaz.net
END:VEVENT
BEGIN:VEVENT
DTSTART;TZID=America/Los_Angeles:20240831T071500
DTEND;TZID=America/Los_Angeles:20240831T091500
DTSTAMP:20260425T152449
CREATED:20240820T051008Z
LAST-MODIFIED:20240820T051008Z
UID:10004258-1725088500-1725095700@callchinovalleyhome.com
SUMMARY:25th Annual Territorial Days 10K & 2 Mile Race
DESCRIPTION:The Territorial Days 10k\, 5k\, & 2 Mile Fun Run / Walk is a fundraiser for the Chino Valley High School Cross Country team. All entrants will receive a t-shirt and there will be awards for entrants who finish in the top 3 in their age group. \nThere WILL be aid stations AND an award ceremony. \nThe 10k will start at 7:15am. The 2 mile will start at 7:20am. \nWe are also going to do a Virtual race. There is a 5k  distance available. Shirts will be mailed out after results are tabulated. Send your results via link or screenshot from Strava or any other running app to mmetz@chinovalleyschools.com. \nYou can view the course map here: https://drive.google.com/file/d/1xGoJecht2kb-9jK5uHbMRLTByVcSfKE6/view?usp=sharing \nIf you want to make a donation to the Chino Valley Cross Country team and not run\, you may do so. \nWe are new at a virtual race\, so please be patient and email if you have any questions. Thank you!
URL:https://callchinovalleyhome.com/event/25th-annual-territorial-days-10k-2-mile-race/
LOCATION:Memory Park in Chino Valley\, Palomino Road and N Road 1 West\, AZ\, United States
ATTACH;FMTTYPE=image/webp:https://callchinovalleyhome.com/wp-content/uploads/2024/08/Chino-Valley-Territorial-Days-10K-5K.webp
END:VEVENT
BEGIN:VEVENT
DTSTART;TZID=America/Los_Angeles:20240830T180000
DTEND;TZID=America/Los_Angeles:20240830T210000
DTSTAMP:20260425T152449
CREATED:20240808T223031Z
LAST-MODIFIED:20240808T223031Z
UID:10004253-1725040800-1725051600@callchinovalleyhome.com
SUMMARY:Chino Valley Movie in the Park - American Tail
DESCRIPTION:Territorial Days Movie in the Park \nJoin us with your friends and family for a night of fun under the stars. \nMovie starts when it gets dark
URL:https://callchinovalleyhome.com/event/chino-valley-movie-in-the-park-american-tail/
LOCATION:Memory Park in Chino Valley\, Palomino Road and N Road 1 West\, AZ\, United States
ATTACH;FMTTYPE=image/webp:https://callchinovalleyhome.com/wp-content/uploads/2024/08/Chino-Valley-Movie-in-Park-American-Tail.webp
END:VEVENT
BEGIN:VEVENT
DTSTART;TZID=America/Los_Angeles:20240830T160000
DTEND;TZID=America/Los_Angeles:20240830T210000
DTSTAMP:20260425T152449
CREATED:20240820T055138Z
LAST-MODIFIED:20241230T200717Z
UID:10004268-1725033600-1725051600@callchinovalleyhome.com
SUMMARY:Olsen's Events Mounted Shooting Practice
DESCRIPTION:Every Friday Beginning August 30th \n$20/person \nBeginners Welcome
URL:https://callchinovalleyhome.com/event/olsens-events-mounted-shooting-practice/2024-08-30/
LOCATION:Olsen’s Events\, 344 S Hwy 89 Chino Valley\, AZ\, 86323\, Chino Valley\, AZ\, 86323\, United States
ATTACH;FMTTYPE=image/webp:https://callchinovalleyhome.com/wp-content/uploads/2024/08/Chino-Valley-Olsens-Events-Mounted-Shooting-Practice.webp
END:VEVENT
BEGIN:VEVENT
DTSTART;TZID=America/Los_Angeles:20240830T140000
DTEND;TZID=America/Los_Angeles:20240830T150000
DTSTAMP:20260425T152449
CREATED:20240724T173145Z
LAST-MODIFIED:20240724T173145Z
UID:10004243-1725026400-1725030000@callchinovalleyhome.com
SUMMARY:Arizona Myths & Facts
DESCRIPTION:Join Spirit of Arizona Tours presenter Jarrod Riddle with AZ Myths and Facts Presentation for all ages\, just in time for Territorial Days! Learn all about interesting Wild West legends and truth.
URL:https://callchinovalleyhome.com/event/arizona-myths-facts/
LOCATION:Chino Valley Public Library\, 1020 W Palomino Rd Chino Valley\, AZ 86323\, Chino Valley\, AZ\, 86323\, United States
ATTACH;FMTTYPE=image/webp:https://callchinovalleyhome.com/wp-content/uploads/2024/07/Spirit-of-Arizona-Tours.webp
ORGANIZER;CN="Rebecca Laurence":MAILTO:rlaurence@chinoaz.net
END:VEVENT
BEGIN:VEVENT
DTSTART;TZID=America/Los_Angeles:20240830T100000
DTEND;TZID=America/Los_Angeles:20240830T170000
DTSTAMP:20260425T152449
CREATED:20240611T181138Z
LAST-MODIFIED:20240611T181726Z
UID:10003103-1725012000-1725037200@callchinovalleyhome.com
SUMMARY:Chino Valley Territorial Days
DESCRIPTION:Join us for our 37th Annual Territorial Days!
URL:https://callchinovalleyhome.com/event/chino-valley-territorial-days/2024-08-30/
LOCATION:Memory Park in Chino Valley\, Palomino Road and N Road 1 West\, AZ\, United States
ATTACH;FMTTYPE=image/webp:https://callchinovalleyhome.com/wp-content/uploads/2024/06/Chino-Valley-Territorial-Days.webp
ORGANIZER;CN="Town of Chino Valley Development Services":MAILTO:codeenforcement@chinoaz.net
END:VEVENT
BEGIN:VEVENT
DTSTART;TZID=America/Los_Angeles:20240830T100000
DTEND;TZID=America/Los_Angeles:20240830T110000
DTSTAMP:20260425T152449
CREATED:20240724T171301Z
LAST-MODIFIED:20240724T171301Z
UID:10003964-1725012000-1725015600@callchinovalleyhome.com
SUMMARY:Chino Valley Library Weekly Storytimes
DESCRIPTION:Themed stories\, songs\, games\, snack (and craft for big kids) each week \nIndoors \nTuesday 10am (0-3 yrs) \nTuesday 10:30am (3-8yrs) \nOutdoors \nFridays 10am (0-3 yrs) \nFridays 10:30am (3-8yrs) \n**Fridays are identical to Tuesday\, only it’s held outside. In late October or so we will move indoors on Fridays \n***No Storytime Septembers 17 and September 20
URL:https://callchinovalleyhome.com/event/chino-valley-library-weekly-storytimes-3/2024-08-30/
LOCATION:Chino Valley Public Library\, 1020 W Palomino Rd Chino Valley\, AZ 86323\, Chino Valley\, AZ\, 86323\, United States
ATTACH;FMTTYPE=image/webp:https://callchinovalleyhome.com/wp-content/uploads/2024/07/Chino-Valley-Local-Author-Storytime.webp
ORGANIZER;CN="Rebecca Laurence":MAILTO:rlaurence@chinoaz.net
END:VEVENT
BEGIN:VEVENT
DTSTART;TZID=America/Los_Angeles:20240829T151500
DTEND;TZID=America/Los_Angeles:20240829T161500
DTSTAMP:20260425T152449
CREATED:20240611T173741Z
LAST-MODIFIED:20241112T041118Z
UID:10004683-1724944500-1724948100@callchinovalleyhome.com
SUMMARY:Pet Partners
DESCRIPTION:Practice your developing reading skills by reading to a friendly therapy dog and handler! Perfect for young students but all readers are welcome. You can also pet the dogs. Great for those involved in the Summer Reading Program…track your reading while you’re here ;) Dogs may be in children’s area or in community room (if we need more room or quieter area.)
URL:https://callchinovalleyhome.com/event/pet-partners-4/2024-08-29/
LOCATION:Chino Valley Public Library\, 1020 W Palomino Rd Chino Valley\, AZ 86323\, Chino Valley\, AZ\, 86323\, United States
ATTACH;FMTTYPE=image/webp:https://callchinovalleyhome.com/wp-content/uploads/2024/06/Chino-Valley-Library-Paws-for-Friendship.webp
ORGANIZER;CN="Rebecca Laurence":MAILTO:rlaurence@chinoaz.net
END:VEVENT
BEGIN:VEVENT
DTSTART;TZID=America/Los_Angeles:20240829T110000
DTEND;TZID=America/Los_Angeles:20240829T120000
DTSTAMP:20260425T152449
CREATED:20240820T052530Z
LAST-MODIFIED:20240820T052530Z
UID:10004260-1724929200-1724932800@callchinovalleyhome.com
SUMMARY:MATFORCE Message: Parenting the Love and Logic Way Series
DESCRIPTION:For more information and to reserve your FREE space today contact (928) 708-0100 or info@matforceaz.org. Registration deadline Friday\, August 23\, 2024. Help for the challenging times in parenting. • “How do I get them out of bed in time to catch the school bus?” • “How can I stop my children from bickering and fighting?” • “How do I get my children to help with the chores without an argument?” • “How can I get my teenage daughter to come home at the agreed-upon time?” • “How do I talk to my children about drugs?” • And many other day-to-day parenting challenges…
URL:https://callchinovalleyhome.com/event/matforce-message-parenting-the-love-and-logic-way-series/2024-08-29/
LOCATION:Virtual
ATTACH;FMTTYPE=image/webp:https://callchinovalleyhome.com/wp-content/uploads/2024/08/Chino-Valley-Parenting-the-Love-and-Logic-Way.webp
END:VEVENT
BEGIN:VEVENT
DTSTART;TZID=America/Los_Angeles:20240827T150000
DTEND;TZID=America/Los_Angeles:20240827T170000
DTSTAMP:20260425T152449
CREATED:20240724T171807Z
LAST-MODIFIED:20240724T171809Z
UID:10003981-1724770800-1724778000@callchinovalleyhome.com
SUMMARY:Lego Club
DESCRIPTION:Come afterschool to build something fun! Great for Elementary and Middle School ages. (If you child is under 5yrs\, please supervise them). \nDrop in\, drop out. Ok to arrive late or leave early.
URL:https://callchinovalleyhome.com/event/lego-club-5-2/2024-08-27/
LOCATION:Chino Valley Public Library\, 1020 W Palomino Rd Chino Valley\, AZ 86323\, Chino Valley\, AZ\, 86323\, United States
ATTACH;FMTTYPE=image/webp:https://callchinovalleyhome.com/wp-content/uploads/2024/06/Chino-Valley-Library-Lego-Event.webp
ORGANIZER;CN="Rebecca Laurence":MAILTO:rlaurence@chinoaz.net
END:VEVENT
BEGIN:VEVENT
DTSTART;TZID=America/Los_Angeles:20240827T100000
DTEND;TZID=America/Los_Angeles:20240827T110000
DTSTAMP:20260425T152449
CREATED:20240724T171047Z
LAST-MODIFIED:20240724T171047Z
UID:10003940-1724752800-1724756400@callchinovalleyhome.com
SUMMARY:Chino Valley Library Weekly Storytimes
DESCRIPTION:Themed stories\, songs\, games\, snack (and craft for big kids) each week \nIndoors \nTuesday 10am (0-3 yrs) \nTuesday 10:30am (3-8yrs) \nOutdoors \nFridays 10am (0-3 yrs) \nFridays 10:30am (3-8yrs) \n**Fridays are identical to Tuesday\, only it’s held outside. In late October or so we will move indoors on Fridays \n***No Storytime Septembers 17 and September 20
URL:https://callchinovalleyhome.com/event/chino-valley-library-weekly-storytimes/2024-08-27/
LOCATION:Chino Valley Public Library\, 1020 W Palomino Rd Chino Valley\, AZ 86323\, Chino Valley\, AZ\, 86323\, United States
ATTACH;FMTTYPE=image/webp:https://callchinovalleyhome.com/wp-content/uploads/2024/07/Chino-Valley-Local-Author-Storytime.webp
ORGANIZER;CN="Rebecca Laurence":MAILTO:rlaurence@chinoaz.net
END:VEVENT
BEGIN:VEVENT
DTSTART;TZID=America/Los_Angeles:20240826T150000
DTEND;TZID=America/Los_Angeles:20240826T180000
DTSTAMP:20260425T152449
CREATED:20240510T182131Z
LAST-MODIFIED:20250113T050929Z
UID:10000356-1724684400-1724695200@callchinovalleyhome.com
SUMMARY:Chess Group
DESCRIPTION:
URL:https://callchinovalleyhome.com/event/chess-group-5/2024-08-26/
LOCATION:Chino Valley Public Library\, 1020 W Palomino Rd Chino Valley\, AZ 86323\, Chino Valley\, AZ\, 86323\, United States
ATTACH;FMTTYPE=image/jpeg:https://callchinovalleyhome.com/wp-content/uploads/2024/05/Chino-Valley-Public-Library.jpg
ORGANIZER;CN="Rebecca Laurence":MAILTO:rlaurence@chinoaz.net
END:VEVENT
BEGIN:VEVENT
DTSTART;TZID=America/Los_Angeles:20240823T173000
DTEND;TZID=America/Los_Angeles:20240823T193000
DTSTAMP:20260425T152449
CREATED:20240724T174245Z
LAST-MODIFIED:20240724T174245Z
UID:10004244-1724434200-1724441400@callchinovalleyhome.com
SUMMARY:Barrel Race/Dirt Bike Extravaganza
DESCRIPTION:Save the date and find your partner!!Barrel race and dirt bike extravaganza!(Dirt bikers will run the same pattern)Combined time will place you in a 4DBarrel racers will run first $40 EFDirt bikes to follow $20 EF. Dirt bikes can run with multiple partners ($20 each run)No barrels down! We will use bobble barrels!!!5:30 pm Friday\, August 23rdMore information to come! Please share!Call or text Shyan to enter! 928-202-2003 (text is preferred for entries\, I need both rider’s names). Payments are due before the race begins!!!If you don’t have a partner\, we can help you find one!
URL:https://callchinovalleyhome.com/event/barrel-race-dirt-bike-extravaganza/
LOCATION:Olsen’s Events\, 344 S Hwy 89 Chino Valley\, AZ\, 86323\, Chino Valley\, AZ\, 86323\, United States
ATTACH;FMTTYPE=image/webp:https://callchinovalleyhome.com/wp-content/uploads/2024/07/Olsens-Events-Barrel-Race-Dirt-Bike-Extravaganza.webp
END:VEVENT
END:VCALENDAR