BEGIN:VCALENDAR
VERSION:2.0
PRODID:-//Call Chino Valley Home - ECPv6.15.20//NONSGML v1.0//EN
CALSCALE:GREGORIAN
METHOD:PUBLISH
X-WR-CALNAME:Call Chino Valley Home
X-ORIGINAL-URL:https://callchinovalleyhome.com
X-WR-CALDESC:Events for Call Chino Valley Home
REFRESH-INTERVAL;VALUE=DURATION:PT1H
X-Robots-Tag:noindex
X-PUBLISHED-TTL:PT1H
BEGIN:VTIMEZONE
TZID:America/Los_Angeles
BEGIN:DAYLIGHT
TZOFFSETFROM:-0800
TZOFFSETTO:-0700
TZNAME:PDT
DTSTART:20230312T100000
END:DAYLIGHT
BEGIN:STANDARD
TZOFFSETFROM:-0700
TZOFFSETTO:-0800
TZNAME:PST
DTSTART:20231105T090000
END:STANDARD
BEGIN:DAYLIGHT
TZOFFSETFROM:-0800
TZOFFSETTO:-0700
TZNAME:PDT
DTSTART:20240310T100000
END:DAYLIGHT
BEGIN:STANDARD
TZOFFSETFROM:-0700
TZOFFSETTO:-0800
TZNAME:PST
DTSTART:20241103T090000
END:STANDARD
BEGIN:DAYLIGHT
TZOFFSETFROM:-0800
TZOFFSETTO:-0700
TZNAME:PDT
DTSTART:20250309T100000
END:DAYLIGHT
BEGIN:STANDARD
TZOFFSETFROM:-0700
TZOFFSETTO:-0800
TZNAME:PST
DTSTART:20251102T090000
END:STANDARD
END:VTIMEZONE
BEGIN:VEVENT
DTSTART;TZID=America/Los_Angeles:20240721T130000
DTEND;TZID=America/Los_Angeles:20240721T150000
DTSTAMP:20260425T210145
CREATED:20240718T194912Z
LAST-MODIFIED:20240718T194912Z
UID:10003933-1721566800-1721574000@callchinovalleyhome.com
SUMMARY:Backpacks and Books Giveaway at Essence
DESCRIPTION:Backpacks \nBooks \nSchool Supplies \nCookies & Milk \n 
URL:https://callchinovalleyhome.com/event/backpacks-and-books-giveaway-at-essence/
LOCATION:Essence\, 1021 N State Route 89\, Chino Valley\, AZ\, United States
ATTACH;FMTTYPE=image/webp:https://callchinovalleyhome.com/wp-content/uploads/2024/07/EssenceChinoValleyBackpackGiveaway.webp
END:VEVENT
BEGIN:VEVENT
DTSTART;TZID=America/Los_Angeles:20240721T123000
DTEND;TZID=America/Los_Angeles:20240721T170000
DTSTAMP:20260425T210145
CREATED:20240620T221404Z
LAST-MODIFIED:20240620T221404Z
UID:10003843-1721565000-1721581200@callchinovalleyhome.com
SUMMARY:Chino Valley Grace Church Picnic
DESCRIPTION:Come join us for food\, fun\, and fellowship!\nSunday\, July 21st after the 2nd service (12:30 pm)We will be having a BBQ on the front lawn.Please plan on bringing a side dish or a dessert to share.\nIf you have any questions please call the church office at 928.636.2949
URL:https://callchinovalleyhome.com/event/chino-valley-grace-church-picnic/
LOCATION:Grace Church\, 2010 AZ-89\, Chino Valley\, AZ 86323\, Chino Valley\, AZ\, 86323\, United States
ATTACH;FMTTYPE=image/webp:https://callchinovalleyhome.com/wp-content/uploads/2024/06/Chino-Valley-Grace-Church-Picnic.webp
END:VEVENT
BEGIN:VEVENT
DTSTART;TZID=America/Los_Angeles:20240721T080000
DTEND;TZID=America/Los_Angeles:20240721T100000
DTSTAMP:20260425T210145
CREATED:20240605T045528Z
LAST-MODIFIED:20240605T045528Z
UID:10002434-1721548800-1721556000@callchinovalleyhome.com
SUMMARY:Hunter Jumper Schooling Show Series
DESCRIPTION:**Venue Changed to Sunset Ranch in Seligman\, AZ** \nCheck out Megan Bennett’s Facebook Page and Flyer for more details. \n 
URL:https://callchinovalleyhome.com/event/hunter-jumper-schooling-show-series-2/
LOCATION:Sunset Ranch\, Seligman\, AZ\, 86337\, United States
ATTACH;FMTTYPE=image/webp:https://callchinovalleyhome.com/wp-content/uploads/2024/03/Chino-Valley-Sunset-Ranch-Hunter-Jumper-Schooling-Show-Series.webp
GEO:35.3255608;-112.8774057
END:VEVENT
BEGIN:VEVENT
DTSTART;TZID=America/Los_Angeles:20240720T080000
DTEND;TZID=America/Los_Angeles:20240720T120000
DTSTAMP:20260425T210145
CREATED:20240628T175316Z
LAST-MODIFIED:20240628T175316Z
UID:10003914-1721462400-1721476800@callchinovalleyhome.com
SUMMARY:Olsen's Events - Roping
DESCRIPTION:Books Open at 8:00 am | Close at 9:00 am \nRoping Starts at 9:30 am \nVisit https://olsensevents.com/ for more details.
URL:https://callchinovalleyhome.com/event/olsens-events-roping-2/
LOCATION:Olsen’s Events\, 344 S Hwy 89 Chino Valley\, AZ\, 86323\, Chino Valley\, AZ\, 86323\, United States
ATTACH;FMTTYPE=image/webp:https://callchinovalleyhome.com/wp-content/uploads/2024/06/Chino-Valley-Olsen-Events-Roping.webp
END:VEVENT
BEGIN:VEVENT
DTSTART;VALUE=DATE:20240720
DTEND;VALUE=DATE:20240722
DTSTAMP:20260425T210145
CREATED:20240423T171859Z
LAST-MODIFIED:20240718T200802Z
UID:10000257-1721433600-1721606399@callchinovalleyhome.com
SUMMARY:Sunset Ranch Productions Obstacle Clinic & Challenge Series
DESCRIPTION:Saturday Clinics – $100/Session – 2 Courses \nMounted 8-10:30 \nIn-Hand 10:30 – 1 \nLiberty 1-3:30 \nThese Clinics will be on Sunday’s Competition course -sans “Horse Show Icing”. \nAll disciplines and levels of horses and riders are welcome. The Sunset Ranch Obstacle Challenges \nhave a level to fit you and your horse- No matter where you are with your Horsemanship- Rules and \nJudging Criteria for Competition as well as each obstacle’s instructions will be explained in detail. You \ndo not need to be perfect to compete on Sunday! Our Competitions are intended to build on the \nskills and confidence gained in Saturday’s Clinic. The course is the same but the obstacles are spiced \nup a bit; add in the exciting energy of a horse show and you’ve got a great training opportunity! \nPlease call w/ questions! Mounted & In-Hand Clinic Sessions Available-Private instruction available. \nSunday Challenge – $40/Round + $20 Office Fee \n7a Start \n 3 Levels of Difficulty to choose from – Precision & Freestyle Rounds Offered | In-Hand\, Mounted or Liberty \nCome challenge yourself and your horse- AT YOUR LEVEL! Competition is an amazing advancer of \nHorsemanship and helps us identify areas we can improve on in training sessions Come show us what \nyou’ve got in a fun and encouraging atmosphere! In-Hand & Mounted Courses
URL:https://callchinovalleyhome.com/event/sunset-ranch-productions-obstacle-clinic-challenge-series-3/
LOCATION:Chino Valley Equestrian Park\, 2280 Equestrain Way\, Chino Valley\, AZ 86232\, Chino Valley\, AZ\, 86232\, United States
ATTACH;FMTTYPE=image/webp:https://callchinovalleyhome.com/wp-content/uploads/2024/04/Chino-Valley-Sunset-Ranch-Obstacle-Clinic-Challenge-Series.webp
ORGANIZER;CN="Megan Bennett":MAILTO:megan@sunsetranch.us
END:VEVENT
BEGIN:VEVENT
DTSTART;TZID=America/Los_Angeles:20240719T190000
DTEND;TZID=America/Los_Angeles:20240719T210000
DTSTAMP:20260425T210145
CREATED:20240718T193826Z
LAST-MODIFIED:20240718T193826Z
UID:10003931-1721415600-1721422800@callchinovalleyhome.com
SUMMARY:Chino Valley Movie in the Park - Elemental
DESCRIPTION:Join us with your friends and family for a night of fun under the stars! Movie starts when it gets dark!
URL:https://callchinovalleyhome.com/event/chino-valley-movie-in-the-park-elemental/
LOCATION:Memory Park in Chino Valley\, Palomino Road and N Road 1 West\, AZ\, United States
ATTACH;FMTTYPE=image/webp:https://callchinovalleyhome.com/wp-content/uploads/2024/07/Chino-Valley-Movie-in-Park-Elemental.webp
END:VEVENT
BEGIN:VEVENT
DTSTART;TZID=America/Los_Angeles:20240719T150000
DTEND;TZID=America/Los_Angeles:20240719T170000
DTSTAMP:20260425T210145
CREATED:20240611T175121Z
LAST-MODIFIED:20240611T175247Z
UID:10003041-1721401200-1721408400@callchinovalleyhome.com
SUMMARY:Lego Event
DESCRIPTION:Come play with our collection of lego bricks and characters! Make whatever you want OR work on a goal or design with friends! All age students welcome. Parents please supervise kids under 5 (small pieces). \nFree\, legos provided\, please leave own legos at home.
URL:https://callchinovalleyhome.com/event/lego-event/2024-07-19/
LOCATION:Chino Valley Public Library\, 1020 W Palomino Rd Chino Valley\, AZ 86323\, Chino Valley\, AZ\, 86323\, United States
ATTACH;FMTTYPE=image/webp:https://callchinovalleyhome.com/wp-content/uploads/2024/06/Chino-Valley-Library-Lego-Event.webp
ORGANIZER;CN="Rebecca Laurence":MAILTO:rlaurence@chinoaz.net
END:VEVENT
BEGIN:VEVENT
DTSTART;TZID=America/Los_Angeles:20240719T103000
DTEND;TZID=America/Los_Angeles:20240719T111500
DTSTAMP:20260425T210145
CREATED:20240510T182919Z
LAST-MODIFIED:20240724T170028Z
UID:10002175-1721385000-1721387700@callchinovalleyhome.com
SUMMARY:Bigger Kids Storytime
DESCRIPTION:
URL:https://callchinovalleyhome.com/event/bigger-kids-storytime-2/2024-07-19/
LOCATION:Chino Valley Public Library\, 1020 W Palomino Rd Chino Valley\, AZ 86323\, Chino Valley\, AZ\, 86323\, United States
ATTACH;FMTTYPE=image/jpeg:https://callchinovalleyhome.com/wp-content/uploads/2024/05/Chino-Valley-Public-Library.jpg
ORGANIZER;CN="Rebecca Laurence":MAILTO:rlaurence@chinoaz.net
END:VEVENT
BEGIN:VEVENT
DTSTART;TZID=America/Los_Angeles:20240719T100000
DTEND;TZID=America/Los_Angeles:20240719T103000
DTSTAMP:20260425T210145
CREATED:20240510T182801Z
LAST-MODIFIED:20240724T170344Z
UID:10001654-1721383200-1721385000@callchinovalleyhome.com
SUMMARY:Little Ones Storytime
DESCRIPTION:
URL:https://callchinovalleyhome.com/event/little-ones-storytime-2/2024-07-19/
LOCATION:Chino Valley Public Library\, 1020 W Palomino Rd Chino Valley\, AZ 86323\, Chino Valley\, AZ\, 86323\, United States
ATTACH;FMTTYPE=image/jpeg:https://callchinovalleyhome.com/wp-content/uploads/2024/05/Chino-Valley-Public-Library.jpg
ORGANIZER;CN="Rebecca Laurence":MAILTO:rlaurence@chinoaz.net
END:VEVENT
BEGIN:VEVENT
DTSTART;TZID=America/Los_Angeles:20240718T151500
DTEND;TZID=America/Los_Angeles:20240718T161500
DTSTAMP:20260425T210145
CREATED:20240611T173741Z
LAST-MODIFIED:20241112T041118Z
UID:10004677-1721315700-1721319300@callchinovalleyhome.com
SUMMARY:Pet Partners
DESCRIPTION:Practice your developing reading skills by reading to a friendly therapy dog and handler! Perfect for young students but all readers are welcome. You can also pet the dogs. Great for those involved in the Summer Reading Program…track your reading while you’re here ;) Dogs may be in children’s area or in community room (if we need more room or quieter area.)
URL:https://callchinovalleyhome.com/event/pet-partners-4/2024-07-18/
LOCATION:Chino Valley Public Library\, 1020 W Palomino Rd Chino Valley\, AZ 86323\, Chino Valley\, AZ\, 86323\, United States
ATTACH;FMTTYPE=image/webp:https://callchinovalleyhome.com/wp-content/uploads/2024/06/Chino-Valley-Library-Paws-for-Friendship.webp
ORGANIZER;CN="Rebecca Laurence":MAILTO:rlaurence@chinoaz.net
END:VEVENT
BEGIN:VEVENT
DTSTART;TZID=America/Los_Angeles:20240718T110000
DTEND;TZID=America/Los_Angeles:20240718T120000
DTSTAMP:20260425T210145
CREATED:20240530T210646Z
LAST-MODIFIED:20240530T210646Z
UID:10002431-1721300400-1721304000@callchinovalleyhome.com
SUMMARY:Birding Nature Presentation
DESCRIPTION:All ages welcome (adult\, teen\, children) to learn about local birds and birding from local expert Eric Moore (of Jay’s Bird Barn/The Lookout in Prescott)! Don’t miss this great event…two time slots available 10 and 11am.
URL:https://callchinovalleyhome.com/event/birding-nature-presentation-2/
LOCATION:Chino Valley Public Library\, 1020 W Palomino Rd Chino Valley\, AZ 86323\, Chino Valley\, AZ\, 86323\, United States
ATTACH;FMTTYPE=image/webp:https://callchinovalleyhome.com/wp-content/uploads/2024/05/Chino-Valley-Library-Birding-Nature-Presentation.webp
ORGANIZER;CN="Rebecca Laurence":MAILTO:rlaurence@chinoaz.net
END:VEVENT
BEGIN:VEVENT
DTSTART;TZID=America/Los_Angeles:20240718T100000
DTEND;TZID=America/Los_Angeles:20240718T120000
DTSTAMP:20260425T210145
CREATED:20240605T051016Z
LAST-MODIFIED:20240611T165342Z
UID:10002446-1721296800-1721304000@callchinovalleyhome.com
SUMMARY:Chino Valley Confident with Low Vision Class
DESCRIPTION:Four classes that will focus on community resources for persons with low vision. Seeing eye dogs\, vitamins\, Talking Books\, etc. The fifth and last class will focus on magnification and the advances in technology available today.
URL:https://callchinovalleyhome.com/event/chino-valley-confident-with-low-vision-class/2024-07-18/
LOCATION:Chino Valley United Methodist Church\, East Road 1 South\, Chino Valley\, AZ\, 86323\, United States
ATTACH;FMTTYPE=image/webp:https://callchinovalleyhome.com/wp-content/uploads/2024/06/Chino-Valley-Confident-Low-Vision-Class.webp
ORGANIZER;CN="Lynn Bernardo":MAILTO:cvpwc@peoplewhocareaz.com
GEO:34.7389146;-112.4501367
X-APPLE-STRUCTURED-LOCATION;VALUE=URI;X-ADDRESS=Chino Valley United Methodist Church East Road 1 South Chino Valley AZ 86323 United States;X-APPLE-RADIUS=500;X-TITLE=East Road 1 South:geo:-112.4501367,34.7389146
END:VEVENT
BEGIN:VEVENT
DTSTART;TZID=America/Los_Angeles:20240718T100000
DTEND;TZID=America/Los_Angeles:20240718T110000
DTSTAMP:20260425T210145
CREATED:20240530T210422Z
LAST-MODIFIED:20240530T210422Z
UID:10002430-1721296800-1721300400@callchinovalleyhome.com
SUMMARY:Birding Nature Presentation
DESCRIPTION:All ages welcome (adult\, teen\, children) to learn about local birds and birding from local expert Eric Moore (of Jay’s Bird Barn/The Lookout in Prescott)! Don’t miss this great event…two time slots available 10 and 11am.
URL:https://callchinovalleyhome.com/event/birding-nature-presentation/
LOCATION:Chino Valley Public Library\, 1020 W Palomino Rd Chino Valley\, AZ 86323\, Chino Valley\, AZ\, 86323\, United States
ATTACH;FMTTYPE=image/webp:https://callchinovalleyhome.com/wp-content/uploads/2024/05/Chino-Valley-Library-Birding-Nature-Presentation.webp
ORGANIZER;CN="Rebecca Laurence":MAILTO:rlaurence@chinoaz.net
END:VEVENT
BEGIN:VEVENT
DTSTART;TZID=America/Los_Angeles:20240717T150000
DTEND;TZID=America/Los_Angeles:20240717T190000
DTSTAMP:20260425T210145
CREATED:20240620T222334Z
LAST-MODIFIED:20240620T222334Z
UID:10003907-1721228400-1721242800@callchinovalleyhome.com
SUMMARY:Olsen's Events | Summer Series
DESCRIPTION:Wednesday Night \n5-Week Series \nOpen Arena 3:00p – 5:00p \nRace will begin at 5:30p \nPeewee\, Youth & Open Barrels \nPeewee & Open Poles \nBuckles to Winners in Each Division in the Open \n 
URL:https://callchinovalleyhome.com/event/olsens-events-summer-series/2024-07-17/
LOCATION:Olsen’s Events\, 344 S Hwy 89 Chino Valley\, AZ\, 86323\, Chino Valley\, AZ\, 86323\, United States
ATTACH;FMTTYPE=image/webp:https://callchinovalleyhome.com/wp-content/uploads/2024/06/Chino-Valley-Olsen-Events-Summer-Series.webp
END:VEVENT
BEGIN:VEVENT
DTSTART;TZID=America/Los_Angeles:20240717T100000
DTEND;TZID=America/Los_Angeles:20240717T120000
DTSTAMP:20260425T210145
CREATED:20240508T044138Z
LAST-MODIFIED:20240724T165812Z
UID:10000284-1721210400-1721217600@callchinovalleyhome.com
SUMMARY:Chino Valley Public Library Summer Reading Program
DESCRIPTION:Join us Wed mornings (occasionally other days/times of the week this Summer) for great free family events (open to the public) as part of our annual Summer Reading Program! \nThis Summer’s theme is “Adventure Begins at Your Library”. We have lots of adventurous fun planned. Each week is something different: nature experts\, magician\, juggler\, BMX stunt bikers\, live animals\, and more! \nThese typically are 2 identical events back to back (i.e. 10am and 11am) Sign up your kids and teens at the library anytime\, and enjoy weekly take-home craft packets during June and July\, prizes for reading\, and a big party at the end of Summer where participants can earn 2 books to keep (of your choice) and a State Park Pass! \nThere’s something for everyone – your child doesn’t have to be old enough to read to participate – you can read to them\, too. And individuals or groups with special needs (of any age) are also welcome to participate (SELF Club). \nSee you at the Library!
URL:https://callchinovalleyhome.com/event/chino-valley-public-library-summer-reading-program/2024-07-17/
LOCATION:Chino Valley Public Library\, 1020 W Palomino Rd Chino Valley\, AZ 86323\, Chino Valley\, AZ\, 86323\, United States
ATTACH;FMTTYPE=image/webp:https://callchinovalleyhome.com/wp-content/uploads/2024/05/Chino-Valley-Summer-Reading-Program.webp
END:VEVENT
BEGIN:VEVENT
DTSTART;TZID=America/Los_Angeles:20240716T180000
DTEND;TZID=America/Los_Angeles:20240716T200000
DTSTAMP:20260425T210145
CREATED:20240628T184102Z
LAST-MODIFIED:20240628T184102Z
UID:10003918-1721152800-1721160000@callchinovalleyhome.com
SUMMARY:Parenting the Love and Logic Way
DESCRIPTION:Help for the challenging times in parenting. • “How do I get them out of bed in time to catch the school bus?” • “How can I stop my children from bickering and fighting?” • “How do I get my children to help with the chores without an argument?” • “How can I get my teenage daughter to come home at the agreed-upon time?” • “How do I talk to my children about drugs?” • And many other day-to-day parenting challenges… \nFor more information and to reserve your FREE space today contact (928) 708-0100 or info@matforceaz.org. Registration deadline Friday\, July 5\, 2024. \nhttps://us02web.zoom.us/j/81358645526?pwd=H18qOt3FSkX6PLBhO97euYYFQYtIJe.1
URL:https://callchinovalleyhome.com/event/parenting-the-love-and-logic-way/2024-07-16/
LOCATION:Zoom
ATTACH;FMTTYPE=image/webp:https://callchinovalleyhome.com/wp-content/uploads/2024/06/Parenting-the-Love-and-Logic-Way.webp
END:VEVENT
BEGIN:VEVENT
DTSTART;TZID=America/Los_Angeles:20240716T151500
DTEND;TZID=America/Los_Angeles:20240716T161500
DTSTAMP:20260425T210145
CREATED:20240510T182703Z
LAST-MODIFIED:20240510T182703Z
UID:10001132-1721142900-1721146500@callchinovalleyhome.com
SUMMARY:Lego Club
DESCRIPTION:
URL:https://callchinovalleyhome.com/event/lego-club-5/2024-07-16/
LOCATION:Chino Valley Public Library\, 1020 W Palomino Rd Chino Valley\, AZ 86323\, Chino Valley\, AZ\, 86323\, United States
ATTACH;FMTTYPE=image/jpeg:https://callchinovalleyhome.com/wp-content/uploads/2024/05/Chino-Valley-Public-Library.jpg
ORGANIZER;CN="Rebecca Laurence":MAILTO:rlaurence@chinoaz.net
END:VEVENT
BEGIN:VEVENT
DTSTART;TZID=America/Los_Angeles:20240716T111500
DTEND;TZID=America/Los_Angeles:20240716T130000
DTSTAMP:20260425T210145
CREATED:20240620T224926Z
LAST-MODIFIED:20240620T225509Z
UID:10003911-1721128500-1721134800@callchinovalleyhome.com
SUMMARY:Lunch and Learn with SCORE
DESCRIPTION:What can S.C.O.R.E. Do For You…. \nLunch is provided by JED’s for $25 \n\nEveryone\, please bring your businesses’ promotional flyer for each place-setting\nAttendees get a 2-minute ‘soap box’ to educate us on your organization\nSeating is limited to 40 attendees\, so get your tickets NOW!!
URL:https://callchinovalleyhome.com/event/lunch-and-learn-with-score/
LOCATION:Chino Valley Community Center\, 1527 N Road 1 East Chino Valley\, AZ 86323\, Chino Valley\, AZ\, 86323\, United States
ATTACH;FMTTYPE=image/webp:https://callchinovalleyhome.com/wp-content/uploads/2024/06/Chino-Valley-July-Lunch-and-Learn.webp
END:VEVENT
BEGIN:VEVENT
DTSTART;TZID=America/Los_Angeles:20240716T110000
DTEND;TZID=America/Los_Angeles:20240716T120000
DTSTAMP:20260425T210145
CREATED:20240611T173614Z
LAST-MODIFIED:20240724T171535Z
UID:10002723-1721127600-1721131200@callchinovalleyhome.com
SUMMARY:Paws for Friendship
DESCRIPTION:Practice your developing reading skills by reading to a friendly therapy dog and handler! Perfect for young students but all readers are welcome. You can also pet the dogs. Great for those involved in the Summer Reading Program…track your reading while you’re here ;) Dogs may be in children’s area or in community room (if we need more room or quieter area.)
URL:https://callchinovalleyhome.com/event/paws-for-friendship-5/2024-07-16/
ATTACH;FMTTYPE=image/webp:https://callchinovalleyhome.com/wp-content/uploads/2024/06/Chino-Valley-Library-Paws-for-Friendship.webp
END:VEVENT
BEGIN:VEVENT
DTSTART;TZID=America/Los_Angeles:20240716T103000
DTEND;TZID=America/Los_Angeles:20240716T111500
DTSTAMP:20260425T210145
CREATED:20240510T182604Z
LAST-MODIFIED:20240724T170202Z
UID:10000871-1721125800-1721128500@callchinovalleyhome.com
SUMMARY:Bigger Kids Storytime
DESCRIPTION:
URL:https://callchinovalleyhome.com/event/bigger-kids-storytime/2024-07-16/
LOCATION:Chino Valley Public Library\, 1020 W Palomino Rd Chino Valley\, AZ 86323\, Chino Valley\, AZ\, 86323\, United States
ATTACH;FMTTYPE=image/jpeg:https://callchinovalleyhome.com/wp-content/uploads/2024/05/Chino-Valley-Public-Library.jpg
ORGANIZER;CN="Rebecca Laurence":MAILTO:rlaurence@chinoaz.net
END:VEVENT
BEGIN:VEVENT
DTSTART;TZID=America/Los_Angeles:20240716T080000
DTEND;TZID=America/Los_Angeles:20240716T170000
DTSTAMP:20260425T210145
CREATED:20240703T000446Z
LAST-MODIFIED:20240703T000446Z
UID:10003928-1721116800-1721149200@callchinovalleyhome.com
SUMMARY:Mental Health First Aid
DESCRIPTION:MENTAL HEALTH FIRST AID WHY MENTAL HEALTH FIRST AID? Mental Health First Aid (MHFA) teaches you how to identify\, understand and respond to signs of mental health and substance use challenges among adults. \nThe course will teach you how to apply the MHFA Action Plan (ALGEE) : \n• Assess for risk of suicide or harm. \n• Listen nonjudgmentally. \n• Give reassurance and information. \n• Encourage appropriate professional help. \n• Encourage self-help and other support strategies.
URL:https://callchinovalleyhome.com/event/mental-health-first-aid/
LOCATION:Chino Valley Police Department\, 220 N St Rte 89 Chino Valley\, AZ 86323\, Chino Valley\, AZ\, 86323\, United States
ATTACH;FMTTYPE=image/webp:https://callchinovalleyhome.com/wp-content/uploads/2024/07/Chino-Valley-Mental-Health-First-Aid.webp
END:VEVENT
BEGIN:VEVENT
DTSTART;TZID=America/Los_Angeles:20240715T150000
DTEND;TZID=America/Los_Angeles:20240715T180000
DTSTAMP:20260425T210145
CREATED:20240510T182131Z
LAST-MODIFIED:20250113T050929Z
UID:10000350-1721055600-1721066400@callchinovalleyhome.com
SUMMARY:Chess Group
DESCRIPTION:
URL:https://callchinovalleyhome.com/event/chess-group-5/2024-07-15/
LOCATION:Chino Valley Public Library\, 1020 W Palomino Rd Chino Valley\, AZ 86323\, Chino Valley\, AZ\, 86323\, United States
ATTACH;FMTTYPE=image/jpeg:https://callchinovalleyhome.com/wp-content/uploads/2024/05/Chino-Valley-Public-Library.jpg
ORGANIZER;CN="Rebecca Laurence":MAILTO:rlaurence@chinoaz.net
END:VEVENT
BEGIN:VEVENT
DTSTART;TZID=America/Los_Angeles:20240715T100000
DTEND;TZID=America/Los_Angeles:20240715T110000
DTSTAMP:20260425T210145
CREATED:20240702T233250Z
LAST-MODIFIED:20240702T233250Z
UID:10003923-1721037600-1721041200@callchinovalleyhome.com
SUMMARY:Chino Valley Local Author Storytime
DESCRIPTION:Meet local children’s author Sally Bates and hear her read her southwest/cowboy stories for kids! Will include craft and snack afterwards. Save the date and come join us!
URL:https://callchinovalleyhome.com/event/chino-valley-local-author-storytime/
LOCATION:Chino Valley Public Library\, 1020 W Palomino Rd Chino Valley\, AZ 86323\, Chino Valley\, AZ\, 86323\, United States
ATTACH;FMTTYPE=image/webp:https://callchinovalleyhome.com/wp-content/uploads/2024/07/Chino-Valley-Local-Author-Storytime.webp
ORGANIZER;CN="Rebecca Laurence":MAILTO:rlaurence@chinoaz.net
END:VEVENT
BEGIN:VEVENT
DTSTART;TZID=America/Los_Angeles:20240714T160000
DTEND;TZID=America/Los_Angeles:20240714T180000
DTSTAMP:20260425T210145
CREATED:20240402T173353Z
LAST-MODIFIED:20240402T173353Z
UID:10000233-1720972800-1720980000@callchinovalleyhome.com
SUMMARY:Equine Soccer 2024 | Olsen's Events
DESCRIPTION:2024 Event Dates: \n\nAPRIL 14th | 2PM\nMAY 19th | 3PM\nJUNE 23rd | 4PM\nJULY 14th | 4pm\nAUGUST 11th | 4pm\n\nFINALS: SEPTEMBER 13th @ 10AM at the Prescott Rodeo Grounds. \nDetails: \n\nTeams must attend 4 of 6 races to qualify for prizes.\n$30 / rider for each game day.
URL:https://callchinovalleyhome.com/event/equine-soccer-2024-olsens-events/2024-07-14/
LOCATION:Olsen’s Events\, 344 S Hwy 89 Chino Valley\, AZ 86323\, Chino Valley\, AZ\, 86323\, United States
ATTACH;FMTTYPE=image/webp:https://callchinovalleyhome.com/wp-content/uploads/2024/04/Chino-Valley-Olsen-Events-Equine-Soccer.webp
END:VEVENT
BEGIN:VEVENT
DTSTART;TZID=America/Los_Angeles:20240713T160000
DTEND;TZID=America/Los_Angeles:20240713T190000
DTSTAMP:20260425T210145
CREATED:20240129T132940Z
LAST-MODIFIED:20240611T170404Z
UID:10000227-1720886400-1720897200@callchinovalleyhome.com
SUMMARY:2024 High Point Saddle & Buckle Series
DESCRIPTION:Open Arena | 3:00pm – 4:00pm | $10/horse \nRace Begins at 4:30pm \nSaddles to High Point in Each Division of the Open 4D! \nBuckles and other great prizes! \nOrder of Events/Fees – 70% Payback \n\nPeewee Poles ($10)\n3D Open Poles ($40)\nPeewee Barrels ($10)\nOpen 4D Barrels ($50)\nYouth 4D Barrels ($40)\nSenior 4D Barrels ($40)\nNovice Target Barrels ($40)\nGreen Horse 4D Barrels ($40)
URL:https://callchinovalleyhome.com/event/saddle-series-races-barrell-races/2024-07-13/
LOCATION:Olsen’s Events\, 344 S Hwy 89 Chino Valley\, AZ\, 86323\, Chino Valley\, AZ\, 86323\, United States
ATTACH;FMTTYPE=image/webp:https://callchinovalleyhome.com/wp-content/uploads/2024/01/Chino-Valley-Olsen-Events-High-Point-Saddle-Buckle-Series.webp
END:VEVENT
BEGIN:VEVENT
DTSTART;TZID=America/Los_Angeles:20240713T120000
DTEND;TZID=America/Los_Angeles:20240713T120000
DTSTAMP:20260425T210145
CREATED:20240501T054357Z
LAST-MODIFIED:20240507T213044Z
UID:10000272-1720872000-1720872000@callchinovalleyhome.com
SUMMARY:Chino Valley Olsen Events Goat Tying
DESCRIPTION:GOAT TYING UPDATE\n\n\nClasses:\nPeewee (10 and under) $20 (ribbon pull) 2 runs\nPeewee (10 and under) $20 (tie) 2 runs\nJunior High (11-14) $40 – 1 run\nHigh School (15-18) $40 – 1 run\nAdult (19 and older) $40 – 1 run\nALL CLASSES (except peewees) will have a $10 stock charge.\n70% payback on Junior High\, High School\, Adult classes.\n\n\nSign up on Saddlebook.com (same event as barrel race\, you’ll see goat options there).\n\n\nThis will be a series in conjunction with the SADDLE SERIES barrel races. You must compete in 4 out of 5 of the goat tying events to be eligible for buckles. Finals will be held at Equifest on Friday\, September 13th.\n\n\n*Please note: peewees will get ONE buckle if they attend the required amount of events (4/6 barrel races\, 4/5 goats) regardless of which event they participate in (barrels\, poles\, goats). They will not get a separate buckle for barrels\, poles\, goats.\n\n\nDates will be on the same days as saddle series barrel races. Start time will be at 12:00 pm\n\n\nMay 11th\nJune 15th\nJuly 13th\nAugust 10\nSeptember 13 (Friday afternoon) Finals – Prescott *start time TBD
URL:https://callchinovalleyhome.com/event/chino-valley-olsen-events-goat-tying-3/
LOCATION:Olsen’s Events\, 344 S Hwy 89 Chino Valley\, AZ\, 86323\, Chino Valley\, AZ\, 86323\, United States
ATTACH;FMTTYPE=image/webp:https://callchinovalleyhome.com/wp-content/uploads/2024/04/Chino-Valley-Olsen-Events-Goat-Tying.webp
END:VEVENT
BEGIN:VEVENT
DTSTART;TZID=America/Los_Angeles:20240713T110000
DTEND;TZID=America/Los_Angeles:20240713T180000
DTSTAMP:20260425T210145
CREATED:20240628T182553Z
LAST-MODIFIED:20240628T182553Z
UID:10003916-1720868400-1720893600@callchinovalleyhome.com
SUMMARY:Chino Valley Family Fun Day
DESCRIPTION:Free Family Fun Day! \nHamburgers\, hot dogs\, cotton candy\, and snow cones! \nInflatables for kids and prize drawings! \nComplimentary Haircut for Children just in time for school! \nGrab for Family and Join Us for Music and Fun!
URL:https://callchinovalleyhome.com/event/chino-valley-family-fun-day/
LOCATION:Memory Park in Chino Valley\, Palomino Road and N Road 1 West\, AZ\, United States
ATTACH;FMTTYPE=image/webp:https://callchinovalleyhome.com/wp-content/uploads/2024/06/Chino-Valley-Family-Fun-Day.webp
END:VEVENT
BEGIN:VEVENT
DTSTART;TZID=America/Los_Angeles:20240712T150000
DTEND;TZID=America/Los_Angeles:20240712T170000
DTSTAMP:20260425T210145
CREATED:20240611T174359Z
LAST-MODIFIED:20240611T174359Z
UID:10002980-1720796400-1720803600@callchinovalleyhome.com
SUMMARY:STEAM Workshop
DESCRIPTION:Every Second Friday bring your kids and teens down to the library to explore\, build\, and create with cool gadgets\, sets and kits\, builders\, and electronics!
URL:https://callchinovalleyhome.com/event/steam-workshop-2/2024-07-12/
LOCATION:Chino Valley Public Library\, 1020 W Palomino Rd Chino Valley\, AZ 86323\, Chino Valley\, AZ\, 86323\, United States
ATTACH;FMTTYPE=image/webp:https://callchinovalleyhome.com/wp-content/uploads/2024/06/Chino-Valley-Library-STEAM-Workshops.webp
ORGANIZER;CN="Rebecca Laurence":MAILTO:rlaurence@chinoaz.net
END:VEVENT
BEGIN:VEVENT
DTSTART;TZID=America/Los_Angeles:20240712T103000
DTEND;TZID=America/Los_Angeles:20240712T111500
DTSTAMP:20260425T210145
CREATED:20240510T182919Z
LAST-MODIFIED:20240724T170028Z
UID:10002174-1720780200-1720782900@callchinovalleyhome.com
SUMMARY:Bigger Kids Storytime
DESCRIPTION:
URL:https://callchinovalleyhome.com/event/bigger-kids-storytime-2/2024-07-12/
LOCATION:Chino Valley Public Library\, 1020 W Palomino Rd Chino Valley\, AZ 86323\, Chino Valley\, AZ\, 86323\, United States
ATTACH;FMTTYPE=image/jpeg:https://callchinovalleyhome.com/wp-content/uploads/2024/05/Chino-Valley-Public-Library.jpg
ORGANIZER;CN="Rebecca Laurence":MAILTO:rlaurence@chinoaz.net
END:VEVENT
BEGIN:VEVENT
DTSTART;TZID=America/Los_Angeles:20240712T100000
DTEND;TZID=America/Los_Angeles:20240712T103000
DTSTAMP:20260425T210145
CREATED:20240510T182801Z
LAST-MODIFIED:20240724T170344Z
UID:10001653-1720778400-1720780200@callchinovalleyhome.com
SUMMARY:Little Ones Storytime
DESCRIPTION:
URL:https://callchinovalleyhome.com/event/little-ones-storytime-2/2024-07-12/
LOCATION:Chino Valley Public Library\, 1020 W Palomino Rd Chino Valley\, AZ 86323\, Chino Valley\, AZ\, 86323\, United States
ATTACH;FMTTYPE=image/jpeg:https://callchinovalleyhome.com/wp-content/uploads/2024/05/Chino-Valley-Public-Library.jpg
ORGANIZER;CN="Rebecca Laurence":MAILTO:rlaurence@chinoaz.net
END:VEVENT
END:VCALENDAR