BEGIN:VCALENDAR
VERSION:2.0
PRODID:-//Call Chino Valley Home - ECPv6.15.20//NONSGML v1.0//EN
CALSCALE:GREGORIAN
METHOD:PUBLISH
X-WR-CALNAME:Call Chino Valley Home
X-ORIGINAL-URL:https://callchinovalleyhome.com
X-WR-CALDESC:Events for Call Chino Valley Home
REFRESH-INTERVAL;VALUE=DURATION:PT1H
X-Robots-Tag:noindex
X-PUBLISHED-TTL:PT1H
BEGIN:VTIMEZONE
TZID:America/Los_Angeles
BEGIN:DAYLIGHT
TZOFFSETFROM:-0800
TZOFFSETTO:-0700
TZNAME:PDT
DTSTART:20230312T100000
END:DAYLIGHT
BEGIN:STANDARD
TZOFFSETFROM:-0700
TZOFFSETTO:-0800
TZNAME:PST
DTSTART:20231105T090000
END:STANDARD
BEGIN:DAYLIGHT
TZOFFSETFROM:-0800
TZOFFSETTO:-0700
TZNAME:PDT
DTSTART:20240310T100000
END:DAYLIGHT
BEGIN:STANDARD
TZOFFSETFROM:-0700
TZOFFSETTO:-0800
TZNAME:PST
DTSTART:20241103T090000
END:STANDARD
BEGIN:DAYLIGHT
TZOFFSETFROM:-0800
TZOFFSETTO:-0700
TZNAME:PDT
DTSTART:20250309T100000
END:DAYLIGHT
BEGIN:STANDARD
TZOFFSETFROM:-0700
TZOFFSETTO:-0800
TZNAME:PST
DTSTART:20251102T090000
END:STANDARD
END:VTIMEZONE
BEGIN:VEVENT
DTSTART;TZID=America/Los_Angeles:20240706T170000
DTEND;TZID=America/Los_Angeles:20240706T200000
DTSTAMP:20260425T205733
CREATED:20240620T230722Z
LAST-MODIFIED:20240620T230722Z
UID:10003913-1720285200-1720296000@callchinovalleyhome.com
SUMMARY:Chino Valley All American Bash
DESCRIPTION:Celebrating our country with a hometown feel. \n\nContests\nMusic\nGames\nFood
URL:https://callchinovalleyhome.com/event/chino-valley-all-american-bash/
LOCATION:Memory Park in Chino Valley\, Palomino Road and N Road 1 West\, AZ\, United States
ATTACH;FMTTYPE=image/webp:https://callchinovalleyhome.com/wp-content/uploads/2024/06/Chino-Valley-All-American-Bash.webp
END:VEVENT
BEGIN:VEVENT
DTSTART;TZID=America/Los_Angeles:20240706T090000
DTEND;TZID=America/Los_Angeles:20240706T120000
DTSTAMP:20260425T205733
CREATED:20240611T182423Z
LAST-MODIFIED:20240611T182423Z
UID:10003841-1720256400-1720267200@callchinovalleyhome.com
SUMMARY:PRESCOTT FRONTIER DAYS INC. RODEO PARADE
DESCRIPTION:2024 Parade Theme: Prescott Traditions\n \nThe Prescott Frontier Days World’s Oldest Rodeo proudly presents the 137th Annual Rodeo Parade\, held annually in downtown Prescott over the 4th of July weekend! \nThe Rodeo Parade is a wonderful tradition that celebrates our rich western history\, right here in Prescott\, Arizona. We hope you will join us and help celebrate this amazing tradition!
URL:https://callchinovalleyhome.com/event/prescott-frontier-days-inc-rodeo-parade/
LOCATION:Downtown Prescott\, 117 W. Goodwin Street\, Prescott\, AZ 86303\, Prescott\, AZ\, 86303\, United States
ATTACH;FMTTYPE=image/webp:https://callchinovalleyhome.com/wp-content/uploads/2024/06/Prescott-Frontier-Days-Rodeo-Parade.webp
END:VEVENT
BEGIN:VEVENT
DTSTART;TZID=America/Los_Angeles:20240705T103000
DTEND;TZID=America/Los_Angeles:20240705T111500
DTSTAMP:20260425T205733
CREATED:20240510T182919Z
LAST-MODIFIED:20240724T170028Z
UID:10002173-1720175400-1720178100@callchinovalleyhome.com
SUMMARY:Bigger Kids Storytime
DESCRIPTION:
URL:https://callchinovalleyhome.com/event/bigger-kids-storytime-2/2024-07-05/
LOCATION:Chino Valley Public Library\, 1020 W Palomino Rd Chino Valley\, AZ 86323\, Chino Valley\, AZ\, 86323\, United States
ATTACH;FMTTYPE=image/jpeg:https://callchinovalleyhome.com/wp-content/uploads/2024/05/Chino-Valley-Public-Library.jpg
ORGANIZER;CN="Rebecca Laurence":MAILTO:rlaurence@chinoaz.net
END:VEVENT
BEGIN:VEVENT
DTSTART;TZID=America/Los_Angeles:20240705T100000
DTEND;TZID=America/Los_Angeles:20240705T103000
DTSTAMP:20260425T205733
CREATED:20240510T182801Z
LAST-MODIFIED:20240724T170344Z
UID:10001652-1720173600-1720175400@callchinovalleyhome.com
SUMMARY:Little Ones Storytime
DESCRIPTION:
URL:https://callchinovalleyhome.com/event/little-ones-storytime-2/2024-07-05/
LOCATION:Chino Valley Public Library\, 1020 W Palomino Rd Chino Valley\, AZ 86323\, Chino Valley\, AZ\, 86323\, United States
ATTACH;FMTTYPE=image/jpeg:https://callchinovalleyhome.com/wp-content/uploads/2024/05/Chino-Valley-Public-Library.jpg
ORGANIZER;CN="Rebecca Laurence":MAILTO:rlaurence@chinoaz.net
END:VEVENT
BEGIN:VEVENT
DTSTART;TZID=America/Los_Angeles:20240704T151500
DTEND;TZID=America/Los_Angeles:20240704T161500
DTSTAMP:20260425T205733
CREATED:20240611T173741Z
LAST-MODIFIED:20241112T041118Z
UID:10004675-1720106100-1720109700@callchinovalleyhome.com
SUMMARY:Pet Partners
DESCRIPTION:Practice your developing reading skills by reading to a friendly therapy dog and handler! Perfect for young students but all readers are welcome. You can also pet the dogs. Great for those involved in the Summer Reading Program…track your reading while you’re here ;) Dogs may be in children’s area or in community room (if we need more room or quieter area.)
URL:https://callchinovalleyhome.com/event/pet-partners-4/2024-07-04/
LOCATION:Chino Valley Public Library\, 1020 W Palomino Rd Chino Valley\, AZ 86323\, Chino Valley\, AZ\, 86323\, United States
ATTACH;FMTTYPE=image/webp:https://callchinovalleyhome.com/wp-content/uploads/2024/06/Chino-Valley-Library-Paws-for-Friendship.webp
ORGANIZER;CN="Rebecca Laurence":MAILTO:rlaurence@chinoaz.net
END:VEVENT
BEGIN:VEVENT
DTSTART;TZID=America/Los_Angeles:20240703T150000
DTEND;TZID=America/Los_Angeles:20240703T190000
DTSTAMP:20260425T205733
CREATED:20240620T222334Z
LAST-MODIFIED:20240620T222334Z
UID:10003905-1720018800-1720033200@callchinovalleyhome.com
SUMMARY:Olsen's Events | Summer Series
DESCRIPTION:Wednesday Night \n5-Week Series \nOpen Arena 3:00p – 5:00p \nRace will begin at 5:30p \nPeewee\, Youth & Open Barrels \nPeewee & Open Poles \nBuckles to Winners in Each Division in the Open \n 
URL:https://callchinovalleyhome.com/event/olsens-events-summer-series/2024-07-03/
LOCATION:Olsen’s Events\, 344 S Hwy 89 Chino Valley\, AZ\, 86323\, Chino Valley\, AZ\, 86323\, United States
ATTACH;FMTTYPE=image/webp:https://callchinovalleyhome.com/wp-content/uploads/2024/06/Chino-Valley-Olsen-Events-Summer-Series.webp
END:VEVENT
BEGIN:VEVENT
DTSTART;TZID=America/Los_Angeles:20240703T100000
DTEND;TZID=America/Los_Angeles:20240703T120000
DTSTAMP:20260425T205733
CREATED:20240508T044138Z
LAST-MODIFIED:20240724T165812Z
UID:10000282-1720000800-1720008000@callchinovalleyhome.com
SUMMARY:Chino Valley Public Library Summer Reading Program
DESCRIPTION:Join us Wed mornings (occasionally other days/times of the week this Summer) for great free family events (open to the public) as part of our annual Summer Reading Program! \nThis Summer’s theme is “Adventure Begins at Your Library”. We have lots of adventurous fun planned. Each week is something different: nature experts\, magician\, juggler\, BMX stunt bikers\, live animals\, and more! \nThese typically are 2 identical events back to back (i.e. 10am and 11am) Sign up your kids and teens at the library anytime\, and enjoy weekly take-home craft packets during June and July\, prizes for reading\, and a big party at the end of Summer where participants can earn 2 books to keep (of your choice) and a State Park Pass! \nThere’s something for everyone – your child doesn’t have to be old enough to read to participate – you can read to them\, too. And individuals or groups with special needs (of any age) are also welcome to participate (SELF Club). \nSee you at the Library!
URL:https://callchinovalleyhome.com/event/chino-valley-public-library-summer-reading-program/2024-07-03/
LOCATION:Chino Valley Public Library\, 1020 W Palomino Rd Chino Valley\, AZ 86323\, Chino Valley\, AZ\, 86323\, United States
ATTACH;FMTTYPE=image/webp:https://callchinovalleyhome.com/wp-content/uploads/2024/05/Chino-Valley-Summer-Reading-Program.webp
END:VEVENT
BEGIN:VEVENT
DTSTART;TZID=America/Los_Angeles:20240702T151500
DTEND;TZID=America/Los_Angeles:20240702T161500
DTSTAMP:20260425T205733
CREATED:20240510T182703Z
LAST-MODIFIED:20240510T182703Z
UID:10001130-1719933300-1719936900@callchinovalleyhome.com
SUMMARY:Lego Club
DESCRIPTION:
URL:https://callchinovalleyhome.com/event/lego-club-5/2024-07-02/
LOCATION:Chino Valley Public Library\, 1020 W Palomino Rd Chino Valley\, AZ 86323\, Chino Valley\, AZ\, 86323\, United States
ATTACH;FMTTYPE=image/jpeg:https://callchinovalleyhome.com/wp-content/uploads/2024/05/Chino-Valley-Public-Library.jpg
ORGANIZER;CN="Rebecca Laurence":MAILTO:rlaurence@chinoaz.net
END:VEVENT
BEGIN:VEVENT
DTSTART;TZID=America/Los_Angeles:20240702T110000
DTEND;TZID=America/Los_Angeles:20240702T120000
DTSTAMP:20260425T205733
CREATED:20240611T173614Z
LAST-MODIFIED:20240724T171535Z
UID:10002721-1719918000-1719921600@callchinovalleyhome.com
SUMMARY:Paws for Friendship
DESCRIPTION:Practice your developing reading skills by reading to a friendly therapy dog and handler! Perfect for young students but all readers are welcome. You can also pet the dogs. Great for those involved in the Summer Reading Program…track your reading while you’re here ;) Dogs may be in children’s area or in community room (if we need more room or quieter area.)
URL:https://callchinovalleyhome.com/event/paws-for-friendship-5/2024-07-02/
ATTACH;FMTTYPE=image/webp:https://callchinovalleyhome.com/wp-content/uploads/2024/06/Chino-Valley-Library-Paws-for-Friendship.webp
END:VEVENT
BEGIN:VEVENT
DTSTART;TZID=America/Los_Angeles:20240702T103000
DTEND;TZID=America/Los_Angeles:20240702T111500
DTSTAMP:20260425T205733
CREATED:20240510T182604Z
LAST-MODIFIED:20240724T170202Z
UID:10000869-1719916200-1719918900@callchinovalleyhome.com
SUMMARY:Bigger Kids Storytime
DESCRIPTION:
URL:https://callchinovalleyhome.com/event/bigger-kids-storytime/2024-07-02/
LOCATION:Chino Valley Public Library\, 1020 W Palomino Rd Chino Valley\, AZ 86323\, Chino Valley\, AZ\, 86323\, United States
ATTACH;FMTTYPE=image/jpeg:https://callchinovalleyhome.com/wp-content/uploads/2024/05/Chino-Valley-Public-Library.jpg
ORGANIZER;CN="Rebecca Laurence":MAILTO:rlaurence@chinoaz.net
END:VEVENT
BEGIN:VEVENT
DTSTART;TZID=America/Los_Angeles:20240701T150000
DTEND;TZID=America/Los_Angeles:20240701T180000
DTSTAMP:20260425T205734
CREATED:20240510T182131Z
LAST-MODIFIED:20250113T050929Z
UID:10000348-1719846000-1719856800@callchinovalleyhome.com
SUMMARY:Chess Group
DESCRIPTION:
URL:https://callchinovalleyhome.com/event/chess-group-5/2024-07-01/
LOCATION:Chino Valley Public Library\, 1020 W Palomino Rd Chino Valley\, AZ 86323\, Chino Valley\, AZ\, 86323\, United States
ATTACH;FMTTYPE=image/jpeg:https://callchinovalleyhome.com/wp-content/uploads/2024/05/Chino-Valley-Public-Library.jpg
ORGANIZER;CN="Rebecca Laurence":MAILTO:rlaurence@chinoaz.net
END:VEVENT
BEGIN:VEVENT
DTSTART;TZID=America/Los_Angeles:20240629T160000
DTEND;TZID=America/Los_Angeles:20240629T200000
DTSTAMP:20260425T205734
CREATED:20240306T141140Z
LAST-MODIFIED:20240423T164154Z
UID:10000189-1719676800-1719691200@callchinovalleyhome.com
SUMMARY:3rd Annual Hammer Memorial Benefit 4D Barrel Race
DESCRIPTION:**DATE CHANGE FROM MAY 10 to JUNE 29*** \nBenefit to remember Fedon “Hammer” Starr\, he was a wonderful man and we love to do this event to celebrate his life and give back to our community. \nA portion of the proceeds from this race will go to the Equine Emergency Evacuation \nOpen Arena 4:00 pm – 5:00 pm\nRace at 5:30 pm
URL:https://callchinovalleyhome.com/event/3rd-annual-hammer-memorial-benefit-4d-barrel-race/
LOCATION:Olsen’s Events\, 344 S Hwy 89 Chino Valley\, AZ\, 86323\, Chino Valley\, AZ\, 86323\, United States
ATTACH;FMTTYPE=image/png:https://callchinovalleyhome.com/wp-content/uploads/2024/03/Chino-Valley-Olsen-Events-Hammer-Memorial.png
END:VEVENT
BEGIN:VEVENT
DTSTART;TZID=America/Los_Angeles:20240629T123000
DTEND;TZID=America/Los_Angeles:20240629T223000
DTSTAMP:20260425T205734
CREATED:20240522T164238Z
LAST-MODIFIED:20240522T164238Z
UID:10002427-1719664200-1719700200@callchinovalleyhome.com
SUMMARY:Triple 3 Summer Music Event
DESCRIPTION:Live music with amazing bands\, vendor shopping and food trucks!Bring the family\, enjoy some great music and the warm summer days.\nSky Daddy & Lonesome Valley – 12:30 to 3 pmTruly Reckless – 4:00 to 7 pmColton Burris\, Travis Crow & Forrest Cooley – 7:30 to 10:30 pm\nEntrance Fee- $15\nIf you’d like to be a vendor\, please fill out this Google Form so we can save you a spot! https://forms.gle/FZKt2qBjSDdaY2ZQA
URL:https://callchinovalleyhome.com/event/triple-3-summer-music-event/
LOCATION:Triple 3 Farms\, Triple 3 Farms 764 W Road 1 South Chino Valley\, AZ 86323\, Chino Valley\, AZ\, 86323\, United States
ATTACH;FMTTYPE=image/jpeg:https://callchinovalleyhome.com/wp-content/uploads/2024/05/Chino-Valley-Triple-3-Summer-Music.jpg
END:VEVENT
BEGIN:VEVENT
DTSTART;TZID=America/Los_Angeles:20240628T180000
DTEND;TZID=America/Los_Angeles:20240628T200000
DTSTAMP:20260425T205734
CREATED:20240620T220614Z
LAST-MODIFIED:20240620T220614Z
UID:10003842-1719597600-1719604800@callchinovalleyhome.com
SUMMARY:Movie Night at Chino Valley Aquatic Center
DESCRIPTION:Join us at the pool June 28th for a movie in the pool! We will be showing Finding Nemo that night. Movie Starts at dark\, but feel free to show up before dark and swim at 6:00pm.
URL:https://callchinovalleyhome.com/event/movie-night-at-chino-valley-aquatic-center/
LOCATION:Chino Valley Aquatic Center\, 1204 W Center Street\, Chino Valley\, 86323
ATTACH;FMTTYPE=image/webp:https://callchinovalleyhome.com/wp-content/uploads/2024/06/Chino-Valley-Movie-Night-At-Pool.webp
GEO:34.7462436;-112.4688968
X-APPLE-STRUCTURED-LOCATION;VALUE=URI;X-ADDRESS=Chino Valley Aquatic Center 1204 W Center Street Chino Valley 86323;X-APPLE-RADIUS=500;X-TITLE=1204 W Center Street:geo:-112.4688968,34.7462436
END:VEVENT
BEGIN:VEVENT
DTSTART;TZID=America/Los_Angeles:20240628T170000
DTEND;TZID=America/Los_Angeles:20240628T210000
DTSTAMP:20260425T205734
CREATED:20240611T172242Z
LAST-MODIFIED:20240611T172242Z
UID:10002455-1719594000-1719608400@callchinovalleyhome.com
SUMMARY:VBS at Grace Church
DESCRIPTION:Can’t make it to the beach this summer? \nCome to Breaker Rock  Beach at Grace Church \nIt’s a free event for kids entering PreK-6th grade from 6:00p – 8:30p \nCome early at 5:15p for dinner for the whole family. \nSign up at cvgrace.com \n 
URL:https://callchinovalleyhome.com/event/vbs-at-grace-church/2024-06-28/
LOCATION:Grace Church\, 2010 AZ-89\, Chino Valley\, AZ 86323\, Chino Valley\, AZ\, 86323\, United States
ATTACH;FMTTYPE=image/webp:https://callchinovalleyhome.com/wp-content/uploads/2024/06/Chino-Valley-Grace-Church-VBS.webp
END:VEVENT
BEGIN:VEVENT
DTSTART;TZID=America/Los_Angeles:20240628T150000
DTEND;TZID=America/Los_Angeles:20240628T170000
DTSTAMP:20260425T205734
CREATED:20240501T053239Z
LAST-MODIFIED:20240501T053239Z
UID:10000268-1719586800-1719594000@callchinovalleyhome.com
SUMMARY:Chino Valley Olsen Events Basic Horse Trimming Clinic
DESCRIPTION:With Paul Goulding \n6 spots $50/spot – please pay Paul on arrival \nBring your own horse that you are comfortable working on \nItems Needed: Nippers\, Rasp\, Hoof Knife\, Light Weight Gloves\, Chaps \n*Trimming Kit will be available for purchase at Clinic for $50 each*
URL:https://callchinovalleyhome.com/event/chino-valley-olsen-events-basic-horse-trimming-clinic/
LOCATION:Olsen’s Events\, 344 S Hwy 89 Chino Valley\, AZ\, 86323\, Chino Valley\, AZ\, 86323\, United States
ATTACH;FMTTYPE=image/webp:https://callchinovalleyhome.com/wp-content/uploads/2024/04/ChinoValleyOlsenEventsBasicHorseTrimmingClinic.webp
END:VEVENT
BEGIN:VEVENT
DTSTART;TZID=America/Los_Angeles:20240628T103000
DTEND;TZID=America/Los_Angeles:20240628T113000
DTSTAMP:20260425T205734
CREATED:20240508T045635Z
LAST-MODIFIED:20240508T045635Z
UID:10000339-1719570600-1719574200@callchinovalleyhome.com
SUMMARY:Verde River Storytime
DESCRIPTION:Will be in Memory Park unless inclement weather (inside library if needed) Learn about the importance of the Verde River and its ecosystem from several local professionals and AZ author Phoebe Fox who will be sharing her children’s book(s) and puppets with us! \nWe will also hear a bit about Arizona’s NEWEST STATE PARK coming to the area – Verde River Headwaters State Park! Perfect for families.
URL:https://callchinovalleyhome.com/event/verde-river-storytime/
LOCATION:Memory Park in Chino Valley\, Palomino Road and N Road 1 West\, AZ\, United States
ATTACH;FMTTYPE=image/webp:https://callchinovalleyhome.com/wp-content/uploads/2024/05/Chino-Valley-Verde-River-Storytime.webp
ORGANIZER;CN="Rebecca Laurence":MAILTO:rlaurence@chinoaz.net
END:VEVENT
BEGIN:VEVENT
DTSTART;TZID=America/Los_Angeles:20240628T103000
DTEND;TZID=America/Los_Angeles:20240628T111500
DTSTAMP:20260425T205734
CREATED:20240510T182919Z
LAST-MODIFIED:20240724T170028Z
UID:10002172-1719570600-1719573300@callchinovalleyhome.com
SUMMARY:Bigger Kids Storytime
DESCRIPTION:
URL:https://callchinovalleyhome.com/event/bigger-kids-storytime-2/2024-06-28/
LOCATION:Chino Valley Public Library\, 1020 W Palomino Rd Chino Valley\, AZ 86323\, Chino Valley\, AZ\, 86323\, United States
ATTACH;FMTTYPE=image/jpeg:https://callchinovalleyhome.com/wp-content/uploads/2024/05/Chino-Valley-Public-Library.jpg
ORGANIZER;CN="Rebecca Laurence":MAILTO:rlaurence@chinoaz.net
END:VEVENT
BEGIN:VEVENT
DTSTART;TZID=America/Los_Angeles:20240628T100000
DTEND;TZID=America/Los_Angeles:20240628T103000
DTSTAMP:20260425T205734
CREATED:20240510T182801Z
LAST-MODIFIED:20240724T170344Z
UID:10001651-1719568800-1719570600@callchinovalleyhome.com
SUMMARY:Little Ones Storytime
DESCRIPTION:
URL:https://callchinovalleyhome.com/event/little-ones-storytime-2/2024-06-28/
LOCATION:Chino Valley Public Library\, 1020 W Palomino Rd Chino Valley\, AZ 86323\, Chino Valley\, AZ\, 86323\, United States
ATTACH;FMTTYPE=image/jpeg:https://callchinovalleyhome.com/wp-content/uploads/2024/05/Chino-Valley-Public-Library.jpg
ORGANIZER;CN="Rebecca Laurence":MAILTO:rlaurence@chinoaz.net
END:VEVENT
BEGIN:VEVENT
DTSTART;TZID=America/Los_Angeles:20240627T170000
DTEND;TZID=America/Los_Angeles:20240627T210000
DTSTAMP:20260425T205734
CREATED:20240611T172242Z
LAST-MODIFIED:20240611T172242Z
UID:10002454-1719507600-1719522000@callchinovalleyhome.com
SUMMARY:VBS at Grace Church
DESCRIPTION:Can’t make it to the beach this summer? \nCome to Breaker Rock  Beach at Grace Church \nIt’s a free event for kids entering PreK-6th grade from 6:00p – 8:30p \nCome early at 5:15p for dinner for the whole family. \nSign up at cvgrace.com \n 
URL:https://callchinovalleyhome.com/event/vbs-at-grace-church/2024-06-27/
LOCATION:Grace Church\, 2010 AZ-89\, Chino Valley\, AZ 86323\, Chino Valley\, AZ\, 86323\, United States
ATTACH;FMTTYPE=image/webp:https://callchinovalleyhome.com/wp-content/uploads/2024/06/Chino-Valley-Grace-Church-VBS.webp
END:VEVENT
BEGIN:VEVENT
DTSTART;TZID=America/Los_Angeles:20240627T151500
DTEND;TZID=America/Los_Angeles:20240627T161500
DTSTAMP:20260425T205734
CREATED:20240611T173741Z
LAST-MODIFIED:20241112T041118Z
UID:10004674-1719501300-1719504900@callchinovalleyhome.com
SUMMARY:Pet Partners
DESCRIPTION:Practice your developing reading skills by reading to a friendly therapy dog and handler! Perfect for young students but all readers are welcome. You can also pet the dogs. Great for those involved in the Summer Reading Program…track your reading while you’re here ;) Dogs may be in children’s area or in community room (if we need more room or quieter area.)
URL:https://callchinovalleyhome.com/event/pet-partners-4/2024-06-27/
LOCATION:Chino Valley Public Library\, 1020 W Palomino Rd Chino Valley\, AZ 86323\, Chino Valley\, AZ\, 86323\, United States
ATTACH;FMTTYPE=image/webp:https://callchinovalleyhome.com/wp-content/uploads/2024/06/Chino-Valley-Library-Paws-for-Friendship.webp
ORGANIZER;CN="Rebecca Laurence":MAILTO:rlaurence@chinoaz.net
END:VEVENT
BEGIN:VEVENT
DTSTART;TZID=America/Los_Angeles:20240626T170000
DTEND;TZID=America/Los_Angeles:20240626T210000
DTSTAMP:20260425T205734
CREATED:20240611T172242Z
LAST-MODIFIED:20240611T172242Z
UID:10002453-1719421200-1719435600@callchinovalleyhome.com
SUMMARY:VBS at Grace Church
DESCRIPTION:Can’t make it to the beach this summer? \nCome to Breaker Rock  Beach at Grace Church \nIt’s a free event for kids entering PreK-6th grade from 6:00p – 8:30p \nCome early at 5:15p for dinner for the whole family. \nSign up at cvgrace.com \n 
URL:https://callchinovalleyhome.com/event/vbs-at-grace-church/2024-06-26/
LOCATION:Grace Church\, 2010 AZ-89\, Chino Valley\, AZ 86323\, Chino Valley\, AZ\, 86323\, United States
ATTACH;FMTTYPE=image/webp:https://callchinovalleyhome.com/wp-content/uploads/2024/06/Chino-Valley-Grace-Church-VBS.webp
END:VEVENT
BEGIN:VEVENT
DTSTART;TZID=America/Los_Angeles:20240626T100000
DTEND;TZID=America/Los_Angeles:20240626T120000
DTSTAMP:20260425T205734
CREATED:20240508T044138Z
LAST-MODIFIED:20240724T165812Z
UID:10000281-1719396000-1719403200@callchinovalleyhome.com
SUMMARY:Chino Valley Public Library Summer Reading Program
DESCRIPTION:Join us Wed mornings (occasionally other days/times of the week this Summer) for great free family events (open to the public) as part of our annual Summer Reading Program! \nThis Summer’s theme is “Adventure Begins at Your Library”. We have lots of adventurous fun planned. Each week is something different: nature experts\, magician\, juggler\, BMX stunt bikers\, live animals\, and more! \nThese typically are 2 identical events back to back (i.e. 10am and 11am) Sign up your kids and teens at the library anytime\, and enjoy weekly take-home craft packets during June and July\, prizes for reading\, and a big party at the end of Summer where participants can earn 2 books to keep (of your choice) and a State Park Pass! \nThere’s something for everyone – your child doesn’t have to be old enough to read to participate – you can read to them\, too. And individuals or groups with special needs (of any age) are also welcome to participate (SELF Club). \nSee you at the Library!
URL:https://callchinovalleyhome.com/event/chino-valley-public-library-summer-reading-program/2024-06-26/
LOCATION:Chino Valley Public Library\, 1020 W Palomino Rd Chino Valley\, AZ 86323\, Chino Valley\, AZ\, 86323\, United States
ATTACH;FMTTYPE=image/webp:https://callchinovalleyhome.com/wp-content/uploads/2024/05/Chino-Valley-Summer-Reading-Program.webp
END:VEVENT
BEGIN:VEVENT
DTSTART;TZID=America/Los_Angeles:20240625T170000
DTEND;TZID=America/Los_Angeles:20240625T210000
DTSTAMP:20260425T205734
CREATED:20240611T172242Z
LAST-MODIFIED:20240611T172242Z
UID:10002452-1719334800-1719349200@callchinovalleyhome.com
SUMMARY:VBS at Grace Church
DESCRIPTION:Can’t make it to the beach this summer? \nCome to Breaker Rock  Beach at Grace Church \nIt’s a free event for kids entering PreK-6th grade from 6:00p – 8:30p \nCome early at 5:15p for dinner for the whole family. \nSign up at cvgrace.com \n 
URL:https://callchinovalleyhome.com/event/vbs-at-grace-church/2024-06-25/
LOCATION:Grace Church\, 2010 AZ-89\, Chino Valley\, AZ 86323\, Chino Valley\, AZ\, 86323\, United States
ATTACH;FMTTYPE=image/webp:https://callchinovalleyhome.com/wp-content/uploads/2024/06/Chino-Valley-Grace-Church-VBS.webp
END:VEVENT
BEGIN:VEVENT
DTSTART;TZID=America/Los_Angeles:20240625T151500
DTEND;TZID=America/Los_Angeles:20240625T161500
DTSTAMP:20260425T205734
CREATED:20240510T182703Z
LAST-MODIFIED:20240510T182703Z
UID:10001129-1719328500-1719332100@callchinovalleyhome.com
SUMMARY:Lego Club
DESCRIPTION:
URL:https://callchinovalleyhome.com/event/lego-club-5/2024-06-25/
LOCATION:Chino Valley Public Library\, 1020 W Palomino Rd Chino Valley\, AZ 86323\, Chino Valley\, AZ\, 86323\, United States
ATTACH;FMTTYPE=image/jpeg:https://callchinovalleyhome.com/wp-content/uploads/2024/05/Chino-Valley-Public-Library.jpg
ORGANIZER;CN="Rebecca Laurence":MAILTO:rlaurence@chinoaz.net
END:VEVENT
BEGIN:VEVENT
DTSTART;TZID=America/Los_Angeles:20240625T110000
DTEND;TZID=America/Los_Angeles:20240625T120000
DTSTAMP:20260425T205734
CREATED:20240611T173614Z
LAST-MODIFIED:20240724T171535Z
UID:10002720-1719313200-1719316800@callchinovalleyhome.com
SUMMARY:Paws for Friendship
DESCRIPTION:Practice your developing reading skills by reading to a friendly therapy dog and handler! Perfect for young students but all readers are welcome. You can also pet the dogs. Great for those involved in the Summer Reading Program…track your reading while you’re here ;) Dogs may be in children’s area or in community room (if we need more room or quieter area.)
URL:https://callchinovalleyhome.com/event/paws-for-friendship-5/2024-06-25/
ATTACH;FMTTYPE=image/webp:https://callchinovalleyhome.com/wp-content/uploads/2024/06/Chino-Valley-Library-Paws-for-Friendship.webp
END:VEVENT
BEGIN:VEVENT
DTSTART;TZID=America/Los_Angeles:20240625T103000
DTEND;TZID=America/Los_Angeles:20240625T111500
DTSTAMP:20260425T205734
CREATED:20240510T182604Z
LAST-MODIFIED:20240724T170202Z
UID:10000868-1719311400-1719314100@callchinovalleyhome.com
SUMMARY:Bigger Kids Storytime
DESCRIPTION:
URL:https://callchinovalleyhome.com/event/bigger-kids-storytime/2024-06-25/
LOCATION:Chino Valley Public Library\, 1020 W Palomino Rd Chino Valley\, AZ 86323\, Chino Valley\, AZ\, 86323\, United States
ATTACH;FMTTYPE=image/jpeg:https://callchinovalleyhome.com/wp-content/uploads/2024/05/Chino-Valley-Public-Library.jpg
ORGANIZER;CN="Rebecca Laurence":MAILTO:rlaurence@chinoaz.net
END:VEVENT
BEGIN:VEVENT
DTSTART;TZID=America/Los_Angeles:20240624T170000
DTEND;TZID=America/Los_Angeles:20240624T210000
DTSTAMP:20260425T205734
CREATED:20240611T172242Z
LAST-MODIFIED:20240611T172242Z
UID:10002451-1719248400-1719262800@callchinovalleyhome.com
SUMMARY:VBS at Grace Church
DESCRIPTION:Can’t make it to the beach this summer? \nCome to Breaker Rock  Beach at Grace Church \nIt’s a free event for kids entering PreK-6th grade from 6:00p – 8:30p \nCome early at 5:15p for dinner for the whole family. \nSign up at cvgrace.com \n 
URL:https://callchinovalleyhome.com/event/vbs-at-grace-church/2024-06-24/
LOCATION:Grace Church\, 2010 AZ-89\, Chino Valley\, AZ 86323\, Chino Valley\, AZ\, 86323\, United States
ATTACH;FMTTYPE=image/webp:https://callchinovalleyhome.com/wp-content/uploads/2024/06/Chino-Valley-Grace-Church-VBS.webp
END:VEVENT
BEGIN:VEVENT
DTSTART;TZID=America/Los_Angeles:20240624T150000
DTEND;TZID=America/Los_Angeles:20240624T180000
DTSTAMP:20260425T205734
CREATED:20240510T182131Z
LAST-MODIFIED:20250113T050929Z
UID:10000347-1719241200-1719252000@callchinovalleyhome.com
SUMMARY:Chess Group
DESCRIPTION:
URL:https://callchinovalleyhome.com/event/chess-group-5/2024-06-24/
LOCATION:Chino Valley Public Library\, 1020 W Palomino Rd Chino Valley\, AZ 86323\, Chino Valley\, AZ\, 86323\, United States
ATTACH;FMTTYPE=image/jpeg:https://callchinovalleyhome.com/wp-content/uploads/2024/05/Chino-Valley-Public-Library.jpg
ORGANIZER;CN="Rebecca Laurence":MAILTO:rlaurence@chinoaz.net
END:VEVENT
BEGIN:VEVENT
DTSTART;TZID=America/Los_Angeles:20240623T160000
DTEND;TZID=America/Los_Angeles:20240623T180000
DTSTAMP:20260425T205734
CREATED:20240402T173353Z
LAST-MODIFIED:20240402T173353Z
UID:10000232-1719158400-1719165600@callchinovalleyhome.com
SUMMARY:Equine Soccer 2024 | Olsen's Events
DESCRIPTION:2024 Event Dates: \n\nAPRIL 14th | 2PM\nMAY 19th | 3PM\nJUNE 23rd | 4PM\nJULY 14th | 4pm\nAUGUST 11th | 4pm\n\nFINALS: SEPTEMBER 13th @ 10AM at the Prescott Rodeo Grounds. \nDetails: \n\nTeams must attend 4 of 6 races to qualify for prizes.\n$30 / rider for each game day.
URL:https://callchinovalleyhome.com/event/equine-soccer-2024-olsens-events/2024-06-23/
LOCATION:Olsen’s Events\, 344 S Hwy 89 Chino Valley\, AZ 86323\, Chino Valley\, AZ\, 86323\, United States
ATTACH;FMTTYPE=image/webp:https://callchinovalleyhome.com/wp-content/uploads/2024/04/Chino-Valley-Olsen-Events-Equine-Soccer.webp
END:VEVENT
END:VCALENDAR