BEGIN:VCALENDAR
VERSION:2.0
PRODID:-//Call Chino Valley Home - ECPv6.15.20//NONSGML v1.0//EN
CALSCALE:GREGORIAN
METHOD:PUBLISH
X-WR-CALNAME:Call Chino Valley Home
X-ORIGINAL-URL:https://callchinovalleyhome.com
X-WR-CALDESC:Events for Call Chino Valley Home
REFRESH-INTERVAL;VALUE=DURATION:PT1H
X-Robots-Tag:noindex
X-PUBLISHED-TTL:PT1H
BEGIN:VTIMEZONE
TZID:America/Los_Angeles
BEGIN:DAYLIGHT
TZOFFSETFROM:-0800
TZOFFSETTO:-0700
TZNAME:PDT
DTSTART:20230312T100000
END:DAYLIGHT
BEGIN:STANDARD
TZOFFSETFROM:-0700
TZOFFSETTO:-0800
TZNAME:PST
DTSTART:20231105T090000
END:STANDARD
BEGIN:DAYLIGHT
TZOFFSETFROM:-0800
TZOFFSETTO:-0700
TZNAME:PDT
DTSTART:20240310T100000
END:DAYLIGHT
BEGIN:STANDARD
TZOFFSETFROM:-0700
TZOFFSETTO:-0800
TZNAME:PST
DTSTART:20241103T090000
END:STANDARD
BEGIN:DAYLIGHT
TZOFFSETFROM:-0800
TZOFFSETTO:-0700
TZNAME:PDT
DTSTART:20250309T100000
END:DAYLIGHT
BEGIN:STANDARD
TZOFFSETFROM:-0700
TZOFFSETTO:-0800
TZNAME:PST
DTSTART:20251102T090000
END:STANDARD
END:VTIMEZONE
BEGIN:VEVENT
DTSTART;TZID=America/Los_Angeles:20240612T100000
DTEND;TZID=America/Los_Angeles:20240612T120000
DTSTAMP:20260425T211533
CREATED:20240508T044138Z
LAST-MODIFIED:20240724T165812Z
UID:10000279-1718186400-1718193600@callchinovalleyhome.com
SUMMARY:Chino Valley Public Library Summer Reading Program
DESCRIPTION:Join us Wed mornings (occasionally other days/times of the week this Summer) for great free family events (open to the public) as part of our annual Summer Reading Program! \nThis Summer’s theme is “Adventure Begins at Your Library”. We have lots of adventurous fun planned. Each week is something different: nature experts\, magician\, juggler\, BMX stunt bikers\, live animals\, and more! \nThese typically are 2 identical events back to back (i.e. 10am and 11am) Sign up your kids and teens at the library anytime\, and enjoy weekly take-home craft packets during June and July\, prizes for reading\, and a big party at the end of Summer where participants can earn 2 books to keep (of your choice) and a State Park Pass! \nThere’s something for everyone – your child doesn’t have to be old enough to read to participate – you can read to them\, too. And individuals or groups with special needs (of any age) are also welcome to participate (SELF Club). \nSee you at the Library!
URL:https://callchinovalleyhome.com/event/chino-valley-public-library-summer-reading-program/2024-06-12/
LOCATION:Chino Valley Public Library\, 1020 W Palomino Rd Chino Valley\, AZ 86323\, Chino Valley\, AZ\, 86323\, United States
ATTACH;FMTTYPE=image/webp:https://callchinovalleyhome.com/wp-content/uploads/2024/05/Chino-Valley-Summer-Reading-Program.webp
END:VEVENT
BEGIN:VEVENT
DTSTART;TZID=America/Los_Angeles:20240611T151500
DTEND;TZID=America/Los_Angeles:20240611T161500
DTSTAMP:20260425T211533
CREATED:20240510T182703Z
LAST-MODIFIED:20240510T182703Z
UID:10001127-1718118900-1718122500@callchinovalleyhome.com
SUMMARY:Lego Club
DESCRIPTION:
URL:https://callchinovalleyhome.com/event/lego-club-5/2024-06-11/
LOCATION:Chino Valley Public Library\, 1020 W Palomino Rd Chino Valley\, AZ 86323\, Chino Valley\, AZ\, 86323\, United States
ATTACH;FMTTYPE=image/jpeg:https://callchinovalleyhome.com/wp-content/uploads/2024/05/Chino-Valley-Public-Library.jpg
ORGANIZER;CN="Rebecca Laurence":MAILTO:rlaurence@chinoaz.net
END:VEVENT
BEGIN:VEVENT
DTSTART;TZID=America/Los_Angeles:20240611T110000
DTEND;TZID=America/Los_Angeles:20240611T120000
DTSTAMP:20260425T211533
CREATED:20240611T173614Z
LAST-MODIFIED:20240724T171535Z
UID:10002456-1718103600-1718107200@callchinovalleyhome.com
SUMMARY:Paws for Friendship
DESCRIPTION:Practice your developing reading skills by reading to a friendly therapy dog and handler! Perfect for young students but all readers are welcome. You can also pet the dogs. Great for those involved in the Summer Reading Program…track your reading while you’re here ;) Dogs may be in children’s area or in community room (if we need more room or quieter area.)
URL:https://callchinovalleyhome.com/event/paws-for-friendship-5/2024-06-11/
ATTACH;FMTTYPE=image/webp:https://callchinovalleyhome.com/wp-content/uploads/2024/06/Chino-Valley-Library-Paws-for-Friendship.webp
END:VEVENT
BEGIN:VEVENT
DTSTART;TZID=America/Los_Angeles:20240611T103000
DTEND;TZID=America/Los_Angeles:20240611T111500
DTSTAMP:20260425T211533
CREATED:20240510T182604Z
LAST-MODIFIED:20240724T170202Z
UID:10000866-1718101800-1718104500@callchinovalleyhome.com
SUMMARY:Bigger Kids Storytime
DESCRIPTION:
URL:https://callchinovalleyhome.com/event/bigger-kids-storytime/2024-06-11/
LOCATION:Chino Valley Public Library\, 1020 W Palomino Rd Chino Valley\, AZ 86323\, Chino Valley\, AZ\, 86323\, United States
ATTACH;FMTTYPE=image/jpeg:https://callchinovalleyhome.com/wp-content/uploads/2024/05/Chino-Valley-Public-Library.jpg
ORGANIZER;CN="Rebecca Laurence":MAILTO:rlaurence@chinoaz.net
END:VEVENT
BEGIN:VEVENT
DTSTART;TZID=America/Los_Angeles:20240610T150000
DTEND;TZID=America/Los_Angeles:20240610T180000
DTSTAMP:20260425T211533
CREATED:20240510T182131Z
LAST-MODIFIED:20250113T050929Z
UID:10000345-1718031600-1718042400@callchinovalleyhome.com
SUMMARY:Chess Group
DESCRIPTION:
URL:https://callchinovalleyhome.com/event/chess-group-5/2024-06-10/
LOCATION:Chino Valley Public Library\, 1020 W Palomino Rd Chino Valley\, AZ 86323\, Chino Valley\, AZ\, 86323\, United States
ATTACH;FMTTYPE=image/jpeg:https://callchinovalleyhome.com/wp-content/uploads/2024/05/Chino-Valley-Public-Library.jpg
ORGANIZER;CN="Rebecca Laurence":MAILTO:rlaurence@chinoaz.net
END:VEVENT
BEGIN:VEVENT
DTSTART;TZID=America/Los_Angeles:20240608T170000
DTEND;TZID=America/Los_Angeles:20240608T200000
DTSTAMP:20260425T211533
CREATED:20240206T153039Z
LAST-MODIFIED:20240412T051730Z
UID:10000158-1717866000-1717876800@callchinovalleyhome.com
SUMMARY:Too Sweet Daddy Daughter Dance
DESCRIPTION:*****Due to unforeseen circumstances\, The Daddy/Daughter Dance has to be rescheduled. Please join us on June 8. Thank you for your understanding and patience.***** \n“Come join the Community Services Department for a sweet treat! Let your little girl get all gussied up and spend a special evening with her father or a special male figure in her life. A DJ\, decorations\, treats\, random drawings\, gifts at the door and a posed picture to capture the memory are all a part of this fun-filled evening. \nTickets are $10 per pair and $5 for each additional person. They can be purchased at the Senior Center or Library starting Monday\, February 5th!”
URL:https://callchinovalleyhome.com/event/too-sweet-daddy-daughter-dance/
LOCATION:Chino Valley Senior Center\, 1021 W Butterfield Rd Chino Valley\, AZ\, Chino Valley\, AZ\, 1021\, United States
CATEGORIES:Events
ATTACH;FMTTYPE=image/webp:https://callchinovalleyhome.com/wp-content/uploads/2024/02/Too-Sweet-Daddy-Daughter-Dance.webp
END:VEVENT
BEGIN:VEVENT
DTSTART;TZID=America/Los_Angeles:20240607T180000
DTEND;TZID=America/Los_Angeles:20240607T210000
DTSTAMP:20260425T211533
CREATED:20240507T212232Z
LAST-MODIFIED:20240507T212232Z
UID:10000276-1717783200-1717794000@callchinovalleyhome.com
SUMMARY:Movie in the Park - Trolls Band Together
DESCRIPTION:Join us at Memory Park for the start of our summer movies! We will be kicking it off with Trolls Band Together. Movie will start at dark.
URL:https://callchinovalleyhome.com/event/movie-in-the-park-trolls-band-together/
LOCATION:Memory Park in Chino Valley\, Palomino Road and N Road 1 West\, AZ\, United States
ATTACH;FMTTYPE=image/webp:https://callchinovalleyhome.com/wp-content/uploads/2024/05/Movie-Night-at-the-Park-Trolls.webp
END:VEVENT
BEGIN:VEVENT
DTSTART;TZID=America/Los_Angeles:20240607T170000
DTEND;TZID=America/Los_Angeles:20240607T210000
DTSTAMP:20260425T211533
CREATED:20240605T052101Z
LAST-MODIFIED:20240605T052101Z
UID:10002441-1717779600-1717794000@callchinovalleyhome.com
SUMMARY:Olsen's Events - Roping | Friday Night Jackpot
DESCRIPTION:Books Open at 5:00 pm | Close at 5:45 pm \nRoping Starts at 6:00 pm \nVisit https://olsensevents.com/ for more details.
URL:https://callchinovalleyhome.com/event/olsens-events-roping-friday-night-jackpot/2024-06-07/
LOCATION:Olsen’s Events\, 344 S Hwy 89 Chino Valley\, AZ\, 86323\, Chino Valley\, AZ\, 86323\, United States
ATTACH;FMTTYPE=image/webp:https://callchinovalleyhome.com/wp-content/uploads/2024/06/Chino-Valley-Olsen-Events-Roping.webp
END:VEVENT
BEGIN:VEVENT
DTSTART;TZID=America/Los_Angeles:20240607T133000
DTEND;TZID=America/Los_Angeles:20240607T153000
DTSTAMP:20260425T211533
CREATED:20240508T045252Z
LAST-MODIFIED:20240508T045252Z
UID:10000338-1717767000-1717774200@callchinovalleyhome.com
SUMMARY:Toothtime with Chompers My Kids' Dentist Storytime
DESCRIPTION:Kids (elementary age or preschool) can learn about dental hygiene habits from Dental staff of My Kids’ Dentist! Chompers the Dinosaur will demonstrate how to brush and floss\, we will have an adventurous tooth book\, and a craft and snack. \nTwo identical events\, 1:30 and 2:30
URL:https://callchinovalleyhome.com/event/toothtime-with-chompers-my-kids-dentist-storytime/
LOCATION:Chino Valley Public Library\, 1020 W Palomino Rd Chino Valley\, AZ 86323\, Chino Valley\, AZ\, 86323\, United States
ATTACH;FMTTYPE=image/webp:https://callchinovalleyhome.com/wp-content/uploads/2024/05/Chino-Valley-My-Kids-Dentist-Storytime-1.webp
ORGANIZER;CN="Rebecca Laurence":MAILTO:rlaurence@chinoaz.net
END:VEVENT
BEGIN:VEVENT
DTSTART;TZID=America/Los_Angeles:20240607T103000
DTEND;TZID=America/Los_Angeles:20240607T111500
DTSTAMP:20260425T211533
CREATED:20240510T182919Z
LAST-MODIFIED:20240724T170028Z
UID:10002169-1717756200-1717758900@callchinovalleyhome.com
SUMMARY:Bigger Kids Storytime
DESCRIPTION:
URL:https://callchinovalleyhome.com/event/bigger-kids-storytime-2/2024-06-07/
LOCATION:Chino Valley Public Library\, 1020 W Palomino Rd Chino Valley\, AZ 86323\, Chino Valley\, AZ\, 86323\, United States
ATTACH;FMTTYPE=image/jpeg:https://callchinovalleyhome.com/wp-content/uploads/2024/05/Chino-Valley-Public-Library.jpg
ORGANIZER;CN="Rebecca Laurence":MAILTO:rlaurence@chinoaz.net
END:VEVENT
BEGIN:VEVENT
DTSTART;TZID=America/Los_Angeles:20240607T100000
DTEND;TZID=America/Los_Angeles:20240607T103000
DTSTAMP:20260425T211533
CREATED:20240510T182801Z
LAST-MODIFIED:20240724T170344Z
UID:10001648-1717754400-1717756200@callchinovalleyhome.com
SUMMARY:Little Ones Storytime
DESCRIPTION:
URL:https://callchinovalleyhome.com/event/little-ones-storytime-2/2024-06-07/
LOCATION:Chino Valley Public Library\, 1020 W Palomino Rd Chino Valley\, AZ 86323\, Chino Valley\, AZ\, 86323\, United States
ATTACH;FMTTYPE=image/jpeg:https://callchinovalleyhome.com/wp-content/uploads/2024/05/Chino-Valley-Public-Library.jpg
ORGANIZER;CN="Rebecca Laurence":MAILTO:rlaurence@chinoaz.net
END:VEVENT
BEGIN:VEVENT
DTSTART;TZID=America/Los_Angeles:20240606T160000
DTEND;TZID=America/Los_Angeles:20240606T180000
DTSTAMP:20260425T211533
CREATED:20240501T053806Z
LAST-MODIFIED:20240501T053806Z
UID:10000269-1717689600-1717696800@callchinovalleyhome.com
SUMMARY:Chino Valley Chamber of Commerce Annual Meeting and Awards Ceremony
DESCRIPTION:Boots ‘n Business \n 
URL:https://callchinovalleyhome.com/event/chino-valley-chamber-of-commerce-annual-meeting-and-awards-ceremony/
LOCATION:Chino Valley Equestrian Park\, 2280 Equestrain Way\, Chino Valley\, AZ 86232\, Chino Valley\, AZ\, 86232\, United States
ATTACH;FMTTYPE=image/webp:https://callchinovalleyhome.com/wp-content/uploads/2024/04/Chino-Valley-Chamber-of-Commerce-Annual-Meeting-and-Awards.webp
END:VEVENT
BEGIN:VEVENT
DTSTART;TZID=America/Los_Angeles:20240605T100000
DTEND;TZID=America/Los_Angeles:20240605T120000
DTSTAMP:20260425T211533
CREATED:20240508T044138Z
LAST-MODIFIED:20240724T165812Z
UID:10000278-1717581600-1717588800@callchinovalleyhome.com
SUMMARY:Chino Valley Public Library Summer Reading Program
DESCRIPTION:Join us Wed mornings (occasionally other days/times of the week this Summer) for great free family events (open to the public) as part of our annual Summer Reading Program! \nThis Summer’s theme is “Adventure Begins at Your Library”. We have lots of adventurous fun planned. Each week is something different: nature experts\, magician\, juggler\, BMX stunt bikers\, live animals\, and more! \nThese typically are 2 identical events back to back (i.e. 10am and 11am) Sign up your kids and teens at the library anytime\, and enjoy weekly take-home craft packets during June and July\, prizes for reading\, and a big party at the end of Summer where participants can earn 2 books to keep (of your choice) and a State Park Pass! \nThere’s something for everyone – your child doesn’t have to be old enough to read to participate – you can read to them\, too. And individuals or groups with special needs (of any age) are also welcome to participate (SELF Club). \nSee you at the Library!
URL:https://callchinovalleyhome.com/event/chino-valley-public-library-summer-reading-program/2024-06-05/
LOCATION:Chino Valley Public Library\, 1020 W Palomino Rd Chino Valley\, AZ 86323\, Chino Valley\, AZ\, 86323\, United States
ATTACH;FMTTYPE=image/webp:https://callchinovalleyhome.com/wp-content/uploads/2024/05/Chino-Valley-Summer-Reading-Program.webp
END:VEVENT
BEGIN:VEVENT
DTSTART;TZID=America/Los_Angeles:20240604T151500
DTEND;TZID=America/Los_Angeles:20240604T161500
DTSTAMP:20260425T211533
CREATED:20240510T182703Z
LAST-MODIFIED:20240510T182703Z
UID:10001126-1717514100-1717517700@callchinovalleyhome.com
SUMMARY:Lego Club
DESCRIPTION:
URL:https://callchinovalleyhome.com/event/lego-club-5/2024-06-04/
LOCATION:Chino Valley Public Library\, 1020 W Palomino Rd Chino Valley\, AZ 86323\, Chino Valley\, AZ\, 86323\, United States
ATTACH;FMTTYPE=image/jpeg:https://callchinovalleyhome.com/wp-content/uploads/2024/05/Chino-Valley-Public-Library.jpg
ORGANIZER;CN="Rebecca Laurence":MAILTO:rlaurence@chinoaz.net
END:VEVENT
BEGIN:VEVENT
DTSTART;TZID=America/Los_Angeles:20240604T103000
DTEND;TZID=America/Los_Angeles:20240604T111500
DTSTAMP:20260425T211533
CREATED:20240510T182604Z
LAST-MODIFIED:20240724T170202Z
UID:10000865-1717497000-1717499700@callchinovalleyhome.com
SUMMARY:Bigger Kids Storytime
DESCRIPTION:
URL:https://callchinovalleyhome.com/event/bigger-kids-storytime/2024-06-04/
LOCATION:Chino Valley Public Library\, 1020 W Palomino Rd Chino Valley\, AZ 86323\, Chino Valley\, AZ\, 86323\, United States
ATTACH;FMTTYPE=image/jpeg:https://callchinovalleyhome.com/wp-content/uploads/2024/05/Chino-Valley-Public-Library.jpg
ORGANIZER;CN="Rebecca Laurence":MAILTO:rlaurence@chinoaz.net
END:VEVENT
BEGIN:VEVENT
DTSTART;TZID=America/Los_Angeles:20240603T150000
DTEND;TZID=America/Los_Angeles:20240603T180000
DTSTAMP:20260425T211533
CREATED:20240510T182131Z
LAST-MODIFIED:20250113T050929Z
UID:10000344-1717426800-1717437600@callchinovalleyhome.com
SUMMARY:Chess Group
DESCRIPTION:
URL:https://callchinovalleyhome.com/event/chess-group-5/2024-06-03/
LOCATION:Chino Valley Public Library\, 1020 W Palomino Rd Chino Valley\, AZ 86323\, Chino Valley\, AZ\, 86323\, United States
ATTACH;FMTTYPE=image/jpeg:https://callchinovalleyhome.com/wp-content/uploads/2024/05/Chino-Valley-Public-Library.jpg
ORGANIZER;CN="Rebecca Laurence":MAILTO:rlaurence@chinoaz.net
END:VEVENT
BEGIN:VEVENT
DTSTART;TZID=America/Los_Angeles:20240602T090000
DTEND;TZID=America/Los_Angeles:20240602T160000
DTSTAMP:20260425T211533
CREATED:20240402T174915Z
LAST-MODIFIED:20240402T175131Z
UID:10000238-1717318800-1717344000@callchinovalleyhome.com
SUMMARY:Arizona Mustang Trainer Challenge 2024 | Olsen's Events
DESCRIPTION:Featuring Arizona Mustangs from the White Mountains \n6 Trainers compete head-to-head with 6 unhandled horses. Watch as they put them through their paces over the course of 3 days. All 6 horses are available for adoption when the challenge is over. Horse feed savings and door prizes available at the event! \nThe horses are the result of ranch stock and trail horses that have either escaped or have been released into the wild. Over the last 100 years these horses have continued to develop into amazing resilient small bands and herds. As the herds have grown\, they have reached numbers that threaten the food and water supply for themselves and other animals that share the land.
URL:https://callchinovalleyhome.com/event/arizona-mustang-trainer-challenge-2024-olsens-events/2024-06-02/
LOCATION:Olsen’s Events\, 344 S Hwy 89 Chino Valley\, AZ 86323\, Chino Valley\, AZ\, 86323\, United States
ATTACH;FMTTYPE=image/webp:https://callchinovalleyhome.com/wp-content/uploads/2024/04/Chino-Valley-Olsen-Events-Mustang-Trainer.webp
END:VEVENT
BEGIN:VEVENT
DTSTART;TZID=America/Los_Angeles:20240601T120000
DTEND;TZID=America/Los_Angeles:20240601T180000
DTSTAMP:20260425T211533
CREATED:20240423T165140Z
LAST-MODIFIED:20240423T165140Z
UID:10000254-1717243200-1717264800@callchinovalleyhome.com
SUMMARY:Chino Valley Aquatic Center Grand Reopening
DESCRIPTION:Our pool got a makeover! Join us June 1st for a pool party.Free swim\, Food Trucks\, Music and a ribbon cutting. Come celebrate with us!!
URL:https://callchinovalleyhome.com/event/chino-valley-aquatic-center-grand-reopening/
LOCATION:Chino Valley Community Center\, 1527 N Road 1 East Chino Valley\, AZ 86323\, Chino Valley\, AZ\, 86323\, United States
ATTACH;FMTTYPE=image/webp:https://callchinovalleyhome.com/wp-content/uploads/2024/04/Chino-Valley-Aquatic-Center-ReGrand-Opening.webp
END:VEVENT
BEGIN:VEVENT
DTSTART;TZID=America/Los_Angeles:20240601T090000
DTEND;TZID=America/Los_Angeles:20240601T160000
DTSTAMP:20260425T211533
CREATED:20240402T174915Z
LAST-MODIFIED:20240402T175131Z
UID:10000237-1717232400-1717257600@callchinovalleyhome.com
SUMMARY:Arizona Mustang Trainer Challenge 2024 | Olsen's Events
DESCRIPTION:Featuring Arizona Mustangs from the White Mountains \n6 Trainers compete head-to-head with 6 unhandled horses. Watch as they put them through their paces over the course of 3 days. All 6 horses are available for adoption when the challenge is over. Horse feed savings and door prizes available at the event! \nThe horses are the result of ranch stock and trail horses that have either escaped or have been released into the wild. Over the last 100 years these horses have continued to develop into amazing resilient small bands and herds. As the herds have grown\, they have reached numbers that threaten the food and water supply for themselves and other animals that share the land.
URL:https://callchinovalleyhome.com/event/arizona-mustang-trainer-challenge-2024-olsens-events/2024-06-01/
LOCATION:Olsen’s Events\, 344 S Hwy 89 Chino Valley\, AZ 86323\, Chino Valley\, AZ\, 86323\, United States
ATTACH;FMTTYPE=image/webp:https://callchinovalleyhome.com/wp-content/uploads/2024/04/Chino-Valley-Olsen-Events-Mustang-Trainer.webp
END:VEVENT
BEGIN:VEVENT
DTSTART;TZID=America/Los_Angeles:20240531T103000
DTEND;TZID=America/Los_Angeles:20240531T111500
DTSTAMP:20260425T211533
CREATED:20240510T182919Z
LAST-MODIFIED:20240724T170028Z
UID:10002168-1717151400-1717154100@callchinovalleyhome.com
SUMMARY:Bigger Kids Storytime
DESCRIPTION:
URL:https://callchinovalleyhome.com/event/bigger-kids-storytime-2/2024-05-31/
LOCATION:Chino Valley Public Library\, 1020 W Palomino Rd Chino Valley\, AZ 86323\, Chino Valley\, AZ\, 86323\, United States
ATTACH;FMTTYPE=image/jpeg:https://callchinovalleyhome.com/wp-content/uploads/2024/05/Chino-Valley-Public-Library.jpg
ORGANIZER;CN="Rebecca Laurence":MAILTO:rlaurence@chinoaz.net
END:VEVENT
BEGIN:VEVENT
DTSTART;TZID=America/Los_Angeles:20240531T100000
DTEND;TZID=America/Los_Angeles:20240531T103000
DTSTAMP:20260425T211533
CREATED:20240510T182801Z
LAST-MODIFIED:20240724T170344Z
UID:10001647-1717149600-1717151400@callchinovalleyhome.com
SUMMARY:Little Ones Storytime
DESCRIPTION:
URL:https://callchinovalleyhome.com/event/little-ones-storytime-2/2024-05-31/
LOCATION:Chino Valley Public Library\, 1020 W Palomino Rd Chino Valley\, AZ 86323\, Chino Valley\, AZ\, 86323\, United States
ATTACH;FMTTYPE=image/jpeg:https://callchinovalleyhome.com/wp-content/uploads/2024/05/Chino-Valley-Public-Library.jpg
ORGANIZER;CN="Rebecca Laurence":MAILTO:rlaurence@chinoaz.net
END:VEVENT
BEGIN:VEVENT
DTSTART;TZID=America/Los_Angeles:20240531T090000
DTEND;TZID=America/Los_Angeles:20240531T160000
DTSTAMP:20260425T211533
CREATED:20240402T174915Z
LAST-MODIFIED:20240402T175131Z
UID:10000236-1717146000-1717171200@callchinovalleyhome.com
SUMMARY:Arizona Mustang Trainer Challenge 2024 | Olsen's Events
DESCRIPTION:Featuring Arizona Mustangs from the White Mountains \n6 Trainers compete head-to-head with 6 unhandled horses. Watch as they put them through their paces over the course of 3 days. All 6 horses are available for adoption when the challenge is over. Horse feed savings and door prizes available at the event! \nThe horses are the result of ranch stock and trail horses that have either escaped or have been released into the wild. Over the last 100 years these horses have continued to develop into amazing resilient small bands and herds. As the herds have grown\, they have reached numbers that threaten the food and water supply for themselves and other animals that share the land.
URL:https://callchinovalleyhome.com/event/arizona-mustang-trainer-challenge-2024-olsens-events/2024-05-31/
LOCATION:Olsen’s Events\, 344 S Hwy 89 Chino Valley\, AZ 86323\, Chino Valley\, AZ\, 86323\, United States
ATTACH;FMTTYPE=image/webp:https://callchinovalleyhome.com/wp-content/uploads/2024/04/Chino-Valley-Olsen-Events-Mustang-Trainer.webp
END:VEVENT
BEGIN:VEVENT
DTSTART;TZID=America/Los_Angeles:20240528T151500
DTEND;TZID=America/Los_Angeles:20240528T161500
DTSTAMP:20260425T211533
CREATED:20240510T182703Z
LAST-MODIFIED:20240510T182703Z
UID:10001125-1716909300-1716912900@callchinovalleyhome.com
SUMMARY:Lego Club
DESCRIPTION:
URL:https://callchinovalleyhome.com/event/lego-club-5/2024-05-28/
LOCATION:Chino Valley Public Library\, 1020 W Palomino Rd Chino Valley\, AZ 86323\, Chino Valley\, AZ\, 86323\, United States
ATTACH;FMTTYPE=image/jpeg:https://callchinovalleyhome.com/wp-content/uploads/2024/05/Chino-Valley-Public-Library.jpg
ORGANIZER;CN="Rebecca Laurence":MAILTO:rlaurence@chinoaz.net
END:VEVENT
BEGIN:VEVENT
DTSTART;TZID=America/Los_Angeles:20240528T103000
DTEND;TZID=America/Los_Angeles:20240528T111500
DTSTAMP:20260425T211533
CREATED:20240510T182604Z
LAST-MODIFIED:20240724T170202Z
UID:10000864-1716892200-1716894900@callchinovalleyhome.com
SUMMARY:Bigger Kids Storytime
DESCRIPTION:
URL:https://callchinovalleyhome.com/event/bigger-kids-storytime/2024-05-28/
LOCATION:Chino Valley Public Library\, 1020 W Palomino Rd Chino Valley\, AZ 86323\, Chino Valley\, AZ\, 86323\, United States
ATTACH;FMTTYPE=image/jpeg:https://callchinovalleyhome.com/wp-content/uploads/2024/05/Chino-Valley-Public-Library.jpg
ORGANIZER;CN="Rebecca Laurence":MAILTO:rlaurence@chinoaz.net
END:VEVENT
BEGIN:VEVENT
DTSTART;TZID=America/Los_Angeles:20240528T100000
DTEND;TZID=America/Los_Angeles:20240528T103000
DTSTAMP:20260425T211533
CREATED:20240510T182359Z
LAST-MODIFIED:20240510T182359Z
UID:10000603-1716890400-1716892200@callchinovalleyhome.com
SUMMARY:Little Ones Storytime
DESCRIPTION:
URL:https://callchinovalleyhome.com/event/little-ones-storytime/2024-05-28/
LOCATION:Chino Valley Public Library\, 1020 W Palomino Rd Chino Valley\, AZ 86323\, Chino Valley\, AZ\, 86323\, United States
ATTACH;FMTTYPE=image/jpeg:https://callchinovalleyhome.com/wp-content/uploads/2024/05/Chino-Valley-Public-Library.jpg
ORGANIZER;CN="Rebecca Laurence":MAILTO:rlaurence@chinoaz.net
END:VEVENT
BEGIN:VEVENT
DTSTART;TZID=America/Los_Angeles:20240526T080000
DTEND;TZID=America/Los_Angeles:20240526T100000
DTSTAMP:20260425T211533
CREATED:20240423T172901Z
LAST-MODIFIED:20240423T173304Z
UID:10000260-1716710400-1716717600@callchinovalleyhome.com
SUMMARY:Hunter Jumper Schooling Show Series
DESCRIPTION:Check out Megan Bennett’s Facebook Page and Flyer for more details. \n 
URL:https://callchinovalleyhome.com/event/hunter-jumper-lessons-schooling-hunter-jump-show-7/
LOCATION:Chino Valley Equestrian Park\, 2280 Equestrain Way\, Chino Valley\, AZ 86232\, Chino Valley\, AZ\, 86232\, United States
ATTACH;FMTTYPE=image/webp:https://callchinovalleyhome.com/wp-content/uploads/2024/03/Chino-Valley-Sunset-Ranch-Hunter-Jumper-Schooling-Show-Series.webp
END:VEVENT
BEGIN:VEVENT
DTSTART;TZID=America/Los_Angeles:20240525T100000
DTEND;TZID=America/Los_Angeles:20240525T160000
DTSTAMP:20260425T211533
CREATED:20240129T140147Z
LAST-MODIFIED:20240129T140650Z
UID:10000133-1716631200-1716652800@callchinovalleyhome.com
SUMMARY:2nd Annual Dog Fair
DESCRIPTION:K9 Agility Competition\nK9 Police Dogs\nAdoption Event
URL:https://callchinovalleyhome.com/event/2nd-annual-dog-fair/
LOCATION:Olsen’s Events\, 344 S Hwy 89 Chino Valley\, AZ\, 86323\, Chino Valley\, AZ\, 86323\, United States
ATTACH;FMTTYPE=image/webp:https://callchinovalleyhome.com/wp-content/uploads/2024/01/2nd-Annual-Dog-Fair.webp
END:VEVENT
BEGIN:VEVENT
DTSTART;TZID=America/Los_Angeles:20240525T090000
DTEND;TZID=America/Los_Angeles:20240525T130000
DTSTAMP:20260425T211533
CREATED:20240501T044040Z
LAST-MODIFIED:20240501T044120Z
UID:10000263-1716627600-1716642000@callchinovalleyhome.com
SUMMARY:Sunset Ranch Presents Ground Work Clinics: On-Line & Liberty
DESCRIPTION:These Clinics are designed to help us get a deeper level of communication with our horses. We will be discussing in detail the timing and importance of the release of pressure\, how to achieve the softest feel imaginable. What are your phases of pressure and are you comfortable moving up and down them? In Liberty work the locations of your horse’s innate drive lines are incredible important and we’ll be experimenting with the super powers of rhythm and energy. If this description gets your heart pumping then we should be friends LOL! Ground work is my passion and I’m so excited to share with you some of the techniques and strategies I have used over the years working with problem horses and creating our trick horses. I’d love to give you some new ideas to play with! All ages of horses and ability levels of handlers are welcome. You may participate in more than one session- Let’s inspire each other! \nOn-Line 9:00am – 11:00am \nLiberty Work 11:00am – 1:00pm \nAll Ability Levels Welcome $80/Session
URL:https://callchinovalleyhome.com/event/sunset-ranch-presents-ground-work-clinics-on-line-liberty-2/
LOCATION:Chino Valley Equestrian Park\, 2280 Equestrain Way\, Chino Valley\, AZ 86232\, Chino Valley\, AZ\, 86232\, United States
ATTACH;FMTTYPE=image/webp:https://callchinovalleyhome.com/wp-content/uploads/2024/04/Chino-Valley-Sunset-Production-Ground-Work.webp
ORGANIZER;CN="Megan Bennett":MAILTO:megan@sunsetranch.us
END:VEVENT
BEGIN:VEVENT
DTSTART;TZID=America/Los_Angeles:20240525T080000
DTEND;TZID=America/Los_Angeles:20240525T080000
DTSTAMP:20260425T211533
CREATED:20240402T195613Z
LAST-MODIFIED:20240402T195817Z
UID:10000240-1716624000-1716624000@callchinovalleyhome.com
SUMMARY:7th Annual Righteous Rods
DESCRIPTION:Rain or Shine \n$20 Vehicle Entry \nRoll in at 7:00am Show starts at 8:00am \nMusic! Prizes! Food! \nAll vehicles welcome! \nRegister at lifepregnancycv.com under the Events Tab
URL:https://callchinovalleyhome.com/event/7th-annual-righteous-rods/
LOCATION:Memory Park in Chino Valley\, Palomino Road and N Road 1 West\, AZ\, United States
ATTACH;FMTTYPE=image/webp:https://callchinovalleyhome.com/wp-content/uploads/2024/04/Chino-Valley-Righteous-Rod-Car-Show.webp
END:VEVENT
BEGIN:VEVENT
DTSTART;TZID=America/Los_Angeles:20240524T103000
DTEND;TZID=America/Los_Angeles:20240524T111500
DTSTAMP:20260425T211533
CREATED:20240510T182919Z
LAST-MODIFIED:20240724T170028Z
UID:10002167-1716546600-1716549300@callchinovalleyhome.com
SUMMARY:Bigger Kids Storytime
DESCRIPTION:
URL:https://callchinovalleyhome.com/event/bigger-kids-storytime-2/2024-05-24/
LOCATION:Chino Valley Public Library\, 1020 W Palomino Rd Chino Valley\, AZ 86323\, Chino Valley\, AZ\, 86323\, United States
ATTACH;FMTTYPE=image/jpeg:https://callchinovalleyhome.com/wp-content/uploads/2024/05/Chino-Valley-Public-Library.jpg
ORGANIZER;CN="Rebecca Laurence":MAILTO:rlaurence@chinoaz.net
END:VEVENT
END:VCALENDAR