BEGIN:VCALENDAR
VERSION:2.0
PRODID:-//Call Chino Valley Home - ECPv6.15.20//NONSGML v1.0//EN
CALSCALE:GREGORIAN
METHOD:PUBLISH
X-WR-CALNAME:Call Chino Valley Home
X-ORIGINAL-URL:https://callchinovalleyhome.com
X-WR-CALDESC:Events for Call Chino Valley Home
REFRESH-INTERVAL;VALUE=DURATION:PT1H
X-Robots-Tag:noindex
X-PUBLISHED-TTL:PT1H
BEGIN:VTIMEZONE
TZID:America/Los_Angeles
BEGIN:DAYLIGHT
TZOFFSETFROM:-0800
TZOFFSETTO:-0700
TZNAME:PDT
DTSTART:20250309T100000
END:DAYLIGHT
BEGIN:STANDARD
TZOFFSETFROM:-0700
TZOFFSETTO:-0800
TZNAME:PST
DTSTART:20251102T090000
END:STANDARD
BEGIN:DAYLIGHT
TZOFFSETFROM:-0800
TZOFFSETTO:-0700
TZNAME:PDT
DTSTART:20260308T100000
END:DAYLIGHT
BEGIN:STANDARD
TZOFFSETFROM:-0700
TZOFFSETTO:-0800
TZNAME:PST
DTSTART:20261101T090000
END:STANDARD
BEGIN:DAYLIGHT
TZOFFSETFROM:-0800
TZOFFSETTO:-0700
TZNAME:PDT
DTSTART:20270314T100000
END:DAYLIGHT
BEGIN:STANDARD
TZOFFSETFROM:-0700
TZOFFSETTO:-0800
TZNAME:PST
DTSTART:20271107T090000
END:STANDARD
END:VTIMEZONE
BEGIN:VEVENT
DTSTART;VALUE=DATE:20260418
DTEND;VALUE=DATE:20260420
DTSTAMP:20260423T033737
CREATED:20260322T044504Z
LAST-MODIFIED:20260322T044925Z
UID:10005820-1776470400-1776643199@callchinovalleyhome.com
SUMMARY:Sunset Ranch Obstacle Challenges
DESCRIPTION:Sunset Ranch Obstacle Challenge – All Levels Welcome \n\nObstacles and Real World Scenarios\nIn-Hand and Mounted Welcome\nClinics and Schooling Opportunities\nJudges Feedback / Learning-Focused\nStalls & Camping Available\n\nChino Valley Equestrian Park \n2208 Equestrian Way\, Chino Valley\, AZ 86323 \nMore information and online registration at https://sunsetranch.us
URL:https://callchinovalleyhome.com/event/sunset-ranch-obstacle-challenges-4/
ATTACH;FMTTYPE=image/webp:https://callchinovalleyhome.com/wp-content/uploads/2026/03/Sunset-Ranch-Obstacle-Challenge.webp
ORGANIZER;CN="Megan Bennett":MAILTO:megan@sunsetranch.us
END:VEVENT
END:VCALENDAR