BEGIN:VCALENDAR
VERSION:2.0
PRODID:-//Call Chino Valley Home - ECPv6.15.20//NONSGML v1.0//EN
CALSCALE:GREGORIAN
METHOD:PUBLISH
X-ORIGINAL-URL:https://callchinovalleyhome.com
X-WR-CALDESC:Events for Call Chino Valley Home
REFRESH-INTERVAL;VALUE=DURATION:PT1H
X-Robots-Tag:noindex
X-PUBLISHED-TTL:PT1H
BEGIN:VTIMEZONE
TZID:America/Los_Angeles
BEGIN:DAYLIGHT
TZOFFSETFROM:-0800
TZOFFSETTO:-0700
TZNAME:PDT
DTSTART:20240310T100000
END:DAYLIGHT
BEGIN:STANDARD
TZOFFSETFROM:-0700
TZOFFSETTO:-0800
TZNAME:PST
DTSTART:20241103T090000
END:STANDARD
BEGIN:DAYLIGHT
TZOFFSETFROM:-0800
TZOFFSETTO:-0700
TZNAME:PDT
DTSTART:20250309T100000
END:DAYLIGHT
BEGIN:STANDARD
TZOFFSETFROM:-0700
TZOFFSETTO:-0800
TZNAME:PST
DTSTART:20251102T090000
END:STANDARD
BEGIN:DAYLIGHT
TZOFFSETFROM:-0800
TZOFFSETTO:-0700
TZNAME:PDT
DTSTART:20260308T100000
END:DAYLIGHT
BEGIN:STANDARD
TZOFFSETFROM:-0700
TZOFFSETTO:-0800
TZNAME:PST
DTSTART:20261101T090000
END:STANDARD
END:VTIMEZONE
BEGIN:VEVENT
DTSTART;TZID=America/Los_Angeles:20251205T100000
DTEND;TZID=America/Los_Angeles:20251205T110000
DTSTAMP:20260422T031846
CREATED:20250828T204435Z
LAST-MODIFIED:20251030T211005Z
UID:10005512-1764928800-1764932400@callchinovalleyhome.com
SUMMARY:Chino Valley Library Weekly Storytimes (Fridays)
DESCRIPTION:Stories\, songs/games\, snack (& a craft for big kids) – new theme every week! \nLots of fun for young families. \nTuesdays are inside \nFridays are outside by the gazebo (weather permitting\, until around the end of October\, then both will be inside). \n10:00 am – 0-3 years old \n10:30 am – 3-10 years old \nSometimes we have special guests come for story times – watch the calendar/flyers! \nLocation: Chino Valley Public Library at 1020 Palomino Rd\, Chino Valley\, AZ 86323
URL:https://callchinovalleyhome.com/event/chino-valley-library-weekly-storytimes-fridays/2025-12-05/
ATTACH;FMTTYPE=image/webp:https://callchinovalleyhome.com/wp-content/uploads/2024/07/Chino-Valley-Local-Author-Storytime.webp
ORGANIZER;CN="Rebecca Laurence":MAILTO:rlaurence@chinoaz.net
END:VEVENT
BEGIN:VEVENT
DTSTART;TZID=America/Los_Angeles:20251205T130000
DTEND;TZID=America/Los_Angeles:20251205T160000
DTSTAMP:20260422T031846
CREATED:20251119T213846Z
LAST-MODIFIED:20251119T213846Z
UID:10005608-1764939600-1764950400@callchinovalleyhome.com
SUMMARY:Christmas Card and Origami Making Event
DESCRIPTION:Come to the library to make papercrafts for family friends\, neighbors\, teachers or co-workers! \nPlenty of great professional open-ended materials and tools provided. \nMake as many as you’d like! \nAll ages (but 8yo+ for origami) \nInvite a friend! \nThis is a free event! \nChino Valley Public Library
URL:https://callchinovalleyhome.com/event/christmas-card-and-origami-making-event/
LOCATION:Chino Valley Public Library\, 1020 W Palomino Rd Chino Valley\, AZ 86323\, Chino Valley\, AZ\, 86323\, United States
ATTACH;FMTTYPE=image/webp:https://callchinovalleyhome.com/wp-content/uploads/2025/11/Christmas-Card-and-Origami-Making-Event.webp
ORGANIZER;CN="Rebecca Laurence":MAILTO:rlaurence@chinoaz.net
END:VEVENT
BEGIN:VEVENT
DTSTART;TZID=America/Los_Angeles:20251205T160000
DTEND;TZID=America/Los_Angeles:20251205T210000
DTSTAMP:20260422T031846
CREATED:20241230T200349Z
LAST-MODIFIED:20241230T200349Z
UID:10004780-1764950400-1764968400@callchinovalleyhome.com
SUMMARY:Olsen's Events Mounted Shooting Practice
DESCRIPTION:Every Friday! \nWinter Hours Vary\, Call for Start Time \n$20/person \nBeginners Welcome
URL:https://callchinovalleyhome.com/event/olsens-events-mounted-shooting-practice-2/2025-12-05/
LOCATION:Olsen’s Events\, 344 S Hwy 89 Chino Valley\, AZ\, 86323\, Chino Valley\, AZ\, 86323\, United States
ATTACH;FMTTYPE=image/png:https://callchinovalleyhome.com/wp-content/uploads/2024/12/Winter-Mounted-Shooting-Practice.png
END:VEVENT
BEGIN:VEVENT
DTSTART;TZID=America/Los_Angeles:20251205T173000
DTEND;TZID=America/Los_Angeles:20251205T200000
DTSTAMP:20260422T031846
CREATED:20251119T212800Z
LAST-MODIFIED:20251119T212800Z
UID:10005607-1764955800-1764964800@callchinovalleyhome.com
SUMMARY:Light Parade and Santa Pictures
DESCRIPTION:December to Remember: Light Parade begins at dusk and Free pictures with Santa to follow at Memory Park.
URL:https://callchinovalleyhome.com/event/light-parade-and-santa-pictures/
LOCATION:Memory Park in Chino Valley\, Palomino Road and N Road 1 West\, AZ\, United States
ATTACH;FMTTYPE=image/webp:https://callchinovalleyhome.com/wp-content/uploads/2025/11/Old-Country-Christmas.webp
END:VEVENT
END:VCALENDAR