BEGIN:VCALENDAR
VERSION:2.0
PRODID:-//Call Chino Valley Home - ECPv6.15.20//NONSGML v1.0//EN
CALSCALE:GREGORIAN
METHOD:PUBLISH
X-WR-CALNAME:Call Chino Valley Home
X-ORIGINAL-URL:https://callchinovalleyhome.com
X-WR-CALDESC:Events for Call Chino Valley Home
REFRESH-INTERVAL;VALUE=DURATION:PT1H
X-Robots-Tag:noindex
X-PUBLISHED-TTL:PT1H
BEGIN:VTIMEZONE
TZID:America/Los_Angeles
BEGIN:DAYLIGHT
TZOFFSETFROM:-0800
TZOFFSETTO:-0700
TZNAME:PDT
DTSTART:20240310T100000
END:DAYLIGHT
BEGIN:STANDARD
TZOFFSETFROM:-0700
TZOFFSETTO:-0800
TZNAME:PST
DTSTART:20241103T090000
END:STANDARD
BEGIN:DAYLIGHT
TZOFFSETFROM:-0800
TZOFFSETTO:-0700
TZNAME:PDT
DTSTART:20250309T100000
END:DAYLIGHT
BEGIN:STANDARD
TZOFFSETFROM:-0700
TZOFFSETTO:-0800
TZNAME:PST
DTSTART:20251102T090000
END:STANDARD
BEGIN:DAYLIGHT
TZOFFSETFROM:-0800
TZOFFSETTO:-0700
TZNAME:PDT
DTSTART:20260308T100000
END:DAYLIGHT
BEGIN:STANDARD
TZOFFSETFROM:-0700
TZOFFSETTO:-0800
TZNAME:PST
DTSTART:20261101T090000
END:STANDARD
END:VTIMEZONE
BEGIN:VEVENT
DTSTART;VALUE=DATE:20250829
DTEND;VALUE=DATE:20250902
DTSTAMP:20260424T063113
CREATED:20250828T212159Z
LAST-MODIFIED:20250828T212159Z
UID:10005520-1756425600-1756771199@callchinovalleyhome.com
SUMMARY:2025 Chino Valley Territorial Days
DESCRIPTION:Turning through Time: From Wagon Wheels to Windmills \nAugust 29th to September 1st
URL:https://callchinovalleyhome.com/event/2025-chino-valley-territorial-days/
ATTACH;FMTTYPE=image/webp:https://callchinovalleyhome.com/wp-content/uploads/2025/08/Chino-Valley-2025-Territorial-Days-1.webp
END:VEVENT
BEGIN:VEVENT
DTSTART;TZID=America/Los_Angeles:20250829T100000
DTEND;TZID=America/Los_Angeles:20250829T110000
DTSTAMP:20260424T063113
CREATED:20250828T204435Z
LAST-MODIFIED:20251030T211005Z
UID:10005495-1756461600-1756465200@callchinovalleyhome.com
SUMMARY:Chino Valley Library Weekly Storytimes (Fridays)
DESCRIPTION:Stories\, songs/games\, snack (& a craft for big kids) – new theme every week! \nLots of fun for young families. \nTuesdays are inside \nFridays are outside by the gazebo (weather permitting\, until around the end of October\, then both will be inside). \n10:00 am – 0-3 years old \n10:30 am – 3-10 years old \nSometimes we have special guests come for story times – watch the calendar/flyers! \nLocation: Chino Valley Public Library at 1020 Palomino Rd\, Chino Valley\, AZ 86323
URL:https://callchinovalleyhome.com/event/chino-valley-library-weekly-storytimes-fridays/2025-08-29/
ATTACH;FMTTYPE=image/webp:https://callchinovalleyhome.com/wp-content/uploads/2024/07/Chino-Valley-Local-Author-Storytime.webp
ORGANIZER;CN="Rebecca Laurence":MAILTO:rlaurence@chinoaz.net
END:VEVENT
BEGIN:VEVENT
DTSTART;TZID=America/Los_Angeles:20250829T140000
DTEND;TZID=America/Los_Angeles:20250829T150000
DTSTAMP:20260424T063113
CREATED:20250828T204954Z
LAST-MODIFIED:20250828T204954Z
UID:10005498-1756476000-1756479600@callchinovalleyhome.com
SUMMARY:Legends of the Old West Historical Presentation
DESCRIPTION:Are you curious about the true legends of Arizona? Come learn from a historian as we explore people\, places\, events & objects of AZ legends with Jarrod Riddle of Spirit of Arizona Tours. Free presentation. \nLocation: \nChino Valley Public Library\n1020 W Palomino Rd\nChino Valley\, AZ
URL:https://callchinovalleyhome.com/event/legends-of-the-old-west-historical-presentation/
ATTACH;FMTTYPE=image/webp:https://callchinovalleyhome.com/wp-content/uploads/2025/08/Chino-Valley-Legends-of-the-Old-West.webp
ORGANIZER;CN="Rebecca Laurence":MAILTO:rlaurence@chinoaz.net
END:VEVENT
BEGIN:VEVENT
DTSTART;TZID=America/Los_Angeles:20250829T160000
DTEND;TZID=America/Los_Angeles:20250829T210000
DTSTAMP:20260424T063113
CREATED:20241230T200349Z
LAST-MODIFIED:20241230T200349Z
UID:10004766-1756483200-1756501200@callchinovalleyhome.com
SUMMARY:Olsen's Events Mounted Shooting Practice
DESCRIPTION:Every Friday! \nWinter Hours Vary\, Call for Start Time \n$20/person \nBeginners Welcome
URL:https://callchinovalleyhome.com/event/olsens-events-mounted-shooting-practice-2/2025-08-29/
LOCATION:Olsen’s Events\, 344 S Hwy 89 Chino Valley\, AZ\, 86323\, Chino Valley\, AZ\, 86323\, United States
ATTACH;FMTTYPE=image/png:https://callchinovalleyhome.com/wp-content/uploads/2024/12/Winter-Mounted-Shooting-Practice.png
END:VEVENT
BEGIN:VEVENT
DTSTART;TZID=America/Los_Angeles:20250829T180000
DTEND;TZID=America/Los_Angeles:20250829T230000
DTSTAMP:20260424T063113
CREATED:20250719T041459Z
LAST-MODIFIED:20250719T041459Z
UID:10005473-1756490400-1756508400@callchinovalleyhome.com
SUMMARY:Chino Valley Movie in the Park: Home on the Range
DESCRIPTION:Join us with your friends and family for a night of fun under the stars! Movie starts when it gets dark!
URL:https://callchinovalleyhome.com/event/chino-valley-movie-in-the-park-home-on-the-range/
LOCATION:Memory Park in Chino Valley\, Palomino Road and N Road 1 West\, AZ\, United States
ATTACH;FMTTYPE=image/webp:https://callchinovalleyhome.com/wp-content/uploads/2025/07/Chino-Valley-Movie-in-the-Park-Home-on-the-Range.webp
END:VEVENT
END:VCALENDAR