BEGIN:VCALENDAR
VERSION:2.0
PRODID:-//Call Chino Valley Home - ECPv6.15.20//NONSGML v1.0//EN
CALSCALE:GREGORIAN
METHOD:PUBLISH
X-ORIGINAL-URL:https://callchinovalleyhome.com
X-WR-CALDESC:Events for Call Chino Valley Home
REFRESH-INTERVAL;VALUE=DURATION:PT1H
X-Robots-Tag:noindex
X-PUBLISHED-TTL:PT1H
BEGIN:VTIMEZONE
TZID:America/Los_Angeles
BEGIN:DAYLIGHT
TZOFFSETFROM:-0800
TZOFFSETTO:-0700
TZNAME:PDT
DTSTART:20240310T100000
END:DAYLIGHT
BEGIN:STANDARD
TZOFFSETFROM:-0700
TZOFFSETTO:-0800
TZNAME:PST
DTSTART:20241103T090000
END:STANDARD
BEGIN:DAYLIGHT
TZOFFSETFROM:-0800
TZOFFSETTO:-0700
TZNAME:PDT
DTSTART:20250309T100000
END:DAYLIGHT
BEGIN:STANDARD
TZOFFSETFROM:-0700
TZOFFSETTO:-0800
TZNAME:PST
DTSTART:20251102T090000
END:STANDARD
BEGIN:DAYLIGHT
TZOFFSETFROM:-0800
TZOFFSETTO:-0700
TZNAME:PDT
DTSTART:20260308T100000
END:DAYLIGHT
BEGIN:STANDARD
TZOFFSETFROM:-0700
TZOFFSETTO:-0800
TZNAME:PST
DTSTART:20261101T090000
END:STANDARD
END:VTIMEZONE
BEGIN:VEVENT
DTSTART;VALUE=DATE:20250604
DTEND;VALUE=DATE:20250724
DTSTAMP:20260424T094441
CREATED:20250508T205858Z
LAST-MODIFIED:20250508T205858Z
UID:10005422-1748995200-1753315199@callchinovalleyhome.com
SUMMARY:Chino Valley Public Library Summer Reading Program
DESCRIPTION:Free Family Fun! \nCreative educational entertainment usually on Wednesday mornings and Friday morning/afternoon. \nTake home activities every week! Win prizes for reading! \nKids: Infant through High School welcome to participate! Lots of new books are available. You can even sign up for a free Library card with parent/guardian signature and ID (ages 5 and up).
URL:https://callchinovalleyhome.com/event/chino-valley-public-library-summer-reading-program-2/2025-06-04/
LOCATION:Chino Valley Public Library\, 1020 W Palomino Rd Chino Valley\, AZ 86323\, Chino Valley\, AZ\, 86323\, United States
ATTACH;FMTTYPE=image/webp:https://callchinovalleyhome.com/wp-content/uploads/2025/05/Chino-Valley-Free-Summer-Reading-Program.webp
END:VEVENT
BEGIN:VEVENT
DTSTART;TZID=America/Los_Angeles:20250628T143000
DTEND;TZID=America/Los_Angeles:20250628T183000
DTSTAMP:20260424T094441
CREATED:20250422T203248Z
LAST-MODIFIED:20250422T203248Z
UID:10005308-1751121000-1751135400@callchinovalleyhome.com
SUMMARY:Benefit Barrel Race for Brian Mckelvey
DESCRIPTION:The community is rallying together with Olsen’s Events to host a Barrel Race and silent auction to benefit Brian McKelvey\, who has been diagnosed with Glioblastoma\, a terminal brain tumor\, alongside Chronic Heart Failure. This event aims to provide financial and emotional support for Brian during his challenging journey. \nThe Barrel Race offers an exciting opportunity for participants to showcase their skills\, while the silent auction allows attendees to bid on a variety of items\, with proceeds going directly to assist Brian and his family during this difficult time. \nSo far by the Grace of God he has survived initial surgery\, and starting his treatments\, maintaining a positive attitude despite the challenges ahead. The event is a chance for the community to come together\, show their support\, and contribute to a meaningful cause. Your participation and generosity would be greatly appreciated as they continue this uphill battle.
URL:https://callchinovalleyhome.com/event/benefit-barrel-race-for-brian-mckelvey/
LOCATION:Olsen’s Events\, 344 S Hwy 89 Chino Valley\, AZ\, 86323\, Chino Valley\, AZ\, 86323\, United States
CATEGORIES:Charity Event,Events
ATTACH;FMTTYPE=image/png:https://callchinovalleyhome.com/wp-content/uploads/2025/01/Chino-Valley-Event-in-March.png
END:VEVENT
BEGIN:VEVENT
DTSTART;TZID=America/Los_Angeles:20250628T183000
DTEND;TZID=America/Los_Angeles:20250628T210000
DTSTAMP:20260424T094441
CREATED:20250508T210158Z
LAST-MODIFIED:20250508T210158Z
UID:10005423-1751135400-1751144400@callchinovalleyhome.com
SUMMARY:Boots and Bows Daddy Daughter Dance
DESCRIPTION:Come join the Community Services Department for the 3rd Annual Daddy Daughter Dance! \nA DJ\, decorations\, treats\, random drawings\, gifts at the door and a posed picture to capture the memory are all a part of this fun-filled evening. \nTickets are $10 per pair and $5 for each additional person.
URL:https://callchinovalleyhome.com/event/boots-and-bows-daddy-daughter-dance/
LOCATION:Memory Park in Chino Valley\, Palomino Road and N Road 1 West\, AZ\, United States
CATEGORIES:Events
ATTACH;FMTTYPE=image/webp:https://callchinovalleyhome.com/wp-content/uploads/2025/05/Chino-Valley-Boots-and-Bows-Daddy-Daughter-Dance.webp
END:VEVENT
END:VCALENDAR