BEGIN:VCALENDAR
VERSION:2.0
PRODID:-//Call Chino Valley Home - ECPv6.15.20//NONSGML v1.0//EN
CALSCALE:GREGORIAN
METHOD:PUBLISH
X-WR-CALNAME:Call Chino Valley Home
X-ORIGINAL-URL:https://callchinovalleyhome.com
X-WR-CALDESC:Events for Call Chino Valley Home
REFRESH-INTERVAL;VALUE=DURATION:PT1H
X-Robots-Tag:noindex
X-PUBLISHED-TTL:PT1H
BEGIN:VTIMEZONE
TZID:America/Los_Angeles
BEGIN:DAYLIGHT
TZOFFSETFROM:-0800
TZOFFSETTO:-0700
TZNAME:PDT
DTSTART:20240310T100000
END:DAYLIGHT
BEGIN:STANDARD
TZOFFSETFROM:-0700
TZOFFSETTO:-0800
TZNAME:PST
DTSTART:20241103T090000
END:STANDARD
BEGIN:DAYLIGHT
TZOFFSETFROM:-0800
TZOFFSETTO:-0700
TZNAME:PDT
DTSTART:20250309T100000
END:DAYLIGHT
BEGIN:STANDARD
TZOFFSETFROM:-0700
TZOFFSETTO:-0800
TZNAME:PST
DTSTART:20251102T090000
END:STANDARD
BEGIN:DAYLIGHT
TZOFFSETFROM:-0800
TZOFFSETTO:-0700
TZNAME:PDT
DTSTART:20260308T100000
END:DAYLIGHT
BEGIN:STANDARD
TZOFFSETFROM:-0700
TZOFFSETTO:-0800
TZNAME:PST
DTSTART:20261101T090000
END:STANDARD
END:VTIMEZONE
BEGIN:VEVENT
DTSTART;VALUE=DATE:20250604
DTEND;VALUE=DATE:20250724
DTSTAMP:20260424T100615
CREATED:20250508T205858Z
LAST-MODIFIED:20250508T205858Z
UID:10005422-1748995200-1753315199@callchinovalleyhome.com
SUMMARY:Chino Valley Public Library Summer Reading Program
DESCRIPTION:Free Family Fun! \nCreative educational entertainment usually on Wednesday mornings and Friday morning/afternoon. \nTake home activities every week! Win prizes for reading! \nKids: Infant through High School welcome to participate! Lots of new books are available. You can even sign up for a free Library card with parent/guardian signature and ID (ages 5 and up).
URL:https://callchinovalleyhome.com/event/chino-valley-public-library-summer-reading-program-2/2025-06-04/
LOCATION:Chino Valley Public Library\, 1020 W Palomino Rd Chino Valley\, AZ 86323\, Chino Valley\, AZ\, 86323\, United States
ATTACH;FMTTYPE=image/webp:https://callchinovalleyhome.com/wp-content/uploads/2025/05/Chino-Valley-Free-Summer-Reading-Program.webp
END:VEVENT
BEGIN:VEVENT
DTSTART;TZID=America/Los_Angeles:20250620T100000
DTEND;TZID=America/Los_Angeles:20250620T110000
DTSTAMP:20260424T100615
CREATED:20250617T194441Z
LAST-MODIFIED:20250617T194441Z
UID:10005428-1750413600-1750417200@callchinovalleyhome.com
SUMMARY:TriCity Music Storytimes
DESCRIPTION:Join Ms. Kim of TriCity Music and Art for a fun music themed Storytime full of hands on participation and smiles! Perfect for young families – enjoy our Summer Reading Program theme of “Color Our World” with this fun event! \nIndoor \n10am (0-3 yrs) \n10:30am (3-10yrs)
URL:https://callchinovalleyhome.com/event/tricity-music-storytimes/
LOCATION:Chino Valley Public Library\, 1020 W Palomino Rd Chino Valley\, AZ 86323\, Chino Valley\, AZ\, 86323\, United States
ATTACH;FMTTYPE=image/webp:https://callchinovalleyhome.com/wp-content/uploads/2024/07/Chino-Valley-Local-Author-Storytime.webp
ORGANIZER;CN="Rebecca Laurence":MAILTO:rlaurence@chinoaz.net
END:VEVENT
BEGIN:VEVENT
DTSTART;TZID=America/Los_Angeles:20250620T160000
DTEND;TZID=America/Los_Angeles:20250620T200000
DTSTAMP:20260424T100615
CREATED:20250422T211736Z
LAST-MODIFIED:20250507T204318Z
UID:10005341-1750435200-1750449600@callchinovalleyhome.com
SUMMARY:Olsen's Events | Summer Series
DESCRIPTION:Time Onlys form 4:00p-5:30p | Run at 6:00pm \n\nSeries 1 – must attend 3 out of 4 for awards – April 4\, 10\, 17\, 24\nSeries 2 – must attend 3 out of 4 for awards – May 1\, 15\, 22\, 29\nSeries 3 – must attend 3 out of 4 for awards  – June 6\, 13\, 20\, 27\nSeries 4 – must attend 4 out of 5 for awards – July 3\, 11\, 17\, 24\, 31\nSeries 5 – must attend 5 out of 6 for awards – Aug 14\, 21\, Sep 4\, 11\, 18\, 25\n\nOrder of events \n\nPeewee Poles\nOpen Poles\nPeeWee Barrels\nCombined Draw Open Barrels
URL:https://callchinovalleyhome.com/event/olsens-events-summer-series-2/2025-06-20/
LOCATION:Olsen’s Events\, 344 S Hwy 89 Chino Valley\, AZ\, 86323\, Chino Valley\, AZ\, 86323\, United States
ATTACH;FMTTYPE=image/webp:https://callchinovalleyhome.com/wp-content/uploads/2025/04/Olsens-Events-Summer-Series.webp
END:VEVENT
BEGIN:VEVENT
DTSTART;TZID=America/Los_Angeles:20250620T160000
DTEND;TZID=America/Los_Angeles:20250620T210000
DTSTAMP:20260424T100615
CREATED:20241230T200349Z
LAST-MODIFIED:20241230T200349Z
UID:10004756-1750435200-1750453200@callchinovalleyhome.com
SUMMARY:Olsen's Events Mounted Shooting Practice
DESCRIPTION:Every Friday! \nWinter Hours Vary\, Call for Start Time \n$20/person \nBeginners Welcome
URL:https://callchinovalleyhome.com/event/olsens-events-mounted-shooting-practice-2/2025-06-20/
LOCATION:Olsen’s Events\, 344 S Hwy 89 Chino Valley\, AZ\, 86323\, Chino Valley\, AZ\, 86323\, United States
ATTACH;FMTTYPE=image/png:https://callchinovalleyhome.com/wp-content/uploads/2024/12/Winter-Mounted-Shooting-Practice.png
END:VEVENT
BEGIN:VEVENT
DTSTART;TZID=America/Los_Angeles:20250620T180000
DTEND;TZID=America/Los_Angeles:20250620T230000
DTSTAMP:20260424T100615
CREATED:20250617T200900Z
LAST-MODIFIED:20250617T200900Z
UID:10005435-1750442400-1750460400@callchinovalleyhome.com
SUMMARY:Chino Valley Movie in the Park: Stuart Little
DESCRIPTION:Join us with your friends and family for a night of fun under the stars! Movie starts when it gets dark!
URL:https://callchinovalleyhome.com/event/chino-valley-movie-in-the-park-stuart-little/
LOCATION:Memory Park in Chino Valley\, Palomino Road and N Road 1 West\, AZ\, United States
ATTACH;FMTTYPE=image/webp:https://callchinovalleyhome.com/wp-content/uploads/2025/06/Chino-Valley-Movie-in-the-Park-Stuart-Little.webp
END:VEVENT
END:VCALENDAR