BEGIN:VCALENDAR
VERSION:2.0
PRODID:-//Call Chino Valley Home - ECPv6.15.20//NONSGML v1.0//EN
CALSCALE:GREGORIAN
METHOD:PUBLISH
X-WR-CALNAME:Call Chino Valley Home
X-ORIGINAL-URL:https://callchinovalleyhome.com
X-WR-CALDESC:Events for Call Chino Valley Home
REFRESH-INTERVAL;VALUE=DURATION:PT1H
X-Robots-Tag:noindex
X-PUBLISHED-TTL:PT1H
BEGIN:VTIMEZONE
TZID:America/Los_Angeles
BEGIN:DAYLIGHT
TZOFFSETFROM:-0800
TZOFFSETTO:-0700
TZNAME:PDT
DTSTART:20240310T100000
END:DAYLIGHT
BEGIN:STANDARD
TZOFFSETFROM:-0700
TZOFFSETTO:-0800
TZNAME:PST
DTSTART:20241103T090000
END:STANDARD
BEGIN:DAYLIGHT
TZOFFSETFROM:-0800
TZOFFSETTO:-0700
TZNAME:PDT
DTSTART:20250309T100000
END:DAYLIGHT
BEGIN:STANDARD
TZOFFSETFROM:-0700
TZOFFSETTO:-0800
TZNAME:PST
DTSTART:20251102T090000
END:STANDARD
BEGIN:DAYLIGHT
TZOFFSETFROM:-0800
TZOFFSETTO:-0700
TZNAME:PDT
DTSTART:20260308T100000
END:DAYLIGHT
BEGIN:STANDARD
TZOFFSETFROM:-0700
TZOFFSETTO:-0800
TZNAME:PST
DTSTART:20261101T090000
END:STANDARD
END:VTIMEZONE
BEGIN:VEVENT
DTSTART;VALUE=DATE:20250505
DTEND;VALUE=DATE:20250617
DTSTAMP:20260424T114255
CREATED:20250507T210524Z
LAST-MODIFIED:20250507T210524Z
UID:10005361-1746403200-1750118399@callchinovalleyhome.com
SUMMARY:Mother's and Father's Day Diaper Drive
DESCRIPTION:Mother’s and Father’s Day Diaper Drive for the Wrapped in Love Diaper Bank is collecting adult and baby wipes\, diapers\, period products and incontinence supplies for families in Yavapai County. Locations are found throughout the county. Go to our website for additional information – WrappedinLoveDiaperBank.org
URL:https://callchinovalleyhome.com/event/mothers-and-fathers-day-diaper-drive-2/
LOCATION:Paulden Public Library\, 16 Big Chino Road\, Paulden\, AZ\, 86334
ATTACH;FMTTYPE=image/webp:https://callchinovalleyhome.com/wp-content/uploads/2024/05/Chino-Valley-Wrapped-in-Love-Diaper-Drive-Event.webp
ORGANIZER;CN="Wrapped in Love Diaper Bank":MAILTO:WILdiaperbank@gmail.com
END:VEVENT
BEGIN:VEVENT
DTSTART;VALUE=DATE:20250604
DTEND;VALUE=DATE:20250724
DTSTAMP:20260424T114255
CREATED:20250508T205858Z
LAST-MODIFIED:20250508T205858Z
UID:10005422-1748995200-1753315199@callchinovalleyhome.com
SUMMARY:Chino Valley Public Library Summer Reading Program
DESCRIPTION:Free Family Fun! \nCreative educational entertainment usually on Wednesday mornings and Friday morning/afternoon. \nTake home activities every week! Win prizes for reading! \nKids: Infant through High School welcome to participate! Lots of new books are available. You can even sign up for a free Library card with parent/guardian signature and ID (ages 5 and up).
URL:https://callchinovalleyhome.com/event/chino-valley-public-library-summer-reading-program-2/2025-06-04/
LOCATION:Chino Valley Public Library\, 1020 W Palomino Rd Chino Valley\, AZ 86323\, Chino Valley\, AZ\, 86323\, United States
ATTACH;FMTTYPE=image/webp:https://callchinovalleyhome.com/wp-content/uploads/2025/05/Chino-Valley-Free-Summer-Reading-Program.webp
END:VEVENT
BEGIN:VEVENT
DTSTART;TZID=America/Los_Angeles:20250614T130000
DTEND;TZID=America/Los_Angeles:20250614T170000
DTSTAMP:20260424T114255
CREATED:20250422T052153Z
LAST-MODIFIED:20250422T052153Z
UID:10005304-1749906000-1749920400@callchinovalleyhome.com
SUMMARY:2025 High Point Saddle & Buckle Series
DESCRIPTION:Saddles to High Point in Each Division of the Open 4D! \nBuckles and other great prizes! \nOrder of Events/Fees – 70% Payback \n\nPeewee Poles\n3D Open Poles\nPeewee Barrels\nPeewee Goat Tying\n3D Goat Tying\nPee wee Dummy Breakaway\n3D Dummy Breakaway\nOpen 4D Barrels\nYouth 4D Barrels\nNovice Target Barrels\nGreen Horse 4D Barrels
URL:https://callchinovalleyhome.com/event/2025-high-point-saddle-buckle-series/2025-06-14/
LOCATION:Olsen’s Events\, 344 S Hwy 89 Chino Valley\, AZ\, 86323\, Chino Valley\, AZ\, 86323\, United States
ATTACH;FMTTYPE=image/webp:https://callchinovalleyhome.com/wp-content/uploads/2025/04/2025-High-Point-Saddle-Buckle-Series.webp
END:VEVENT
BEGIN:VEVENT
DTSTART;TZID=America/Los_Angeles:20250614T170000
DTEND;TZID=America/Los_Angeles:20250614T200000
DTSTAMP:20260424T114255
CREATED:20250508T210545Z
LAST-MODIFIED:20250508T210545Z
UID:10005424-1749920400-1749931200@callchinovalleyhome.com
SUMMARY:Mother/Son Olympics
DESCRIPTION:Let the games begin! \nMatching sprots themed attire encouraged. \nTickets are $5 per mom and son(s). \nPurchase at Chino Valley Library or Senior Center.
URL:https://callchinovalleyhome.com/event/mother-son-olympics/
LOCATION:Chino Valley Aquatic Center\, 1204 W Center Street\, Chino Valley\, 86323
ATTACH;FMTTYPE=image/webp:https://callchinovalleyhome.com/wp-content/uploads/2025/05/Chino-Valley-Mother-Son-Olympics.webp
GEO:34.7462436;-112.4688968
X-APPLE-STRUCTURED-LOCATION;VALUE=URI;X-ADDRESS=Chino Valley Aquatic Center 1204 W Center Street Chino Valley 86323;X-APPLE-RADIUS=500;X-TITLE=1204 W Center Street:geo:-112.4688968,34.7462436
END:VEVENT
END:VCALENDAR