BEGIN:VCALENDAR
VERSION:2.0
PRODID:-//Call Chino Valley Home - ECPv6.15.20//NONSGML v1.0//EN
CALSCALE:GREGORIAN
METHOD:PUBLISH
X-WR-CALNAME:Call Chino Valley Home
X-ORIGINAL-URL:https://callchinovalleyhome.com
X-WR-CALDESC:Events for Call Chino Valley Home
REFRESH-INTERVAL;VALUE=DURATION:PT1H
X-Robots-Tag:noindex
X-PUBLISHED-TTL:PT1H
BEGIN:VTIMEZONE
TZID:America/Los_Angeles
BEGIN:DAYLIGHT
TZOFFSETFROM:-0800
TZOFFSETTO:-0700
TZNAME:PDT
DTSTART:20240310T100000
END:DAYLIGHT
BEGIN:STANDARD
TZOFFSETFROM:-0700
TZOFFSETTO:-0800
TZNAME:PST
DTSTART:20241103T090000
END:STANDARD
BEGIN:DAYLIGHT
TZOFFSETFROM:-0800
TZOFFSETTO:-0700
TZNAME:PDT
DTSTART:20250309T100000
END:DAYLIGHT
BEGIN:STANDARD
TZOFFSETFROM:-0700
TZOFFSETTO:-0800
TZNAME:PST
DTSTART:20251102T090000
END:STANDARD
BEGIN:DAYLIGHT
TZOFFSETFROM:-0800
TZOFFSETTO:-0700
TZNAME:PDT
DTSTART:20260308T100000
END:DAYLIGHT
BEGIN:STANDARD
TZOFFSETFROM:-0700
TZOFFSETTO:-0800
TZNAME:PST
DTSTART:20261101T090000
END:STANDARD
END:VTIMEZONE
BEGIN:VEVENT
DTSTART;VALUE=DATE:20250505
DTEND;VALUE=DATE:20250617
DTSTAMP:20260424T132033
CREATED:20250507T210524Z
LAST-MODIFIED:20250507T210524Z
UID:10005361-1746403200-1750118399@callchinovalleyhome.com
SUMMARY:Mother's and Father's Day Diaper Drive
DESCRIPTION:Mother’s and Father’s Day Diaper Drive for the Wrapped in Love Diaper Bank is collecting adult and baby wipes\, diapers\, period products and incontinence supplies for families in Yavapai County. Locations are found throughout the county. Go to our website for additional information – WrappedinLoveDiaperBank.org
URL:https://callchinovalleyhome.com/event/mothers-and-fathers-day-diaper-drive-2/
LOCATION:Paulden Public Library\, 16 Big Chino Road\, Paulden\, AZ\, 86334
ATTACH;FMTTYPE=image/webp:https://callchinovalleyhome.com/wp-content/uploads/2024/05/Chino-Valley-Wrapped-in-Love-Diaper-Drive-Event.webp
ORGANIZER;CN="Wrapped in Love Diaper Bank":MAILTO:WILdiaperbank@gmail.com
END:VEVENT
BEGIN:VEVENT
DTSTART;VALUE=DATE:20250604
DTEND;VALUE=DATE:20250724
DTSTAMP:20260424T132033
CREATED:20250508T205858Z
LAST-MODIFIED:20250508T205858Z
UID:10005422-1748995200-1753315199@callchinovalleyhome.com
SUMMARY:Chino Valley Public Library Summer Reading Program
DESCRIPTION:Free Family Fun! \nCreative educational entertainment usually on Wednesday mornings and Friday morning/afternoon. \nTake home activities every week! Win prizes for reading! \nKids: Infant through High School welcome to participate! Lots of new books are available. You can even sign up for a free Library card with parent/guardian signature and ID (ages 5 and up).
URL:https://callchinovalleyhome.com/event/chino-valley-public-library-summer-reading-program-2/2025-06-04/
LOCATION:Chino Valley Public Library\, 1020 W Palomino Rd Chino Valley\, AZ 86323\, Chino Valley\, AZ\, 86323\, United States
ATTACH;FMTTYPE=image/webp:https://callchinovalleyhome.com/wp-content/uploads/2025/05/Chino-Valley-Free-Summer-Reading-Program.webp
END:VEVENT
BEGIN:VEVENT
DTSTART;TZID=America/Los_Angeles:20250610T100000
DTEND;TZID=America/Los_Angeles:20250610T110000
DTSTAMP:20260424T132033
CREATED:20250113T051254Z
LAST-MODIFIED:20250828T205255Z
UID:10005056-1749549600-1749553200@callchinovalleyhome.com
SUMMARY:Chino Valley Library Weekly Storytimes (Tuesdays)
DESCRIPTION:Stories\, songs/games\, snack (& a craft for big kids) – new theme every week! \nLots of fun for young families. \nTuesdays are inside \nFridays are outside by the gazebo (weather permitting\, until around the end of October\, then both will be inside). \n10:00 am – 0-3 years old \n10:30 am – 3-10 years old \nSometimes we have special guests come for story times – watch the calendar/flyers! \nLocation: Chino Valley Public Library at 1020 Palomino Rd\, Chino Valley\, AZ 86323
URL:https://callchinovalleyhome.com/event/chino-valley-library-weekly-storytimes-5/2025-06-10/
ATTACH;FMTTYPE=image/webp:https://callchinovalleyhome.com/wp-content/uploads/2024/07/Chino-Valley-Local-Author-Storytime.webp
ORGANIZER;CN="Rebecca Laurence":MAILTO:rlaurence@chinoaz.net
END:VEVENT
BEGIN:VEVENT
DTSTART;TZID=America/Los_Angeles:20250610T110000
DTEND;TZID=America/Los_Angeles:20250610T120000
DTSTAMP:20260424T132033
CREATED:20250507T212450Z
LAST-MODIFIED:20250507T213329Z
UID:10005382-1749553200-1749556800@callchinovalleyhome.com
SUMMARY:Paws for Friendship
DESCRIPTION:Come practice your reading to a calm and friendly therapy dog team inside the Children’s section of the Library! These patient furry listeners are perfect for those developing readers. Choose a book from the library shelves or bring one from home. And don’t forget to join our Free Summer Reading Program and get prizes for reading this Summer!
URL:https://callchinovalleyhome.com/event/paws-for-friendship-6/2025-06-10/
LOCATION:Chino Valley Public Library\, 1020 W Palomino Rd Chino Valley\, AZ 86323\, Chino Valley\, AZ\, 86323\, United States
ATTACH;FMTTYPE=image/webp:https://callchinovalleyhome.com/wp-content/uploads/2024/06/Chino-Valley-Library-Paws-for-Friendship.webp
ORGANIZER;CN="Rebecca Laurence":MAILTO:rlaurence@chinoaz.net
END:VEVENT
BEGIN:VEVENT
DTSTART;TZID=America/Los_Angeles:20250610T150000
DTEND;TZID=America/Los_Angeles:20250610T170000
DTSTAMP:20260424T132033
CREATED:20250218T200750Z
LAST-MODIFIED:20250218T201606Z
UID:10004022-1749567600-1749574800@callchinovalleyhome.com
SUMMARY:Lego Club
DESCRIPTION:Come afterschool to build something fun! Great for Elementary and Middle School ages. (If you child is under 5yrs\, please supervise them). \nDrop in\, drop out. Ok to arrive late or leave early.
URL:https://callchinovalleyhome.com/event/lego-club-5-2-2/2025-06-10/
LOCATION:Chino Valley Public Library\, 1020 W Palomino Rd Chino Valley\, AZ 86323\, Chino Valley\, AZ\, 86323\, United States
ATTACH;FMTTYPE=image/webp:https://callchinovalleyhome.com/wp-content/uploads/2024/06/Chino-Valley-Library-Lego-Event.webp
ORGANIZER;CN="Rebecca Laurence":MAILTO:rlaurence@chinoaz.net
END:VEVENT
END:VCALENDAR