BEGIN:VCALENDAR
VERSION:2.0
PRODID:-//Call Chino Valley Home - ECPv6.15.20//NONSGML v1.0//EN
CALSCALE:GREGORIAN
METHOD:PUBLISH
X-ORIGINAL-URL:https://callchinovalleyhome.com
X-WR-CALDESC:Events for Call Chino Valley Home
REFRESH-INTERVAL;VALUE=DURATION:PT1H
X-Robots-Tag:noindex
X-PUBLISHED-TTL:PT1H
BEGIN:VTIMEZONE
TZID:America/Los_Angeles
BEGIN:DAYLIGHT
TZOFFSETFROM:-0800
TZOFFSETTO:-0700
TZNAME:PDT
DTSTART:20240310T100000
END:DAYLIGHT
BEGIN:STANDARD
TZOFFSETFROM:-0700
TZOFFSETTO:-0800
TZNAME:PST
DTSTART:20241103T090000
END:STANDARD
BEGIN:DAYLIGHT
TZOFFSETFROM:-0800
TZOFFSETTO:-0700
TZNAME:PDT
DTSTART:20250309T100000
END:DAYLIGHT
BEGIN:STANDARD
TZOFFSETFROM:-0700
TZOFFSETTO:-0800
TZNAME:PST
DTSTART:20251102T090000
END:STANDARD
BEGIN:DAYLIGHT
TZOFFSETFROM:-0800
TZOFFSETTO:-0700
TZNAME:PDT
DTSTART:20260308T100000
END:DAYLIGHT
BEGIN:STANDARD
TZOFFSETFROM:-0700
TZOFFSETTO:-0800
TZNAME:PST
DTSTART:20261101T090000
END:STANDARD
END:VTIMEZONE
BEGIN:VEVENT
DTSTART;VALUE=DATE:20250505
DTEND;VALUE=DATE:20250617
DTSTAMP:20260424T100726
CREATED:20250507T210524Z
LAST-MODIFIED:20250507T210524Z
UID:10005361-1746403200-1750118399@callchinovalleyhome.com
SUMMARY:Mother's and Father's Day Diaper Drive
DESCRIPTION:Mother’s and Father’s Day Diaper Drive for the Wrapped in Love Diaper Bank is collecting adult and baby wipes\, diapers\, period products and incontinence supplies for families in Yavapai County. Locations are found throughout the county. Go to our website for additional information – WrappedinLoveDiaperBank.org
URL:https://callchinovalleyhome.com/event/mothers-and-fathers-day-diaper-drive-2/
LOCATION:Paulden Public Library\, 16 Big Chino Road\, Paulden\, AZ\, 86334
ATTACH;FMTTYPE=image/webp:https://callchinovalleyhome.com/wp-content/uploads/2024/05/Chino-Valley-Wrapped-in-Love-Diaper-Drive-Event.webp
ORGANIZER;CN="Wrapped in Love Diaper Bank":MAILTO:WILdiaperbank@gmail.com
END:VEVENT
BEGIN:VEVENT
DTSTART;TZID=America/Los_Angeles:20250530T090000
DTEND;TZID=America/Los_Angeles:20250530T160000
DTSTAMP:20260424T100726
CREATED:20250422T204323Z
LAST-MODIFIED:20250507T210101Z
UID:10005359-1748595600-1748620800@callchinovalleyhome.com
SUMMARY:Olsen's Events Horse Trainer Challenge
DESCRIPTION:All proceeds support this program which helps places horses in their loving forever homes. \nSign-Ups and Payments taken by Shyan Ingrao: 928-202-2003 \nQuestions call Wendy: 928-607-6605
URL:https://callchinovalleyhome.com/event/olsens-events-horse-trainer-challenge/2025-05-30/
LOCATION:Olsen’s Events\, 344 S Hwy 89 Chino Valley\, AZ\, 86323\, Chino Valley\, AZ\, 86323\, United States
ATTACH;FMTTYPE=image/webp:https://callchinovalleyhome.com/wp-content/uploads/2025/04/Horse-Trainer-Challenge.webp
END:VEVENT
BEGIN:VEVENT
DTSTART;TZID=America/Los_Angeles:20250530T100000
DTEND;TZID=America/Los_Angeles:20250530T110000
DTSTAMP:20260424T100727
CREATED:20250218T195126Z
LAST-MODIFIED:20250218T195127Z
UID:10005156-1748599200-1748602800@callchinovalleyhome.com
SUMMARY:Chino Valley Library Weekly Storytimes
DESCRIPTION:Themed stories\, songs\, games\, snack (and craft for big kids) each week \nIndoors \nTuesdays and Fridays 10am (0-3 yrs) \nTuesdays and Fridays 10:30am (3-8yrs)
URL:https://callchinovalleyhome.com/event/chino-valley-library-weekly-storytimes-6-2/2025-05-30/
LOCATION:Chino Valley Public Library\, 1020 W Palomino Rd Chino Valley\, AZ 86323\, Chino Valley\, AZ\, 86323\, United States
ATTACH;FMTTYPE=image/webp:https://callchinovalleyhome.com/wp-content/uploads/2024/07/Chino-Valley-Local-Author-Storytime.webp
ORGANIZER;CN="Rebecca Laurence":MAILTO:rlaurence@chinoaz.net
END:VEVENT
BEGIN:VEVENT
DTSTART;TZID=America/Los_Angeles:20250530T150000
DTEND;TZID=America/Los_Angeles:20250530T164500
DTSTAMP:20260424T100727
CREATED:20250507T214346Z
LAST-MODIFIED:20250507T214346Z
UID:10005412-1748617200-1748623500@callchinovalleyhome.com
SUMMARY:Wild Robot Movie
DESCRIPTION:Watch the animated movie based on the popular book series! PG\, all ages welcome\, free popcorn provided.
URL:https://callchinovalleyhome.com/event/wild-robot-movie/
LOCATION:Chino Valley Public Library\, 1020 W Palomino Rd Chino Valley\, AZ 86323\, Chino Valley\, AZ\, 86323\, United States
ATTACH;FMTTYPE=image/webp:https://callchinovalleyhome.com/wp-content/uploads/2025/05/Chino-Valley-Library-Wild-Robot.webp
ORGANIZER;CN="Rebecca Laurence":MAILTO:rlaurence@chinoaz.net
END:VEVENT
BEGIN:VEVENT
DTSTART;TZID=America/Los_Angeles:20250530T160000
DTEND;TZID=America/Los_Angeles:20250530T210000
DTSTAMP:20260424T100727
CREATED:20241230T200349Z
LAST-MODIFIED:20241230T200349Z
UID:10004753-1748620800-1748638800@callchinovalleyhome.com
SUMMARY:Olsen's Events Mounted Shooting Practice
DESCRIPTION:Every Friday! \nWinter Hours Vary\, Call for Start Time \n$20/person \nBeginners Welcome
URL:https://callchinovalleyhome.com/event/olsens-events-mounted-shooting-practice-2/2025-05-30/
LOCATION:Olsen’s Events\, 344 S Hwy 89 Chino Valley\, AZ\, 86323\, Chino Valley\, AZ\, 86323\, United States
ATTACH;FMTTYPE=image/png:https://callchinovalleyhome.com/wp-content/uploads/2024/12/Winter-Mounted-Shooting-Practice.png
END:VEVENT
END:VCALENDAR