BEGIN:VCALENDAR
VERSION:2.0
PRODID:-//Call Chino Valley Home - ECPv6.15.20//NONSGML v1.0//EN
CALSCALE:GREGORIAN
METHOD:PUBLISH
X-WR-CALNAME:Call Chino Valley Home
X-ORIGINAL-URL:https://callchinovalleyhome.com
X-WR-CALDESC:Events for Call Chino Valley Home
REFRESH-INTERVAL;VALUE=DURATION:PT1H
X-Robots-Tag:noindex
X-PUBLISHED-TTL:PT1H
BEGIN:VTIMEZONE
TZID:America/Los_Angeles
BEGIN:DAYLIGHT
TZOFFSETFROM:-0800
TZOFFSETTO:-0700
TZNAME:PDT
DTSTART:20240310T100000
END:DAYLIGHT
BEGIN:STANDARD
TZOFFSETFROM:-0700
TZOFFSETTO:-0800
TZNAME:PST
DTSTART:20241103T090000
END:STANDARD
BEGIN:DAYLIGHT
TZOFFSETFROM:-0800
TZOFFSETTO:-0700
TZNAME:PDT
DTSTART:20250309T100000
END:DAYLIGHT
BEGIN:STANDARD
TZOFFSETFROM:-0700
TZOFFSETTO:-0800
TZNAME:PST
DTSTART:20251102T090000
END:STANDARD
BEGIN:DAYLIGHT
TZOFFSETFROM:-0800
TZOFFSETTO:-0700
TZNAME:PDT
DTSTART:20260308T100000
END:DAYLIGHT
BEGIN:STANDARD
TZOFFSETFROM:-0700
TZOFFSETTO:-0800
TZNAME:PST
DTSTART:20261101T090000
END:STANDARD
END:VTIMEZONE
BEGIN:VEVENT
DTSTART;TZID=America/Los_Angeles:20250401T100000
DTEND;TZID=America/Los_Angeles:20250401T110000
DTSTAMP:20260424T144304
CREATED:20250113T051254Z
LAST-MODIFIED:20250828T205255Z
UID:10005046-1743501600-1743505200@callchinovalleyhome.com
SUMMARY:Chino Valley Library Weekly Storytimes (Tuesdays)
DESCRIPTION:Stories\, songs/games\, snack (& a craft for big kids) – new theme every week! \nLots of fun for young families. \nTuesdays are inside \nFridays are outside by the gazebo (weather permitting\, until around the end of October\, then both will be inside). \n10:00 am – 0-3 years old \n10:30 am – 3-10 years old \nSometimes we have special guests come for story times – watch the calendar/flyers! \nLocation: Chino Valley Public Library at 1020 Palomino Rd\, Chino Valley\, AZ 86323
URL:https://callchinovalleyhome.com/event/chino-valley-library-weekly-storytimes-5/2025-04-01/
ATTACH;FMTTYPE=image/webp:https://callchinovalleyhome.com/wp-content/uploads/2024/07/Chino-Valley-Local-Author-Storytime.webp
ORGANIZER;CN="Rebecca Laurence":MAILTO:rlaurence@chinoaz.net
END:VEVENT
BEGIN:VEVENT
DTSTART;TZID=America/Los_Angeles:20250401T113000
DTEND;TZID=America/Los_Angeles:20250401T130000
DTSTAMP:20260424T144304
CREATED:20250317T230532Z
LAST-MODIFIED:20250317T230532Z
UID:10005281-1743507000-1743512400@callchinovalleyhome.com
SUMMARY:Chino Valley Chamber of Commerce Lunch and Learn
DESCRIPTION:Generation Living Trusts \nJoin us in this educational class on what everyone needs to know on estate planning & asset protection. We will discuss the difference between a will and a trust. \nLearn what probate is and its qualifications. \nIf your estate qualifies for probate\, how can you avoid it? \nAlso\, how to protect your self from court appointed guardianship/conservatorship. \nLunch provided by El Charro Norte
URL:https://callchinovalleyhome.com/event/chino-valley-chamber-of-commerce-lunch-and-learn-6/
LOCATION:Chino Valley Police Department\, 220 N St Rte 89 Chino Valley\, AZ 86323\, Chino Valley\, AZ\, 86323\, United States
ATTACH;FMTTYPE=image/webp:https://callchinovalleyhome.com/wp-content/uploads/2025/01/Chino-Valley-Chamber-of-Commerce-Lunch-and-Learn.webp
END:VEVENT
BEGIN:VEVENT
DTSTART;TZID=America/Los_Angeles:20250401T150000
DTEND;TZID=America/Los_Angeles:20250401T170000
DTSTAMP:20260424T144304
CREATED:20250218T200750Z
LAST-MODIFIED:20250218T201606Z
UID:10004012-1743519600-1743526800@callchinovalleyhome.com
SUMMARY:Lego Club
DESCRIPTION:Come afterschool to build something fun! Great for Elementary and Middle School ages. (If you child is under 5yrs\, please supervise them). \nDrop in\, drop out. Ok to arrive late or leave early.
URL:https://callchinovalleyhome.com/event/lego-club-5-2-2/2025-04-01/
LOCATION:Chino Valley Public Library\, 1020 W Palomino Rd Chino Valley\, AZ 86323\, Chino Valley\, AZ\, 86323\, United States
ATTACH;FMTTYPE=image/webp:https://callchinovalleyhome.com/wp-content/uploads/2024/06/Chino-Valley-Library-Lego-Event.webp
ORGANIZER;CN="Rebecca Laurence":MAILTO:rlaurence@chinoaz.net
END:VEVENT
END:VCALENDAR