BEGIN:VCALENDAR
VERSION:2.0
PRODID:-//Call Chino Valley Home - ECPv6.15.20//NONSGML v1.0//EN
CALSCALE:GREGORIAN
METHOD:PUBLISH
X-ORIGINAL-URL:https://callchinovalleyhome.com
X-WR-CALDESC:Events for Call Chino Valley Home
REFRESH-INTERVAL;VALUE=DURATION:PT1H
X-Robots-Tag:noindex
X-PUBLISHED-TTL:PT1H
BEGIN:VTIMEZONE
TZID:America/Los_Angeles
BEGIN:DAYLIGHT
TZOFFSETFROM:-0800
TZOFFSETTO:-0700
TZNAME:PDT
DTSTART:20240310T100000
END:DAYLIGHT
BEGIN:STANDARD
TZOFFSETFROM:-0700
TZOFFSETTO:-0800
TZNAME:PST
DTSTART:20241103T090000
END:STANDARD
BEGIN:DAYLIGHT
TZOFFSETFROM:-0800
TZOFFSETTO:-0700
TZNAME:PDT
DTSTART:20250309T100000
END:DAYLIGHT
BEGIN:STANDARD
TZOFFSETFROM:-0700
TZOFFSETTO:-0800
TZNAME:PST
DTSTART:20251102T090000
END:STANDARD
BEGIN:DAYLIGHT
TZOFFSETFROM:-0800
TZOFFSETTO:-0700
TZNAME:PDT
DTSTART:20260308T100000
END:DAYLIGHT
BEGIN:STANDARD
TZOFFSETFROM:-0700
TZOFFSETTO:-0800
TZNAME:PST
DTSTART:20261101T090000
END:STANDARD
END:VTIMEZONE
BEGIN:VEVENT
DTSTART;TZID=America/Los_Angeles:20250321T080000
DTEND;TZID=America/Los_Angeles:20250322T150000
DTSTAMP:20260424T160952
CREATED:20250317T213225Z
LAST-MODIFIED:20250317T213225Z
UID:10005279-1742544000-1742655600@callchinovalleyhome.com
SUMMARY:Chino Valley Rummage Sales
DESCRIPTION:Please join us for a large indoor rummage sale! Spaces are available so start cleaning out the old. Money raised from space sales will go to our CVHS coaches family. Any donation of sales is not required but encouraged. Please contact us with any questions and applications can be taken up until 3/19
URL:https://callchinovalleyhome.com/event/chino-valley-rummage-sales/
LOCATION:Chino Valley High School\, West Center Street 260\, Chino Valley\, AZ\, 86323\, United States
ATTACH;FMTTYPE=image/webp:https://callchinovalleyhome.com/wp-content/uploads/2025/03/Chino-Valley-High-School-Rummage-Sales.webp
GEO:34.7458749;-112.4584159
X-APPLE-STRUCTURED-LOCATION;VALUE=URI;X-ADDRESS=Chino Valley High School West Center Street 260 Chino Valley AZ 86323 United States;X-APPLE-RADIUS=500;X-TITLE=West Center Street 260:geo:-112.4584159,34.7458749
END:VEVENT
BEGIN:VEVENT
DTSTART;TZID=America/Los_Angeles:20250321T100000
DTEND;TZID=America/Los_Angeles:20250321T110000
DTSTAMP:20260424T160952
CREATED:20250218T195126Z
LAST-MODIFIED:20250218T195127Z
UID:10005146-1742551200-1742554800@callchinovalleyhome.com
SUMMARY:Chino Valley Library Weekly Storytimes
DESCRIPTION:Themed stories\, songs\, games\, snack (and craft for big kids) each week \nIndoors \nTuesdays and Fridays 10am (0-3 yrs) \nTuesdays and Fridays 10:30am (3-8yrs)
URL:https://callchinovalleyhome.com/event/chino-valley-library-weekly-storytimes-6-2/2025-03-21/
LOCATION:Chino Valley Public Library\, 1020 W Palomino Rd Chino Valley\, AZ 86323\, Chino Valley\, AZ\, 86323\, United States
ATTACH;FMTTYPE=image/webp:https://callchinovalleyhome.com/wp-content/uploads/2024/07/Chino-Valley-Local-Author-Storytime.webp
ORGANIZER;CN="Rebecca Laurence":MAILTO:rlaurence@chinoaz.net
END:VEVENT
BEGIN:VEVENT
DTSTART;TZID=America/Los_Angeles:20250321T160000
DTEND;TZID=America/Los_Angeles:20250321T210000
DTSTAMP:20260424T160952
CREATED:20241230T200349Z
LAST-MODIFIED:20241230T200349Z
UID:10004743-1742572800-1742590800@callchinovalleyhome.com
SUMMARY:Olsen's Events Mounted Shooting Practice
DESCRIPTION:Every Friday! \nWinter Hours Vary\, Call for Start Time \n$20/person \nBeginners Welcome
URL:https://callchinovalleyhome.com/event/olsens-events-mounted-shooting-practice-2/2025-03-21/
LOCATION:Olsen’s Events\, 344 S Hwy 89 Chino Valley\, AZ\, 86323\, Chino Valley\, AZ\, 86323\, United States
ATTACH;FMTTYPE=image/png:https://callchinovalleyhome.com/wp-content/uploads/2024/12/Winter-Mounted-Shooting-Practice.png
END:VEVENT
END:VCALENDAR