BEGIN:VCALENDAR
VERSION:2.0
PRODID:-//Call Chino Valley Home - ECPv6.15.20//NONSGML v1.0//EN
CALSCALE:GREGORIAN
METHOD:PUBLISH
X-WR-CALNAME:Call Chino Valley Home
X-ORIGINAL-URL:https://callchinovalleyhome.com
X-WR-CALDESC:Events for Call Chino Valley Home
REFRESH-INTERVAL;VALUE=DURATION:PT1H
X-Robots-Tag:noindex
X-PUBLISHED-TTL:PT1H
BEGIN:VTIMEZONE
TZID:America/Los_Angeles
BEGIN:DAYLIGHT
TZOFFSETFROM:-0800
TZOFFSETTO:-0700
TZNAME:PDT
DTSTART:20240310T100000
END:DAYLIGHT
BEGIN:STANDARD
TZOFFSETFROM:-0700
TZOFFSETTO:-0800
TZNAME:PST
DTSTART:20241103T090000
END:STANDARD
BEGIN:DAYLIGHT
TZOFFSETFROM:-0800
TZOFFSETTO:-0700
TZNAME:PDT
DTSTART:20250309T100000
END:DAYLIGHT
BEGIN:STANDARD
TZOFFSETFROM:-0700
TZOFFSETTO:-0800
TZNAME:PST
DTSTART:20251102T090000
END:STANDARD
BEGIN:DAYLIGHT
TZOFFSETFROM:-0800
TZOFFSETTO:-0700
TZNAME:PDT
DTSTART:20260308T100000
END:DAYLIGHT
BEGIN:STANDARD
TZOFFSETFROM:-0700
TZOFFSETTO:-0800
TZNAME:PST
DTSTART:20261101T090000
END:STANDARD
END:VTIMEZONE
BEGIN:VEVENT
DTSTART;TZID=America/Los_Angeles:20250318T100000
DTEND;TZID=America/Los_Angeles:20250318T110000
DTSTAMP:20260424T161307
CREATED:20250113T051254Z
LAST-MODIFIED:20250828T205255Z
UID:10005044-1742292000-1742295600@callchinovalleyhome.com
SUMMARY:Chino Valley Library Weekly Storytimes (Tuesdays)
DESCRIPTION:Stories\, songs/games\, snack (& a craft for big kids) – new theme every week! \nLots of fun for young families. \nTuesdays are inside \nFridays are outside by the gazebo (weather permitting\, until around the end of October\, then both will be inside). \n10:00 am – 0-3 years old \n10:30 am – 3-10 years old \nSometimes we have special guests come for story times – watch the calendar/flyers! \nLocation: Chino Valley Public Library at 1020 Palomino Rd\, Chino Valley\, AZ 86323
URL:https://callchinovalleyhome.com/event/chino-valley-library-weekly-storytimes-5/2025-03-18/
ATTACH;FMTTYPE=image/webp:https://callchinovalleyhome.com/wp-content/uploads/2024/07/Chino-Valley-Local-Author-Storytime.webp
ORGANIZER;CN="Rebecca Laurence":MAILTO:rlaurence@chinoaz.net
END:VEVENT
BEGIN:VEVENT
DTSTART;TZID=America/Los_Angeles:20250318T130000
DTEND;TZID=America/Los_Angeles:20250318T140000
DTSTAMP:20260424T161307
CREATED:20250204T060507Z
LAST-MODIFIED:20251030T210730Z
UID:10005230-1742302800-1742306400@callchinovalleyhome.com
SUMMARY:Master Gardener Presentation
DESCRIPTION:University of Arizona Cooperative Extension presents free Master Gardener talks every month on the 3rd Tuesday at 1pm (except the month of December). Each month has a new topic or theme and is open to all. Come join us and learn more about gardening\, yard care\, nature\, yard wildlife\, plants\, growing and more!
URL:https://callchinovalleyhome.com/event/master-gardener-presentation-2-2/2025-03-18/
LOCATION:Chino Valley Public Library\, 1020 W Palomino Rd Chino Valley\, AZ 86323\, Chino Valley\, AZ\, 86323\, United States
ATTACH;FMTTYPE=image/webp:https://callchinovalleyhome.com/wp-content/uploads/2024/07/Chino-Valley-Master-Gardener.webp
ORGANIZER;CN="University of AZ Cooperative Extension":MAILTO:YCMGspeakersbureau@gmail.com
END:VEVENT
BEGIN:VEVENT
DTSTART;TZID=America/Los_Angeles:20250318T150000
DTEND;TZID=America/Los_Angeles:20250318T170000
DTSTAMP:20260424T161307
CREATED:20250218T195642Z
LAST-MODIFIED:20250221T171242Z
UID:10005240-1742310000-1742317200@callchinovalleyhome.com
SUMMARY:Minecraft Creeper Craft
DESCRIPTION:The Minecraft Creeper Craft event is a fun\, hands-on crafting opportunity for children\, taking place during Spring Break week at the local library. This activity invites kids to create their own Minecraft Creeper crafts that they can take home. \nEvent Details\n\n\nDate: March 18\, 2025 From 3:00 pm-5:00 pm \n\n\nLocation: Local library \n\n\nTarget Audience: Children\, particularly those under 5 years old should be supervised by an adult. \n\n\nHighlights\n\n\nParticipants will engage in crafting activities centered around the popular game Minecraft\, specifically making Creeper-themed crafts. \n\n\nThe library will provide all necessary materials for the crafts\, ensuring a hassle-free experience for attendees. \n\n\nA wide selection of fiction and nonfiction books about Minecraft will be available for checkout\, encouraging further exploration of the game. \n\n\nFlexibility\nThe event is designed to be flexible\, allowing families to drop in at their convenience. It’s perfectly fine to arrive late or leave early\, making it accessible for everyone. \nThis event promises to be an enjoyable way for kids to express their creativity while celebrating their love for Minecraft!
URL:https://callchinovalleyhome.com/event/minecraft-creeper-craft/
LOCATION:Chino Valley Public Library\, 1020 W Palomino Rd Chino Valley\, AZ 86323\, Chino Valley\, AZ\, 86323\, United States
ATTACH;FMTTYPE=image/webp:https://callchinovalleyhome.com/wp-content/uploads/2025/02/Chino-Valley-Library-Minecraft-Creeper-Craft-1.webp
ORGANIZER;CN="Rebecca Laurence":MAILTO:rlaurence@chinoaz.net
END:VEVENT
BEGIN:VEVENT
DTSTART;TZID=America/Los_Angeles:20250318T150000
DTEND;TZID=America/Los_Angeles:20250318T170000
DTSTAMP:20260424T161307
CREATED:20250218T200750Z
LAST-MODIFIED:20250218T201606Z
UID:10005272-1742310000-1742317200@callchinovalleyhome.com
SUMMARY:Lego Club
DESCRIPTION:Come afterschool to build something fun! Great for Elementary and Middle School ages. (If you child is under 5yrs\, please supervise them). \nDrop in\, drop out. Ok to arrive late or leave early.
URL:https://callchinovalleyhome.com/event/lego-club-5-2-2/2025-03-18/
LOCATION:Chino Valley Public Library\, 1020 W Palomino Rd Chino Valley\, AZ 86323\, Chino Valley\, AZ\, 86323\, United States
ATTACH;FMTTYPE=image/webp:https://callchinovalleyhome.com/wp-content/uploads/2024/06/Chino-Valley-Library-Lego-Event.webp
ORGANIZER;CN="Rebecca Laurence":MAILTO:rlaurence@chinoaz.net
END:VEVENT
END:VCALENDAR