BEGIN:VCALENDAR
VERSION:2.0
PRODID:-//Call Chino Valley Home - ECPv6.15.20//NONSGML v1.0//EN
CALSCALE:GREGORIAN
METHOD:PUBLISH
X-WR-CALNAME:Call Chino Valley Home
X-ORIGINAL-URL:https://callchinovalleyhome.com
X-WR-CALDESC:Events for Call Chino Valley Home
REFRESH-INTERVAL;VALUE=DURATION:PT1H
X-Robots-Tag:noindex
X-PUBLISHED-TTL:PT1H
BEGIN:VTIMEZONE
TZID:America/Los_Angeles
BEGIN:DAYLIGHT
TZOFFSETFROM:-0800
TZOFFSETTO:-0700
TZNAME:PDT
DTSTART:20230312T100000
END:DAYLIGHT
BEGIN:STANDARD
TZOFFSETFROM:-0700
TZOFFSETTO:-0800
TZNAME:PST
DTSTART:20231105T090000
END:STANDARD
BEGIN:DAYLIGHT
TZOFFSETFROM:-0800
TZOFFSETTO:-0700
TZNAME:PDT
DTSTART:20240310T100000
END:DAYLIGHT
BEGIN:STANDARD
TZOFFSETFROM:-0700
TZOFFSETTO:-0800
TZNAME:PST
DTSTART:20241103T090000
END:STANDARD
BEGIN:DAYLIGHT
TZOFFSETFROM:-0800
TZOFFSETTO:-0700
TZNAME:PDT
DTSTART:20250309T100000
END:DAYLIGHT
BEGIN:STANDARD
TZOFFSETFROM:-0700
TZOFFSETTO:-0800
TZNAME:PST
DTSTART:20251102T090000
END:STANDARD
BEGIN:DAYLIGHT
TZOFFSETFROM:-0800
TZOFFSETTO:-0700
TZNAME:PDT
DTSTART:20260308T100000
END:DAYLIGHT
BEGIN:STANDARD
TZOFFSETFROM:-0700
TZOFFSETTO:-0800
TZNAME:PST
DTSTART:20261101T090000
END:STANDARD
END:VTIMEZONE
BEGIN:VEVENT
DTSTART;VALUE=DATE:20241129
DTEND;VALUE=DATE:20250103
DTSTAMP:20260424T195707
CREATED:20241120T214411Z
LAST-MODIFIED:20241120T214411Z
UID:10004712-1732838400-1735862399@callchinovalleyhome.com
SUMMARY:December to Remember 4th Annual Parade of Homes
DESCRIPTION:Let’s light up our town this Christmas! We want to invite all citizens who call Chino Valley their home and that have their houses decorated for the season to be a part of our December to Remember Parade of Homes! Contact Recreation with any questions. \n6p – 9p every night from 11/29/2024 – 1/2/2025
URL:https://callchinovalleyhome.com/event/december-to-remember-4th-annual-parade-of-homes/
ATTACH;FMTTYPE=image/webp:https://callchinovalleyhome.com/wp-content/uploads/2024/11/December-to-Remember-4th-Annual-Parade-of-Homes.webp
END:VEVENT
BEGIN:VEVENT
DTSTART;TZID=America/Los_Angeles:20250102T140000
DTEND;TZID=America/Los_Angeles:20250102T170000
DTSTAMP:20260424T195707
CREATED:20241112T042616Z
LAST-MODIFIED:20241112T042616Z
UID:10004699-1735826400-1735837200@callchinovalleyhome.com
SUMMARY:Educational Book Giveaway
DESCRIPTION:Whether your family attends Homeschool\, Private/Charter School\, or Public School\, you are welcome to stop by and select 2 free\, used educational books per child to support their education. If you would like MORE than two books\, bring some of yours that you no longer want to trade! (Please no workbooks with writing inside.) \nChildren may select their own books or an adult can choose on their behalf.
URL:https://callchinovalleyhome.com/event/educational-book-giveaway/
LOCATION:Chino Valley Public Library\, 1020 W Palomino Rd Chino Valley\, AZ 86323\, Chino Valley\, AZ\, 86323\, United States
ATTACH;FMTTYPE=image/webp:https://callchinovalleyhome.com/wp-content/uploads/2024/11/Chino-Valley-Public-Library-Educational-Book-Giveaway.webp
ORGANIZER;CN="Rebecca Laurence":MAILTO:rlaurence@chinoaz.net
END:VEVENT
END:VCALENDAR