BEGIN:VCALENDAR
VERSION:2.0
PRODID:-//Call Chino Valley Home - ECPv6.15.20//NONSGML v1.0//EN
CALSCALE:GREGORIAN
METHOD:PUBLISH
X-WR-CALNAME:Call Chino Valley Home
X-ORIGINAL-URL:https://callchinovalleyhome.com
X-WR-CALDESC:Events for Call Chino Valley Home
REFRESH-INTERVAL;VALUE=DURATION:PT1H
X-Robots-Tag:noindex
X-PUBLISHED-TTL:PT1H
BEGIN:VTIMEZONE
TZID:America/Los_Angeles
BEGIN:DAYLIGHT
TZOFFSETFROM:-0800
TZOFFSETTO:-0700
TZNAME:PDT
DTSTART:20230312T100000
END:DAYLIGHT
BEGIN:STANDARD
TZOFFSETFROM:-0700
TZOFFSETTO:-0800
TZNAME:PST
DTSTART:20231105T090000
END:STANDARD
BEGIN:DAYLIGHT
TZOFFSETFROM:-0800
TZOFFSETTO:-0700
TZNAME:PDT
DTSTART:20240310T100000
END:DAYLIGHT
BEGIN:STANDARD
TZOFFSETFROM:-0700
TZOFFSETTO:-0800
TZNAME:PST
DTSTART:20241103T090000
END:STANDARD
BEGIN:DAYLIGHT
TZOFFSETFROM:-0800
TZOFFSETTO:-0700
TZNAME:PDT
DTSTART:20250309T100000
END:DAYLIGHT
BEGIN:STANDARD
TZOFFSETFROM:-0700
TZOFFSETTO:-0800
TZNAME:PST
DTSTART:20251102T090000
END:STANDARD
END:VTIMEZONE
BEGIN:VEVENT
DTSTART;TZID=America/Los_Angeles:20241025T100000
DTEND;TZID=America/Los_Angeles:20241025T110000
DTSTAMP:20260425T114236
CREATED:20241016T200043Z
LAST-MODIFIED:20241016T201829Z
UID:10003977-1729850400-1729854000@callchinovalleyhome.com
SUMMARY:Chino Valley Library Weekly Storytimes
DESCRIPTION:Themed stories\, songs\, games\, snack (and craft for big kids) each week \nIndoors \nTuesday 10am (0-3 yrs) \nTuesday 10:30am (3-8yrs) \nOutdoors \nFridays 10am (0-3 yrs) \nFridays 10:30am (3-8yrs) \n**Fridays are identical to Tuesday\, except 11/1/24 will be Highlands Nature Center (outside) instead\, and 11/22/24 will have a magic show instead. We will have some child-appropriate holiday themes throughout the season.
URL:https://callchinovalleyhome.com/event/chino-valley-library-weekly-storytimes-4-2/2024-10-25/
LOCATION:Chino Valley Public Library\, 1020 W Palomino Rd Chino Valley\, AZ 86323\, Chino Valley\, AZ\, 86323\, United States
ATTACH;FMTTYPE=image/webp:https://callchinovalleyhome.com/wp-content/uploads/2024/07/Chino-Valley-Local-Author-Storytime.webp
ORGANIZER;CN="Rebecca Laurence":MAILTO:rlaurence@chinoaz.net
END:VEVENT
BEGIN:VEVENT
DTSTART;TZID=America/Los_Angeles:20241025T160000
DTEND;TZID=America/Los_Angeles:20241025T190000
DTSTAMP:20260425T114236
CREATED:20240905T062006Z
LAST-MODIFIED:20240905T062006Z
UID:10004593-1729872000-1729882800@callchinovalleyhome.com
SUMMARY:Chino Valley Jeff Champ Agency 1st Annual Trunk or Treat
DESCRIPTION:Join us for our 1st annual trunk or treat! Jeff Champ Agency will be hosting a fun-filled evening!50/50 Raffle benefiting The Angel Tree Program.Do you want to be a participating vehicle? Registration forms are available through September 30th in our office or email us for one today!
URL:https://callchinovalleyhome.com/event/chino-valley-jeff-champ-agency-1st-annual-trunk-or-treat/
LOCATION:Jeff Champ Agency\, Farmers Insurance\, State Highway 89\, Chino Valley\, Arizona\, 86323\, United States
ATTACH;FMTTYPE=image/webp:https://callchinovalleyhome.com/wp-content/uploads/2024/09/Chino-Valley-Trunk-or-Treat.webp
GEO:34.7672657;-112.4538152
X-APPLE-STRUCTURED-LOCATION;VALUE=URI;X-ADDRESS=Jeff Champ Agency Farmers Insurance State Highway 89 Chino Valley Arizona 86323 United States;X-APPLE-RADIUS=500;X-TITLE=State Highway 89:geo:-112.4538152,34.7672657
END:VEVENT
BEGIN:VEVENT
DTSTART;TZID=America/Los_Angeles:20241025T160000
DTEND;TZID=America/Los_Angeles:20241025T190000
DTSTAMP:20260425T114236
CREATED:20241016T205504Z
LAST-MODIFIED:20241016T205504Z
UID:10004641-1729872000-1729882800@callchinovalleyhome.com
SUMMARY:Jeff Champs Farmers Insurance Agency's 1st Annual Trunk or Treat
DESCRIPTION:Join us for a fun filled evening! \nWe will also be accepting donations of bags of candy.
URL:https://callchinovalleyhome.com/event/jeff-champs-farmers-insurance-agencys-1st-annual-trunk-or-treat/
LOCATION:Jeff Champ Agency\, Farmers Insurance\, State Highway 89\, Chino Valley\, Arizona\, 86323\, United States
ATTACH;FMTTYPE=image/webp:https://callchinovalleyhome.com/wp-content/uploads/2024/10/Jeff-Champ-1st-Annual-Trunk-or-Treat.webp
GEO:34.7672657;-112.4538152
X-APPLE-STRUCTURED-LOCATION;VALUE=URI;X-ADDRESS=Jeff Champ Agency Farmers Insurance State Highway 89 Chino Valley Arizona 86323 United States;X-APPLE-RADIUS=500;X-TITLE=State Highway 89:geo:-112.4538152,34.7672657
END:VEVENT
BEGIN:VEVENT
DTSTART;TZID=America/Los_Angeles:20241025T160000
DTEND;TZID=America/Los_Angeles:20241025T210000
DTSTAMP:20260425T114236
CREATED:20240820T055138Z
LAST-MODIFIED:20241230T200717Z
UID:10004276-1729872000-1729890000@callchinovalleyhome.com
SUMMARY:Olsen's Events Mounted Shooting Practice
DESCRIPTION:Every Friday Beginning August 30th \n$20/person \nBeginners Welcome
URL:https://callchinovalleyhome.com/event/olsens-events-mounted-shooting-practice/2024-10-25/
LOCATION:Olsen’s Events\, 344 S Hwy 89 Chino Valley\, AZ\, 86323\, Chino Valley\, AZ\, 86323\, United States
ATTACH;FMTTYPE=image/webp:https://callchinovalleyhome.com/wp-content/uploads/2024/08/Chino-Valley-Olsens-Events-Mounted-Shooting-Practice.webp
END:VEVENT
END:VCALENDAR