BEGIN:VCALENDAR
VERSION:2.0
PRODID:-//Call Chino Valley Home - ECPv6.15.20//NONSGML v1.0//EN
CALSCALE:GREGORIAN
METHOD:PUBLISH
X-WR-CALNAME:Call Chino Valley Home
X-ORIGINAL-URL:https://callchinovalleyhome.com
X-WR-CALDESC:Events for Call Chino Valley Home
REFRESH-INTERVAL;VALUE=DURATION:PT1H
X-Robots-Tag:noindex
X-PUBLISHED-TTL:PT1H
BEGIN:VTIMEZONE
TZID:America/Los_Angeles
BEGIN:DAYLIGHT
TZOFFSETFROM:-0800
TZOFFSETTO:-0700
TZNAME:PDT
DTSTART:20230312T100000
END:DAYLIGHT
BEGIN:STANDARD
TZOFFSETFROM:-0700
TZOFFSETTO:-0800
TZNAME:PST
DTSTART:20231105T090000
END:STANDARD
BEGIN:DAYLIGHT
TZOFFSETFROM:-0800
TZOFFSETTO:-0700
TZNAME:PDT
DTSTART:20240310T100000
END:DAYLIGHT
BEGIN:STANDARD
TZOFFSETFROM:-0700
TZOFFSETTO:-0800
TZNAME:PST
DTSTART:20241103T090000
END:STANDARD
BEGIN:DAYLIGHT
TZOFFSETFROM:-0800
TZOFFSETTO:-0700
TZNAME:PDT
DTSTART:20250309T100000
END:DAYLIGHT
BEGIN:STANDARD
TZOFFSETFROM:-0700
TZOFFSETTO:-0800
TZNAME:PST
DTSTART:20251102T090000
END:STANDARD
END:VTIMEZONE
BEGIN:VEVENT
DTSTART;TZID=America/Los_Angeles:20241010T103000
DTEND;TZID=America/Los_Angeles:20241010T113000
DTSTAMP:20260425T114241
CREATED:20240926T051110Z
LAST-MODIFIED:20240926T051110Z
UID:10004607-1728556200-1728559800@callchinovalleyhome.com
SUMMARY:Llamas and Alpacas at the Chino Valley Library!
DESCRIPTION:Rocky Mountain Llama and Alpaca Association will be giving a presentation about these fascinating animals and their similarities and differences. Live animals will be present for interaction (please leave your dogs at home). All ages welcome\, occurs during CVUSD Fall Break.
URL:https://callchinovalleyhome.com/event/llamas-and-alpacas-at-the-chino-valley-library/
LOCATION:Memory Park in Chino Valley\, Palomino Road and N Road 1 West\, AZ\, United States
ATTACH;FMTTYPE=image/webp:https://callchinovalleyhome.com/wp-content/uploads/2024/09/Llamas-and-Alpacas-at-the-Library.webp
ORGANIZER;CN="Rebecca Laurence":MAILTO:rlaurence@chinoaz.net
END:VEVENT
BEGIN:VEVENT
DTSTART;TZID=America/Los_Angeles:20241010T151500
DTEND;TZID=America/Los_Angeles:20241010T161500
DTSTAMP:20260425T114241
CREATED:20240611T173741Z
LAST-MODIFIED:20241112T041118Z
UID:10004689-1728573300-1728576900@callchinovalleyhome.com
SUMMARY:Pet Partners
DESCRIPTION:Practice your developing reading skills by reading to a friendly therapy dog and handler! Perfect for young students but all readers are welcome. You can also pet the dogs. Great for those involved in the Summer Reading Program…track your reading while you’re here ;) Dogs may be in children’s area or in community room (if we need more room or quieter area.)
URL:https://callchinovalleyhome.com/event/pet-partners-4/2024-10-10/
LOCATION:Chino Valley Public Library\, 1020 W Palomino Rd Chino Valley\, AZ 86323\, Chino Valley\, AZ\, 86323\, United States
ATTACH;FMTTYPE=image/webp:https://callchinovalleyhome.com/wp-content/uploads/2024/06/Chino-Valley-Library-Paws-for-Friendship.webp
ORGANIZER;CN="Rebecca Laurence":MAILTO:rlaurence@chinoaz.net
END:VEVENT
BEGIN:VEVENT
DTSTART;TZID=America/Los_Angeles:20241010T160000
DTEND;TZID=America/Los_Angeles:20241010T200000
DTSTAMP:20260425T114241
CREATED:20240905T061135Z
LAST-MODIFIED:20240905T061135Z
UID:10004588-1728576000-1728590400@callchinovalleyhome.com
SUMMARY:Chino Valley Olsen's Events Buckle Series
DESCRIPTION:Time Onlies 4-5:15pm \nRace Starts at 6pm \nBuckles to highpoint series winners in each division of Open 3D Poles \n\nPeewee Poles ($10) \nOpen 3D Poles ($50) – Main Event! \nPeeWee Barrels ($10) \nOpen 4D Barrels ($40) \nYouth\, Senior\, Novice & Green Horse 4D Barrels ($40) \nTime Onlies ($5) \nArena Fee ($15/person) \n\n\n\n\nAdd to calendar
URL:https://callchinovalleyhome.com/event/chino-valley-olsens-events-buckle-series/2024-10-10/
LOCATION:Olsen’s Events\, 344 S Hwy 89 Chino Valley\, AZ\, 86323\, Chino Valley\, AZ\, 86323\, United States
ATTACH;FMTTYPE=image/webp:https://callchinovalleyhome.com/wp-content/uploads/2024/09/Chino-Valley-Olsen-Events-Buckle-Series.webp
END:VEVENT
END:VCALENDAR