BEGIN:VCALENDAR
VERSION:2.0
PRODID:-//Call Chino Valley Home - ECPv6.15.20//NONSGML v1.0//EN
CALSCALE:GREGORIAN
METHOD:PUBLISH
X-WR-CALNAME:Call Chino Valley Home
X-ORIGINAL-URL:https://callchinovalleyhome.com
X-WR-CALDESC:Events for Call Chino Valley Home
REFRESH-INTERVAL;VALUE=DURATION:PT1H
X-Robots-Tag:noindex
X-PUBLISHED-TTL:PT1H
BEGIN:VTIMEZONE
TZID:America/Los_Angeles
BEGIN:DAYLIGHT
TZOFFSETFROM:-0800
TZOFFSETTO:-0700
TZNAME:PDT
DTSTART:20230312T100000
END:DAYLIGHT
BEGIN:STANDARD
TZOFFSETFROM:-0700
TZOFFSETTO:-0800
TZNAME:PST
DTSTART:20231105T090000
END:STANDARD
BEGIN:DAYLIGHT
TZOFFSETFROM:-0800
TZOFFSETTO:-0700
TZNAME:PDT
DTSTART:20240310T100000
END:DAYLIGHT
BEGIN:STANDARD
TZOFFSETFROM:-0700
TZOFFSETTO:-0800
TZNAME:PST
DTSTART:20241103T090000
END:STANDARD
BEGIN:DAYLIGHT
TZOFFSETFROM:-0800
TZOFFSETTO:-0700
TZNAME:PDT
DTSTART:20250309T100000
END:DAYLIGHT
BEGIN:STANDARD
TZOFFSETFROM:-0700
TZOFFSETTO:-0800
TZNAME:PST
DTSTART:20251102T090000
END:STANDARD
END:VTIMEZONE
BEGIN:VEVENT
DTSTART;VALUE=DATE:20240913
DTEND;VALUE=DATE:20241010
DTSTAMP:20260425T083052
CREATED:20240916T044135Z
LAST-MODIFIED:20240916T044135Z
UID:10004598-1726185600-1728518399@callchinovalleyhome.com
SUMMARY:Healthy Babies = Happy Families Donation Drive
DESCRIPTION:The Wrapped in Love Diaper Bank is collecting diapers\, wipes\, period products\, and incontinence products to support Yavapai County Families. \nAdditionally\, we are collecting new and gently used young children’s books to include in diaper bundles to promote reading.
URL:https://callchinovalleyhome.com/event/healthy-babies-happy-families-donation-drive/
LOCATION:OneAZ Credit Union\, 1021 AZ-89 #106\, Chino Valley\, AZ\, 86323
ATTACH;FMTTYPE=image/webp:https://callchinovalleyhome.com/wp-content/uploads/2024/05/Chino-Valley-Wrapped-in-Love-Diaper-Drive-Event.webp
ORGANIZER;CN="Wrapped in Love Diaper Bank":MAILTO:WILdiaperbank@gmail.com
GEO:34.76053;-112.451727
X-APPLE-STRUCTURED-LOCATION;VALUE=URI;X-ADDRESS=OneAZ Credit Union 1021 AZ-89 #106 Chino Valley AZ 86323;X-APPLE-RADIUS=500;X-TITLE=1021 AZ-89 #106:geo:-112.451727,34.76053
END:VEVENT
BEGIN:VEVENT
DTSTART;TZID=America/Los_Angeles:20241009T100000
DTEND;TZID=America/Los_Angeles:20241009T110000
DTSTAMP:20260425T083052
CREATED:20240724T172538Z
LAST-MODIFIED:20240724T172538Z
UID:10004240-1728468000-1728471600@callchinovalleyhome.com
SUMMARY:Master Gardener Presentation
DESCRIPTION:Yavapai County Master Gardener monthly presentation on the 2nd Wednesday (excluding December). Each month’s theme is about a new topic. Provided by University of Arizona Cooperative Extension.
URL:https://callchinovalleyhome.com/event/master-gardener-presentation/2024-10-09/
LOCATION:Chino Valley Public Library\, 1020 W Palomino Rd Chino Valley\, AZ 86323\, Chino Valley\, AZ\, 86323\, United States
ATTACH;FMTTYPE=image/webp:https://callchinovalleyhome.com/wp-content/uploads/2024/07/Chino-Valley-Master-Gardener.webp
ORGANIZER;CN="University of AZ Cooperative Extension":MAILTO:YCMGspeakersbureau@gmail.com
END:VEVENT
END:VCALENDAR