BEGIN:VCALENDAR
VERSION:2.0
PRODID:-//Call Chino Valley Home - ECPv6.15.20//NONSGML v1.0//EN
CALSCALE:GREGORIAN
METHOD:PUBLISH
X-ORIGINAL-URL:https://callchinovalleyhome.com
X-WR-CALDESC:Events for Call Chino Valley Home
REFRESH-INTERVAL;VALUE=DURATION:PT1H
X-Robots-Tag:noindex
X-PUBLISHED-TTL:PT1H
BEGIN:VTIMEZONE
TZID:America/Los_Angeles
BEGIN:DAYLIGHT
TZOFFSETFROM:-0800
TZOFFSETTO:-0700
TZNAME:PDT
DTSTART:20230312T100000
END:DAYLIGHT
BEGIN:STANDARD
TZOFFSETFROM:-0700
TZOFFSETTO:-0800
TZNAME:PST
DTSTART:20231105T090000
END:STANDARD
BEGIN:DAYLIGHT
TZOFFSETFROM:-0800
TZOFFSETTO:-0700
TZNAME:PDT
DTSTART:20240310T100000
END:DAYLIGHT
BEGIN:STANDARD
TZOFFSETFROM:-0700
TZOFFSETTO:-0800
TZNAME:PST
DTSTART:20241103T090000
END:STANDARD
BEGIN:DAYLIGHT
TZOFFSETFROM:-0800
TZOFFSETTO:-0700
TZNAME:PDT
DTSTART:20250309T100000
END:DAYLIGHT
BEGIN:STANDARD
TZOFFSETFROM:-0700
TZOFFSETTO:-0800
TZNAME:PST
DTSTART:20251102T090000
END:STANDARD
END:VTIMEZONE
BEGIN:VEVENT
DTSTART;VALUE=DATE:20240913
DTEND;VALUE=DATE:20241010
DTSTAMP:20260425T050023
CREATED:20240916T044135Z
LAST-MODIFIED:20240916T044135Z
UID:10004598-1726185600-1728518399@callchinovalleyhome.com
SUMMARY:Healthy Babies = Happy Families Donation Drive
DESCRIPTION:The Wrapped in Love Diaper Bank is collecting diapers\, wipes\, period products\, and incontinence products to support Yavapai County Families. \nAdditionally\, we are collecting new and gently used young children’s books to include in diaper bundles to promote reading.
URL:https://callchinovalleyhome.com/event/healthy-babies-happy-families-donation-drive/
LOCATION:OneAZ Credit Union\, 1021 AZ-89 #106\, Chino Valley\, AZ\, 86323
ATTACH;FMTTYPE=image/webp:https://callchinovalleyhome.com/wp-content/uploads/2024/05/Chino-Valley-Wrapped-in-Love-Diaper-Drive-Event.webp
ORGANIZER;CN="Wrapped in Love Diaper Bank":MAILTO:WILdiaperbank@gmail.com
GEO:34.76053;-112.451727
X-APPLE-STRUCTURED-LOCATION;VALUE=URI;X-ADDRESS=OneAZ Credit Union 1021 AZ-89 #106 Chino Valley AZ 86323;X-APPLE-RADIUS=500;X-TITLE=1021 AZ-89 #106:geo:-112.451727,34.76053
END:VEVENT
BEGIN:VEVENT
DTSTART;TZID=America/Los_Angeles:20241004T090000
DTEND;TZID=America/Los_Angeles:20241004T150000
DTSTAMP:20260425T050023
CREATED:20240905T061524Z
LAST-MODIFIED:20240905T061524Z
UID:10004591-1728032400-1728054000@callchinovalleyhome.com
SUMMARY:Chino Valley Lionesses Fall Vendor Fair
DESCRIPTION:
URL:https://callchinovalleyhome.com/event/chino-valley-lionesses-fall-vendor-fair/2024-10-04/
LOCATION:Del Rio Elementary School\, 1036 North Road 1 West Chino Valley\, AZ 86323\, Chino Valley\, AZ\, 86323\, United States
ATTACH;FMTTYPE=image/webp:https://callchinovalleyhome.com/wp-content/uploads/2024/09/Chino-Valley-Lionesses-Fall-Vendor-Fair.webp
ORGANIZER;CN="Paula":MAILTO:chinovalleylioness@gmail.com
END:VEVENT
BEGIN:VEVENT
DTSTART;TZID=America/Los_Angeles:20241004T100000
DTEND;TZID=America/Los_Angeles:20241004T110000
DTSTAMP:20260425T050023
CREATED:20240724T171338Z
LAST-MODIFIED:20240724T171338Z
UID:10003974-1728036000-1728039600@callchinovalleyhome.com
SUMMARY:Chino Valley Library Weekly Storytimes
DESCRIPTION:Themed stories\, songs\, games\, snack (and craft for big kids) each week \nIndoors \nTuesday 10am (0-3 yrs) \nTuesday 10:30am (3-8yrs) \nOutdoors \nFridays 10am (0-3 yrs) \nFridays 10:30am (3-8yrs) \n**Fridays are identical to Tuesday\, only it’s held outside. In late October or so we will move indoors on Fridays \n***No Storytime Septembers 17 and September 20
URL:https://callchinovalleyhome.com/event/chino-valley-library-weekly-storytimes-4/2024-10-04/
LOCATION:Chino Valley Public Library\, 1020 W Palomino Rd Chino Valley\, AZ 86323\, Chino Valley\, AZ\, 86323\, United States
ATTACH;FMTTYPE=image/webp:https://callchinovalleyhome.com/wp-content/uploads/2024/07/Chino-Valley-Local-Author-Storytime.webp
ORGANIZER;CN="Rebecca Laurence":MAILTO:rlaurence@chinoaz.net
END:VEVENT
BEGIN:VEVENT
DTSTART;TZID=America/Los_Angeles:20241004T140000
DTEND;TZID=America/Los_Angeles:20241004T153000
DTSTAMP:20260425T050023
CREATED:20240926T050118Z
LAST-MODIFIED:20240926T050118Z
UID:10004605-1728050400-1728055800@callchinovalleyhome.com
SUMMARY:Family Movie at Chino Valley Library - Migration
DESCRIPTION:Kick off fall break with a family movie at the library! \n82 min\, PG\, popcorn provided. Cartoon about a family of ducks flying South on vacation.
URL:https://callchinovalleyhome.com/event/family-movie-at-chino-valley-library-migration/
LOCATION:Chino Valley Public Library\, 1020 W Palomino Rd Chino Valley\, AZ 86323\, Chino Valley\, AZ\, 86323\, United States
ATTACH;FMTTYPE=image/webp:https://callchinovalleyhome.com/wp-content/uploads/2024/09/Migration-Fall-Break-Movie-at-Library.webp
ORGANIZER;CN="Rebecca Laurence":MAILTO:rlaurence@chinoaz.net
END:VEVENT
BEGIN:VEVENT
DTSTART;TZID=America/Los_Angeles:20241004T160000
DTEND;TZID=America/Los_Angeles:20241004T210000
DTSTAMP:20260425T050023
CREATED:20240820T055138Z
LAST-MODIFIED:20241230T200717Z
UID:10004273-1728057600-1728075600@callchinovalleyhome.com
SUMMARY:Olsen's Events Mounted Shooting Practice
DESCRIPTION:Every Friday Beginning August 30th \n$20/person \nBeginners Welcome
URL:https://callchinovalleyhome.com/event/olsens-events-mounted-shooting-practice/2024-10-04/
LOCATION:Olsen’s Events\, 344 S Hwy 89 Chino Valley\, AZ\, 86323\, Chino Valley\, AZ\, 86323\, United States
ATTACH;FMTTYPE=image/webp:https://callchinovalleyhome.com/wp-content/uploads/2024/08/Chino-Valley-Olsens-Events-Mounted-Shooting-Practice.webp
END:VEVENT
END:VCALENDAR