BEGIN:VCALENDAR
VERSION:2.0
PRODID:-//Call Chino Valley Home - ECPv6.15.20//NONSGML v1.0//EN
CALSCALE:GREGORIAN
METHOD:PUBLISH
X-ORIGINAL-URL:https://callchinovalleyhome.com
X-WR-CALDESC:Events for Call Chino Valley Home
REFRESH-INTERVAL;VALUE=DURATION:PT1H
X-Robots-Tag:noindex
X-PUBLISHED-TTL:PT1H
BEGIN:VTIMEZONE
TZID:America/Los_Angeles
BEGIN:DAYLIGHT
TZOFFSETFROM:-0800
TZOFFSETTO:-0700
TZNAME:PDT
DTSTART:20230312T100000
END:DAYLIGHT
BEGIN:STANDARD
TZOFFSETFROM:-0700
TZOFFSETTO:-0800
TZNAME:PST
DTSTART:20231105T090000
END:STANDARD
BEGIN:DAYLIGHT
TZOFFSETFROM:-0800
TZOFFSETTO:-0700
TZNAME:PDT
DTSTART:20240310T100000
END:DAYLIGHT
BEGIN:STANDARD
TZOFFSETFROM:-0700
TZOFFSETTO:-0800
TZNAME:PST
DTSTART:20241103T090000
END:STANDARD
BEGIN:DAYLIGHT
TZOFFSETFROM:-0800
TZOFFSETTO:-0700
TZNAME:PDT
DTSTART:20250309T100000
END:DAYLIGHT
BEGIN:STANDARD
TZOFFSETFROM:-0700
TZOFFSETTO:-0800
TZNAME:PST
DTSTART:20251102T090000
END:STANDARD
END:VTIMEZONE
BEGIN:VEVENT
DTSTART;VALUE=DATE:20240901
DTEND;VALUE=DATE:20241002
DTSTAMP:20260425T100636
CREATED:20240916T042021Z
LAST-MODIFIED:20240916T042021Z
UID:10004595-1725148800-1727827199@callchinovalleyhome.com
SUMMARY:Chino Valley Fall Food Drive 2024
DESCRIPTION:The Chino Valley Area Chamber of Commerce is happily hosting a canned/non perishable food drive to benefit the Chino Valley Food Bank. \nAll donations can be dropped off at 199 North State Route 89 OR at participating businesses in Chino Valley: \nNational Bank of AZ\, Jeff Champ Farmers Insurance\, The Pea Vine\, Bob’s Complete Automotive Repair\, Essence Kitchen + Bar\, Olsen’s Grain and Tom’s Print & Sign \n 
URL:https://callchinovalleyhome.com/event/chino-valley-fall-food-drive-2024/
LOCATION:Chino Valley Chamber of Commerce\, State Highway 89\, Chino Valley\, AZ\, 86323\, United States
ATTACH;FMTTYPE=image/webp:https://callchinovalleyhome.com/wp-content/uploads/2024/09/Food-Drive.webp
GEO:34.7484543;-112.4539194
X-APPLE-STRUCTURED-LOCATION;VALUE=URI;X-ADDRESS=Chino Valley Chamber of Commerce State Highway 89 Chino Valley AZ 86323 United States;X-APPLE-RADIUS=500;X-TITLE=State Highway 89:geo:-112.4539194,34.7484543
END:VEVENT
BEGIN:VEVENT
DTSTART;TZID=America/Los_Angeles:20240911T080000
DTEND;TZID=America/Los_Angeles:20240911T213000
DTSTAMP:20260425T100636
CREATED:20240820T053112Z
LAST-MODIFIED:20240820T053112Z
UID:10004266-1726041600-1726090200@callchinovalleyhome.com
SUMMARY:Chino Valley Memorial Foundation Annual 9/11 Remembrance and Tribute Ceremony
DESCRIPTION:Please join the Chino Valley Memorial Foundation for it’s Annual 9/11 Remembrance and Tribute Ceremony. We are projecting this year to be even more incredible and impactful as we come together to remember and honor all who lost their lives on September 11\, 2001 and the conflicts that followed. \nPlease bring a chair as seating is limited. \nLocation: Santa Fe Trail and Shooting Range Rd Chino Valley\, AZ 86323\nTake Perkinsville Rd east from Highway 89 for about 3 miles. The Memorial Statue will be visible on your left at the entrance of Compass Training Center at Old Home Manor.
URL:https://callchinovalleyhome.com/event/chino-valley-memorial-foundation-annual-9-11-remembrance-and-tribute-ceremony/
LOCATION:Santa Fe Trail and Shooting Range
ATTACH;FMTTYPE=image/webp:https://callchinovalleyhome.com/wp-content/uploads/2024/08/Chino-Valley-Memorial-Foundation-Annual-911-Remembrance-and-Tribute-Ceremony.webp
ORGANIZER;CN="Chino Valley Memorial Foundation":MAILTO:cvmemorialfund@gmail.com
END:VEVENT
BEGIN:VEVENT
DTSTART;TZID=America/Los_Angeles:20240911T100000
DTEND;TZID=America/Los_Angeles:20240911T110000
DTSTAMP:20260425T100636
CREATED:20240724T172538Z
LAST-MODIFIED:20240724T172538Z
UID:10004239-1726048800-1726052400@callchinovalleyhome.com
SUMMARY:Master Gardener Presentation
DESCRIPTION:Yavapai County Master Gardener monthly presentation on the 2nd Wednesday (excluding December). Each month’s theme is about a new topic. Provided by University of Arizona Cooperative Extension.
URL:https://callchinovalleyhome.com/event/master-gardener-presentation/2024-09-11/
LOCATION:Chino Valley Public Library\, 1020 W Palomino Rd Chino Valley\, AZ 86323\, Chino Valley\, AZ\, 86323\, United States
ATTACH;FMTTYPE=image/webp:https://callchinovalleyhome.com/wp-content/uploads/2024/07/Chino-Valley-Master-Gardener.webp
ORGANIZER;CN="University of AZ Cooperative Extension":MAILTO:YCMGspeakersbureau@gmail.com
END:VEVENT
END:VCALENDAR