BEGIN:VCALENDAR
VERSION:2.0
PRODID:-//Call Chino Valley Home - ECPv6.15.20//NONSGML v1.0//EN
CALSCALE:GREGORIAN
METHOD:PUBLISH
X-WR-CALNAME:Call Chino Valley Home
X-ORIGINAL-URL:https://callchinovalleyhome.com
X-WR-CALDESC:Events for Call Chino Valley Home
REFRESH-INTERVAL;VALUE=DURATION:PT1H
X-Robots-Tag:noindex
X-PUBLISHED-TTL:PT1H
BEGIN:VTIMEZONE
TZID:America/Los_Angeles
BEGIN:DAYLIGHT
TZOFFSETFROM:-0800
TZOFFSETTO:-0700
TZNAME:PDT
DTSTART:20230312T100000
END:DAYLIGHT
BEGIN:STANDARD
TZOFFSETFROM:-0700
TZOFFSETTO:-0800
TZNAME:PST
DTSTART:20231105T090000
END:STANDARD
BEGIN:DAYLIGHT
TZOFFSETFROM:-0800
TZOFFSETTO:-0700
TZNAME:PDT
DTSTART:20240310T100000
END:DAYLIGHT
BEGIN:STANDARD
TZOFFSETFROM:-0700
TZOFFSETTO:-0800
TZNAME:PST
DTSTART:20241103T090000
END:STANDARD
BEGIN:DAYLIGHT
TZOFFSETFROM:-0800
TZOFFSETTO:-0700
TZNAME:PDT
DTSTART:20250309T100000
END:DAYLIGHT
BEGIN:STANDARD
TZOFFSETFROM:-0700
TZOFFSETTO:-0800
TZNAME:PST
DTSTART:20251102T090000
END:STANDARD
END:VTIMEZONE
BEGIN:VEVENT
DTSTART;TZID=America/Los_Angeles:20240822T110000
DTEND;TZID=America/Los_Angeles:20240822T120000
DTSTAMP:20260425T100219
CREATED:20240820T051940Z
LAST-MODIFIED:20240820T051940Z
UID:10004259-1724324400-1724328000@callchinovalleyhome.com
SUMMARY:MATFORCE Monthly Messages: The Truth About Inhalants
DESCRIPTION:Register for free by visiting matforce.org. The Truth about Inhalants Presented by James Tobin and Doug Dolan Join us for a presentation that delves into the often-overlooked dangers of inhalant use. This eye-opening session will explore the short-term effects and long-lasting health consequences of inhaling volatile substances\, from brain damage to organ failure. Learn about the psychological and social impacts on individuals and communities\, and gain insights into effective prevention and intervention strategies.
URL:https://callchinovalleyhome.com/event/matforce-monthly-messages-the-truth-about-inhalants/
LOCATION:Virtual
ATTACH;FMTTYPE=image/webp:https://callchinovalleyhome.com/wp-content/uploads/2024/08/Chino-Valley-The-Truth-About-Inhalants.webp
END:VEVENT
BEGIN:VEVENT
DTSTART;TZID=America/Los_Angeles:20240822T151500
DTEND;TZID=America/Los_Angeles:20240822T161500
DTSTAMP:20260425T100219
CREATED:20240611T173741Z
LAST-MODIFIED:20241112T041118Z
UID:10004682-1724339700-1724343300@callchinovalleyhome.com
SUMMARY:Pet Partners
DESCRIPTION:Practice your developing reading skills by reading to a friendly therapy dog and handler! Perfect for young students but all readers are welcome. You can also pet the dogs. Great for those involved in the Summer Reading Program…track your reading while you’re here ;) Dogs may be in children’s area or in community room (if we need more room or quieter area.)
URL:https://callchinovalleyhome.com/event/pet-partners-4/2024-08-22/
LOCATION:Chino Valley Public Library\, 1020 W Palomino Rd Chino Valley\, AZ 86323\, Chino Valley\, AZ\, 86323\, United States
ATTACH;FMTTYPE=image/webp:https://callchinovalleyhome.com/wp-content/uploads/2024/06/Chino-Valley-Library-Paws-for-Friendship.webp
ORGANIZER;CN="Rebecca Laurence":MAILTO:rlaurence@chinoaz.net
END:VEVENT
END:VCALENDAR