BEGIN:VCALENDAR
VERSION:2.0
PRODID:-//Call Chino Valley Home - ECPv6.15.20//NONSGML v1.0//EN
CALSCALE:GREGORIAN
METHOD:PUBLISH
X-ORIGINAL-URL:https://callchinovalleyhome.com
X-WR-CALDESC:Events for Call Chino Valley Home
REFRESH-INTERVAL;VALUE=DURATION:PT1H
X-Robots-Tag:noindex
X-PUBLISHED-TTL:PT1H
BEGIN:VTIMEZONE
TZID:America/Los_Angeles
BEGIN:DAYLIGHT
TZOFFSETFROM:-0800
TZOFFSETTO:-0700
TZNAME:PDT
DTSTART:20230312T100000
END:DAYLIGHT
BEGIN:STANDARD
TZOFFSETFROM:-0700
TZOFFSETTO:-0800
TZNAME:PST
DTSTART:20231105T090000
END:STANDARD
BEGIN:DAYLIGHT
TZOFFSETFROM:-0800
TZOFFSETTO:-0700
TZNAME:PDT
DTSTART:20240310T100000
END:DAYLIGHT
BEGIN:STANDARD
TZOFFSETFROM:-0700
TZOFFSETTO:-0800
TZNAME:PST
DTSTART:20241103T090000
END:STANDARD
BEGIN:DAYLIGHT
TZOFFSETFROM:-0800
TZOFFSETTO:-0700
TZNAME:PDT
DTSTART:20250309T100000
END:DAYLIGHT
BEGIN:STANDARD
TZOFFSETFROM:-0700
TZOFFSETTO:-0800
TZNAME:PST
DTSTART:20251102T090000
END:STANDARD
END:VTIMEZONE
BEGIN:VEVENT
DTSTART;TZID=America/Los_Angeles:20240806T100000
DTEND;TZID=America/Los_Angeles:20240806T110000
DTSTAMP:20260425T193042
CREATED:20240724T171047Z
LAST-MODIFIED:20240724T171047Z
UID:10003937-1722938400-1722942000@callchinovalleyhome.com
SUMMARY:Chino Valley Library Weekly Storytimes
DESCRIPTION:Themed stories\, songs\, games\, snack (and craft for big kids) each week \nIndoors \nTuesday 10am (0-3 yrs) \nTuesday 10:30am (3-8yrs) \nOutdoors \nFridays 10am (0-3 yrs) \nFridays 10:30am (3-8yrs) \n**Fridays are identical to Tuesday\, only it’s held outside. In late October or so we will move indoors on Fridays \n***No Storytime Septembers 17 and September 20
URL:https://callchinovalleyhome.com/event/chino-valley-library-weekly-storytimes/2024-08-06/
LOCATION:Chino Valley Public Library\, 1020 W Palomino Rd Chino Valley\, AZ 86323\, Chino Valley\, AZ\, 86323\, United States
ATTACH;FMTTYPE=image/webp:https://callchinovalleyhome.com/wp-content/uploads/2024/07/Chino-Valley-Local-Author-Storytime.webp
ORGANIZER;CN="Rebecca Laurence":MAILTO:rlaurence@chinoaz.net
END:VEVENT
BEGIN:VEVENT
DTSTART;TZID=America/Los_Angeles:20240806T150000
DTEND;TZID=America/Los_Angeles:20240806T170000
DTSTAMP:20260425T193042
CREATED:20240724T171807Z
LAST-MODIFIED:20240724T171809Z
UID:10001134-1722956400-1722963600@callchinovalleyhome.com
SUMMARY:Lego Club
DESCRIPTION:Come afterschool to build something fun! Great for Elementary and Middle School ages. (If you child is under 5yrs\, please supervise them). \nDrop in\, drop out. Ok to arrive late or leave early.
URL:https://callchinovalleyhome.com/event/lego-club-5-2/2024-08-06/
LOCATION:Chino Valley Public Library\, 1020 W Palomino Rd Chino Valley\, AZ 86323\, Chino Valley\, AZ\, 86323\, United States
ATTACH;FMTTYPE=image/webp:https://callchinovalleyhome.com/wp-content/uploads/2024/06/Chino-Valley-Library-Lego-Event.webp
ORGANIZER;CN="Rebecca Laurence":MAILTO:rlaurence@chinoaz.net
END:VEVENT
BEGIN:VEVENT
DTSTART;TZID=America/Los_Angeles:20240806T180000
DTEND;TZID=America/Los_Angeles:20240806T200000
DTSTAMP:20260425T193042
CREATED:20240628T184102Z
LAST-MODIFIED:20240628T184102Z
UID:10003921-1722967200-1722974400@callchinovalleyhome.com
SUMMARY:Parenting the Love and Logic Way
DESCRIPTION:Help for the challenging times in parenting. • “How do I get them out of bed in time to catch the school bus?” • “How can I stop my children from bickering and fighting?” • “How do I get my children to help with the chores without an argument?” • “How can I get my teenage daughter to come home at the agreed-upon time?” • “How do I talk to my children about drugs?” • And many other day-to-day parenting challenges… \nFor more information and to reserve your FREE space today contact (928) 708-0100 or info@matforceaz.org. Registration deadline Friday\, July 5\, 2024. \nhttps://us02web.zoom.us/j/81358645526?pwd=H18qOt3FSkX6PLBhO97euYYFQYtIJe.1
URL:https://callchinovalleyhome.com/event/parenting-the-love-and-logic-way/2024-08-06/
LOCATION:Zoom
ATTACH;FMTTYPE=image/webp:https://callchinovalleyhome.com/wp-content/uploads/2024/06/Parenting-the-Love-and-Logic-Way.webp
END:VEVENT
END:VCALENDAR