BEGIN:VCALENDAR
VERSION:2.0
PRODID:-//Call Chino Valley Home - ECPv6.15.20//NONSGML v1.0//EN
CALSCALE:GREGORIAN
METHOD:PUBLISH
X-WR-CALNAME:Call Chino Valley Home
X-ORIGINAL-URL:https://callchinovalleyhome.com
X-WR-CALDESC:Events for Call Chino Valley Home
REFRESH-INTERVAL;VALUE=DURATION:PT1H
X-Robots-Tag:noindex
X-PUBLISHED-TTL:PT1H
BEGIN:VTIMEZONE
TZID:America/Los_Angeles
BEGIN:DAYLIGHT
TZOFFSETFROM:-0800
TZOFFSETTO:-0700
TZNAME:PDT
DTSTART:20230312T100000
END:DAYLIGHT
BEGIN:STANDARD
TZOFFSETFROM:-0700
TZOFFSETTO:-0800
TZNAME:PST
DTSTART:20231105T090000
END:STANDARD
BEGIN:DAYLIGHT
TZOFFSETFROM:-0800
TZOFFSETTO:-0700
TZNAME:PDT
DTSTART:20240310T100000
END:DAYLIGHT
BEGIN:STANDARD
TZOFFSETFROM:-0700
TZOFFSETTO:-0800
TZNAME:PST
DTSTART:20241103T090000
END:STANDARD
BEGIN:DAYLIGHT
TZOFFSETFROM:-0800
TZOFFSETTO:-0700
TZNAME:PDT
DTSTART:20250309T100000
END:DAYLIGHT
BEGIN:STANDARD
TZOFFSETFROM:-0700
TZOFFSETTO:-0800
TZNAME:PST
DTSTART:20251102T090000
END:STANDARD
END:VTIMEZONE
BEGIN:VEVENT
DTSTART;VALUE=DATE:20240803
DTEND;VALUE=DATE:20240805
DTSTAMP:20260425T114148
CREATED:20240423T171920Z
LAST-MODIFIED:20240423T171920Z
UID:10000258-1722643200-1722815999@callchinovalleyhome.com
SUMMARY:Sunset Ranch Productions Obstacle Clinic & Challenge Series
DESCRIPTION:Saturday Clinics – $100/Session – 2 Courses \nIn-Hand 9:00a – 12:00p \nMounted 12:00p – 3:00p \nThese Clinics will be on Sunday’s Competition course -sans “Horse Show Icing”. \nAll disciplines and levels of horses and riders are welcome. The Sunset Ranch Obstacle Challenges \nhave a level to fit you and your horse- No matter where you are with your Horsemanship- Rules and \nJudging Criteria for Competition as well as each obstacle’s instructions will be explained in detail. You \ndo not need to be perfect to compete on Sunday! Our Competitions are intended to build on the \nskills and confidence gained in Saturday’s Clinic. The course is the same but the obstacles are spiced \nup a bit; add in the exciting energy of a horse show and you’ve got a great training opportunity! \nPlease call w/ questions! Mounted & In-Hand Clinic Sessions Available-Private instruction available. \nSunday Challenge – $40/Round + $20 Office Fee \nOffice Opens 8:00a \nMounted Course Walks 8:30a \nFirst Mounted Round 9:00a \nIn-Hand Course Walk 9:00a \nFirst In-Hand Round 9:30a \nSunday Obstacle Challenge: 3 Levels of Difficulty-In-Hand\, Mounted & JR Divisions \nCome challenge yourself and your horse- AT YOUR LEVEL! Competition is an amazing advancer of \nHorsemanship and helps us identify areas we can improve on in training sessions Come show us what \nyou’ve got in a fun and encouraging atmosphere! In-Hand & Mounted Courses
URL:https://callchinovalleyhome.com/event/sunset-ranch-productions-obstacle-clinic-challenge-series-4/
LOCATION:Chino Valley Equestrian Park\, 2280 Equestrain Way\, Chino Valley\, AZ 86232\, Chino Valley\, AZ\, 86232\, United States
ATTACH;FMTTYPE=image/webp:https://callchinovalleyhome.com/wp-content/uploads/2024/04/Chino-Valley-Sunset-Ranch-Obstacle-Clinic-Challenge-Series.webp
ORGANIZER;CN="Megan Bennett":MAILTO:megan@sunsetranch.us
END:VEVENT
BEGIN:VEVENT
DTSTART;TZID=America/Los_Angeles:20240803T080000
DTEND;TZID=America/Los_Angeles:20240803T120000
DTSTAMP:20260425T114148
CREATED:20240718T201917Z
LAST-MODIFIED:20240718T201917Z
UID:10003935-1722672000-1722686400@callchinovalleyhome.com
SUMMARY:Olsen's Events - Roping
DESCRIPTION:Books Open at 8:00 am \nRoping Starts at 8:30 am \nVisit https://olsensevents.com/ for more details.
URL:https://callchinovalleyhome.com/event/olsens-events-roping-3/
LOCATION:Olsen’s Events\, 344 S Hwy 89 Chino Valley\, AZ\, 86323\, Chino Valley\, AZ\, 86323\, United States
ATTACH;FMTTYPE=image/webp:https://callchinovalleyhome.com/wp-content/uploads/2024/06/Chino-Valley-Olsen-Events-Roping.webp
END:VEVENT
BEGIN:VEVENT
DTSTART;TZID=America/Los_Angeles:20240803T100000
DTEND;TZID=America/Los_Angeles:20240803T120000
DTSTAMP:20260425T114148
CREATED:20240718T193030Z
LAST-MODIFIED:20240718T193030Z
UID:10003930-1722679200-1722686400@callchinovalleyhome.com
SUMMARY:Brenda's Creations - Create Shadow Box
DESCRIPTION:For $25 you will be creating an interchangeable season shadow box. Frame included. \nRegister at The Pea Vine or Text 928-710-9509 to reserve a seat.
URL:https://callchinovalleyhome.com/event/brendas-creations-create-shadow-box/
LOCATION:The Pea Vine\, West Butterfield Road\, Chino Valley\, AZ\, 86323\, United States
ATTACH;FMTTYPE=image/webp:https://callchinovalleyhome.com/wp-content/uploads/2024/07/BrendasCreationsChinoValley.webp
GEO:34.7724333;-112.4547554
X-APPLE-STRUCTURED-LOCATION;VALUE=URI;X-ADDRESS=The Pea Vine West Butterfield Road Chino Valley AZ 86323 United States;X-APPLE-RADIUS=500;X-TITLE=West Butterfield Road:geo:-112.4547554,34.7724333
END:VEVENT
BEGIN:VEVENT
DTSTART;TZID=America/Los_Angeles:20240803T110000
DTEND;TZID=America/Los_Angeles:20240803T140000
DTSTAMP:20260425T114148
CREATED:20240702T234607Z
LAST-MODIFIED:20240702T234607Z
UID:10003924-1722682800-1722693600@callchinovalleyhome.com
SUMMARY:Back to School Event at El Paraiso
DESCRIPTION:Looking fresh for School \n\nBackpacks\nWater Bottles\nSocks\nShoes (while supplies last)\nSchool Supplies\nHair Cuts (Basic hair cuts only)\nCupcakes & Lemonade\nBack to School Baskets Giveaway\nBatman will be there
URL:https://callchinovalleyhome.com/event/back-to-school-event-at-el-paraiso/
LOCATION:El Paraiso\, El Paraiso 1150 AZ 89 Chino Valley\, AZ 86323\, Chino Valley\, AZ\, 86323\, United States
ATTACH;FMTTYPE=image/webp:https://callchinovalleyhome.com/wp-content/uploads/2024/07/Chino-Valley-Back-to-School-Event-at-El-Paraiso.webp
ORGANIZER;CN="Brenda":MAILTO:elparaisorestaurant19@gmail.com
END:VEVENT
END:VCALENDAR