BEGIN:VCALENDAR
VERSION:2.0
PRODID:-//Call Chino Valley Home - ECPv6.15.20//NONSGML v1.0//EN
CALSCALE:GREGORIAN
METHOD:PUBLISH
X-WR-CALNAME:Call Chino Valley Home
X-ORIGINAL-URL:https://callchinovalleyhome.com
X-WR-CALDESC:Events for Call Chino Valley Home
REFRESH-INTERVAL;VALUE=DURATION:PT1H
X-Robots-Tag:noindex
X-PUBLISHED-TTL:PT1H
BEGIN:VTIMEZONE
TZID:America/Los_Angeles
BEGIN:DAYLIGHT
TZOFFSETFROM:-0800
TZOFFSETTO:-0700
TZNAME:PDT
DTSTART:20230312T100000
END:DAYLIGHT
BEGIN:STANDARD
TZOFFSETFROM:-0700
TZOFFSETTO:-0800
TZNAME:PST
DTSTART:20231105T090000
END:STANDARD
BEGIN:DAYLIGHT
TZOFFSETFROM:-0800
TZOFFSETTO:-0700
TZNAME:PDT
DTSTART:20240310T100000
END:DAYLIGHT
BEGIN:STANDARD
TZOFFSETFROM:-0700
TZOFFSETTO:-0800
TZNAME:PST
DTSTART:20241103T090000
END:STANDARD
BEGIN:DAYLIGHT
TZOFFSETFROM:-0800
TZOFFSETTO:-0700
TZNAME:PDT
DTSTART:20250309T100000
END:DAYLIGHT
BEGIN:STANDARD
TZOFFSETFROM:-0700
TZOFFSETTO:-0800
TZNAME:PST
DTSTART:20251102T090000
END:STANDARD
END:VTIMEZONE
BEGIN:VEVENT
DTSTART;VALUE=DATE:20240801
DTEND;VALUE=DATE:20240802
DTSTAMP:20260425T100317
CREATED:20240718T200201Z
LAST-MODIFIED:20240718T200201Z
UID:10003934-1722470400-1722556799@callchinovalleyhome.com
SUMMARY:Chino Valley Back to School Immunization Clinic
DESCRIPTION:Back to school vaccination clinic\n\n\nDistrict wide Vaccines for Children Day on Thursday\, August 1\, 2024.\nThis event is brought to you by Yavapai Regional Medical Center’s Partners for Healthy Students Mobile Clinic.\nIf your child is entering kindergarten or 6th grade they are in need of immunizations!\nThis service is at no cost to you!\nPlease call 928-771-5123 to see if you qualify and to schedule an appointment.
URL:https://callchinovalleyhome.com/event/chino-valley-back-to-school-immunization-clinic/
LOCATION:Territorial Early Childhood Center\, East Mahan Lane\, Chino Valley\, AZ\, 86323\, United States
ATTACH;FMTTYPE=image/webp:https://callchinovalleyhome.com/wp-content/uploads/2024/07/Chino-Valley-Back-to-School-Immunizations.webp
GEO:34.7654377;-112.4457326
X-APPLE-STRUCTURED-LOCATION;VALUE=URI;X-ADDRESS=Territorial Early Childhood Center East Mahan Lane Chino Valley AZ 86323 United States;X-APPLE-RADIUS=500;X-TITLE=East Mahan Lane:geo:-112.4457326,34.7654377
END:VEVENT
BEGIN:VEVENT
DTSTART;TZID=America/Los_Angeles:20240801T100000
DTEND;TZID=America/Los_Angeles:20240801T120000
DTSTAMP:20260425T100317
CREATED:20240605T051016Z
LAST-MODIFIED:20240611T165342Z
UID:10002448-1722506400-1722513600@callchinovalleyhome.com
SUMMARY:Chino Valley Confident with Low Vision Class
DESCRIPTION:Four classes that will focus on community resources for persons with low vision. Seeing eye dogs\, vitamins\, Talking Books\, etc. The fifth and last class will focus on magnification and the advances in technology available today.
URL:https://callchinovalleyhome.com/event/chino-valley-confident-with-low-vision-class/2024-08-01/
LOCATION:Chino Valley United Methodist Church\, East Road 1 South\, Chino Valley\, AZ\, 86323\, United States
ATTACH;FMTTYPE=image/webp:https://callchinovalleyhome.com/wp-content/uploads/2024/06/Chino-Valley-Confident-Low-Vision-Class.webp
ORGANIZER;CN="Lynn Bernardo":MAILTO:cvpwc@peoplewhocareaz.com
GEO:34.7389146;-112.4501367
X-APPLE-STRUCTURED-LOCATION;VALUE=URI;X-ADDRESS=Chino Valley United Methodist Church East Road 1 South Chino Valley AZ 86323 United States;X-APPLE-RADIUS=500;X-TITLE=East Road 1 South:geo:-112.4501367,34.7389146
END:VEVENT
BEGIN:VEVENT
DTSTART;TZID=America/Los_Angeles:20240801T151500
DTEND;TZID=America/Los_Angeles:20240801T161500
DTSTAMP:20260425T100317
CREATED:20240611T173741Z
LAST-MODIFIED:20241112T041118Z
UID:10004679-1722525300-1722528900@callchinovalleyhome.com
SUMMARY:Pet Partners
DESCRIPTION:Practice your developing reading skills by reading to a friendly therapy dog and handler! Perfect for young students but all readers are welcome. You can also pet the dogs. Great for those involved in the Summer Reading Program…track your reading while you’re here ;) Dogs may be in children’s area or in community room (if we need more room or quieter area.)
URL:https://callchinovalleyhome.com/event/pet-partners-4/2024-08-01/
LOCATION:Chino Valley Public Library\, 1020 W Palomino Rd Chino Valley\, AZ 86323\, Chino Valley\, AZ\, 86323\, United States
ATTACH;FMTTYPE=image/webp:https://callchinovalleyhome.com/wp-content/uploads/2024/06/Chino-Valley-Library-Paws-for-Friendship.webp
ORGANIZER;CN="Rebecca Laurence":MAILTO:rlaurence@chinoaz.net
END:VEVENT
END:VCALENDAR