BEGIN:VCALENDAR
VERSION:2.0
PRODID:-//Call Chino Valley Home - ECPv6.15.20//NONSGML v1.0//EN
CALSCALE:GREGORIAN
METHOD:PUBLISH
X-WR-CALNAME:Call Chino Valley Home
X-ORIGINAL-URL:https://callchinovalleyhome.com
X-WR-CALDESC:Events for Call Chino Valley Home
REFRESH-INTERVAL;VALUE=DURATION:PT1H
X-Robots-Tag:noindex
X-PUBLISHED-TTL:PT1H
BEGIN:VTIMEZONE
TZID:America/Los_Angeles
BEGIN:DAYLIGHT
TZOFFSETFROM:-0800
TZOFFSETTO:-0700
TZNAME:PDT
DTSTART:20230312T100000
END:DAYLIGHT
BEGIN:STANDARD
TZOFFSETFROM:-0700
TZOFFSETTO:-0800
TZNAME:PST
DTSTART:20231105T090000
END:STANDARD
BEGIN:DAYLIGHT
TZOFFSETFROM:-0800
TZOFFSETTO:-0700
TZNAME:PDT
DTSTART:20240310T100000
END:DAYLIGHT
BEGIN:STANDARD
TZOFFSETFROM:-0700
TZOFFSETTO:-0800
TZNAME:PST
DTSTART:20241103T090000
END:STANDARD
BEGIN:DAYLIGHT
TZOFFSETFROM:-0800
TZOFFSETTO:-0700
TZNAME:PDT
DTSTART:20250309T100000
END:DAYLIGHT
BEGIN:STANDARD
TZOFFSETFROM:-0700
TZOFFSETTO:-0800
TZNAME:PST
DTSTART:20251102T090000
END:STANDARD
END:VTIMEZONE
BEGIN:VEVENT
DTSTART;TZID=America/Los_Angeles:20240730T110000
DTEND;TZID=America/Los_Angeles:20240730T120000
DTSTAMP:20260425T114048
CREATED:20240611T173614Z
LAST-MODIFIED:20240724T171535Z
UID:10002725-1722337200-1722340800@callchinovalleyhome.com
SUMMARY:Paws for Friendship
DESCRIPTION:Practice your developing reading skills by reading to a friendly therapy dog and handler! Perfect for young students but all readers are welcome. You can also pet the dogs. Great for those involved in the Summer Reading Program…track your reading while you’re here ;) Dogs may be in children’s area or in community room (if we need more room or quieter area.)
URL:https://callchinovalleyhome.com/event/paws-for-friendship-5/2024-07-30/
ATTACH;FMTTYPE=image/webp:https://callchinovalleyhome.com/wp-content/uploads/2024/06/Chino-Valley-Library-Paws-for-Friendship.webp
END:VEVENT
BEGIN:VEVENT
DTSTART;TZID=America/Los_Angeles:20240730T180000
DTEND;TZID=America/Los_Angeles:20240730T200000
DTSTAMP:20260425T114048
CREATED:20240628T184102Z
LAST-MODIFIED:20240628T184102Z
UID:10003920-1722362400-1722369600@callchinovalleyhome.com
SUMMARY:Parenting the Love and Logic Way
DESCRIPTION:Help for the challenging times in parenting. • “How do I get them out of bed in time to catch the school bus?” • “How can I stop my children from bickering and fighting?” • “How do I get my children to help with the chores without an argument?” • “How can I get my teenage daughter to come home at the agreed-upon time?” • “How do I talk to my children about drugs?” • And many other day-to-day parenting challenges… \nFor more information and to reserve your FREE space today contact (928) 708-0100 or info@matforceaz.org. Registration deadline Friday\, July 5\, 2024. \nhttps://us02web.zoom.us/j/81358645526?pwd=H18qOt3FSkX6PLBhO97euYYFQYtIJe.1
URL:https://callchinovalleyhome.com/event/parenting-the-love-and-logic-way/2024-07-30/
LOCATION:Zoom
ATTACH;FMTTYPE=image/webp:https://callchinovalleyhome.com/wp-content/uploads/2024/06/Parenting-the-Love-and-Logic-Way.webp
END:VEVENT
END:VCALENDAR