BEGIN:VCALENDAR
VERSION:2.0
PRODID:-//Call Chino Valley Home - ECPv6.15.20//NONSGML v1.0//EN
CALSCALE:GREGORIAN
METHOD:PUBLISH
X-WR-CALNAME:Call Chino Valley Home
X-ORIGINAL-URL:https://callchinovalleyhome.com
X-WR-CALDESC:Events for Call Chino Valley Home
REFRESH-INTERVAL;VALUE=DURATION:PT1H
X-Robots-Tag:noindex
X-PUBLISHED-TTL:PT1H
BEGIN:VTIMEZONE
TZID:America/Los_Angeles
BEGIN:DAYLIGHT
TZOFFSETFROM:-0800
TZOFFSETTO:-0700
TZNAME:PDT
DTSTART:20230312T100000
END:DAYLIGHT
BEGIN:STANDARD
TZOFFSETFROM:-0700
TZOFFSETTO:-0800
TZNAME:PST
DTSTART:20231105T090000
END:STANDARD
BEGIN:DAYLIGHT
TZOFFSETFROM:-0800
TZOFFSETTO:-0700
TZNAME:PDT
DTSTART:20240310T100000
END:DAYLIGHT
BEGIN:STANDARD
TZOFFSETFROM:-0700
TZOFFSETTO:-0800
TZNAME:PST
DTSTART:20241103T090000
END:STANDARD
BEGIN:DAYLIGHT
TZOFFSETFROM:-0800
TZOFFSETTO:-0700
TZNAME:PDT
DTSTART:20250309T100000
END:DAYLIGHT
BEGIN:STANDARD
TZOFFSETFROM:-0700
TZOFFSETTO:-0800
TZNAME:PST
DTSTART:20251102T090000
END:STANDARD
END:VTIMEZONE
BEGIN:VEVENT
DTSTART;VALUE=DATE:20240603
DTEND;VALUE=DATE:20240727
DTSTAMP:20260425T145801
CREATED:20240514T211303Z
LAST-MODIFIED:20240530T205502Z
UID:10002426-1717372800-1722038399@callchinovalleyhome.com
SUMMARY:Free Summer Meals for Kids & Teens
DESCRIPTION:Chino Valley Unified School District and Sodexo are partnering to serve free summer meals to all kids 18 years and younger. \n**You do NOT need to be enrolled in the Chino Valley Unified School District to enjoy free\, healthy meals this summer** \nLocation: Del Rio Elementary School-1036 N Rd 1 West\, Chino ValleyDates: June 3rd-July 26th\, Monday-Friday (Closed July 4th)Breakfast Times: 7:00am-9:00amLunch Times: 11:00am-1:00pmLook for weekly themes and a schedule of fun activities coming soon! \nGrab-N0-Go LunchesTuesday and Thursday 7:00am-10:00amLocation: Chino Valley High School 760 E. Center Street\, Chino ValleyParents or guardians may pick up 5 days worth of meals for their kids 18 and under.Visit https://www.chinovalleyschools.com for more information or call Food Services at 928-583-5409Adult meals are $2.75 for breakfast\, $4.75 for lunch
URL:https://callchinovalleyhome.com/event/3434/
LOCATION:Del Rio Elementary School\, 1036 North Road 1 West Chino Valley\, AZ 86323\, Chino Valley\, AZ\, 86323\, United States
ATTACH;FMTTYPE=image/webp:https://callchinovalleyhome.com/wp-content/uploads/2024/05/Chino-Valley-USD-Summer-Free-Meals.webp
END:VEVENT
BEGIN:VEVENT
DTSTART;TZID=America/Los_Angeles:20240621T100000
DTEND;TZID=America/Los_Angeles:20240621T103000
DTSTAMP:20260425T145801
CREATED:20240510T182801Z
LAST-MODIFIED:20240724T170344Z
UID:10001650-1718964000-1718965800@callchinovalleyhome.com
SUMMARY:Little Ones Storytime
DESCRIPTION:
URL:https://callchinovalleyhome.com/event/little-ones-storytime-2/2024-06-21/
LOCATION:Chino Valley Public Library\, 1020 W Palomino Rd Chino Valley\, AZ 86323\, Chino Valley\, AZ\, 86323\, United States
ATTACH;FMTTYPE=image/jpeg:https://callchinovalleyhome.com/wp-content/uploads/2024/05/Chino-Valley-Public-Library.jpg
ORGANIZER;CN="Rebecca Laurence":MAILTO:rlaurence@chinoaz.net
END:VEVENT
BEGIN:VEVENT
DTSTART;TZID=America/Los_Angeles:20240621T103000
DTEND;TZID=America/Los_Angeles:20240621T111500
DTSTAMP:20260425T145801
CREATED:20240510T182919Z
LAST-MODIFIED:20240724T170028Z
UID:10002171-1718965800-1718968500@callchinovalleyhome.com
SUMMARY:Bigger Kids Storytime
DESCRIPTION:
URL:https://callchinovalleyhome.com/event/bigger-kids-storytime-2/2024-06-21/
LOCATION:Chino Valley Public Library\, 1020 W Palomino Rd Chino Valley\, AZ 86323\, Chino Valley\, AZ\, 86323\, United States
ATTACH;FMTTYPE=image/jpeg:https://callchinovalleyhome.com/wp-content/uploads/2024/05/Chino-Valley-Public-Library.jpg
ORGANIZER;CN="Rebecca Laurence":MAILTO:rlaurence@chinoaz.net
END:VEVENT
BEGIN:VEVENT
DTSTART;TZID=America/Los_Angeles:20240621T150000
DTEND;TZID=America/Los_Angeles:20240621T170000
DTSTAMP:20260425T145801
CREATED:20240611T175121Z
LAST-MODIFIED:20240611T175247Z
UID:10003040-1718982000-1718989200@callchinovalleyhome.com
SUMMARY:Lego Event
DESCRIPTION:Come play with our collection of lego bricks and characters! Make whatever you want OR work on a goal or design with friends! All age students welcome. Parents please supervise kids under 5 (small pieces). \nFree\, legos provided\, please leave own legos at home.
URL:https://callchinovalleyhome.com/event/lego-event/2024-06-21/
LOCATION:Chino Valley Public Library\, 1020 W Palomino Rd Chino Valley\, AZ 86323\, Chino Valley\, AZ\, 86323\, United States
ATTACH;FMTTYPE=image/webp:https://callchinovalleyhome.com/wp-content/uploads/2024/06/Chino-Valley-Library-Lego-Event.webp
ORGANIZER;CN="Rebecca Laurence":MAILTO:rlaurence@chinoaz.net
END:VEVENT
BEGIN:VEVENT
DTSTART;TZID=America/Los_Angeles:20240621T170000
DTEND;TZID=America/Los_Angeles:20240621T210000
DTSTAMP:20260425T145801
CREATED:20240605T052101Z
LAST-MODIFIED:20240605T052101Z
UID:10002442-1718989200-1719003600@callchinovalleyhome.com
SUMMARY:Olsen's Events - Roping | Friday Night Jackpot
DESCRIPTION:Books Open at 5:00 pm | Close at 5:45 pm \nRoping Starts at 6:00 pm \nVisit https://olsensevents.com/ for more details.
URL:https://callchinovalleyhome.com/event/olsens-events-roping-friday-night-jackpot/2024-06-21/
LOCATION:Olsen’s Events\, 344 S Hwy 89 Chino Valley\, AZ\, 86323\, Chino Valley\, AZ\, 86323\, United States
ATTACH;FMTTYPE=image/webp:https://callchinovalleyhome.com/wp-content/uploads/2024/06/Chino-Valley-Olsen-Events-Roping.webp
END:VEVENT
END:VCALENDAR