BEGIN:VCALENDAR
VERSION:2.0
PRODID:-//Call Chino Valley Home - ECPv6.15.20//NONSGML v1.0//EN
CALSCALE:GREGORIAN
METHOD:PUBLISH
X-ORIGINAL-URL:https://callchinovalleyhome.com
X-WR-CALDESC:Events for Call Chino Valley Home
REFRESH-INTERVAL;VALUE=DURATION:PT1H
X-Robots-Tag:noindex
X-PUBLISHED-TTL:PT1H
BEGIN:VTIMEZONE
TZID:America/Los_Angeles
BEGIN:DAYLIGHT
TZOFFSETFROM:-0800
TZOFFSETTO:-0700
TZNAME:PDT
DTSTART:20230312T100000
END:DAYLIGHT
BEGIN:STANDARD
TZOFFSETFROM:-0700
TZOFFSETTO:-0800
TZNAME:PST
DTSTART:20231105T090000
END:STANDARD
BEGIN:DAYLIGHT
TZOFFSETFROM:-0800
TZOFFSETTO:-0700
TZNAME:PDT
DTSTART:20240310T100000
END:DAYLIGHT
BEGIN:STANDARD
TZOFFSETFROM:-0700
TZOFFSETTO:-0800
TZNAME:PST
DTSTART:20241103T090000
END:STANDARD
BEGIN:DAYLIGHT
TZOFFSETFROM:-0800
TZOFFSETTO:-0700
TZNAME:PDT
DTSTART:20250309T100000
END:DAYLIGHT
BEGIN:STANDARD
TZOFFSETFROM:-0700
TZOFFSETTO:-0800
TZNAME:PST
DTSTART:20251102T090000
END:STANDARD
END:VTIMEZONE
BEGIN:VEVENT
DTSTART;VALUE=DATE:20240509
DTEND;VALUE=DATE:20240617
DTSTAMP:20260425T192856
CREATED:20240510T173710Z
LAST-MODIFIED:20240510T173710Z
UID:10000340-1715212800-1718582399@callchinovalleyhome.com
SUMMARY:Mother's and Father's Day Diaper Drive
DESCRIPTION:The Wrapped in Love Diaper Bank is working with multiple supporters in Yavapai County to host diaper boxes for the Mother’s and Father’s Day diaper drive. These community champions are helping the diaper bank increase inventory so more children and families can be provided diapers. Thank you for your consideration in making a donation! More information can be found on our website at https://wrappedinlovediaperbank.org
URL:https://callchinovalleyhome.com/event/mothers-and-fathers-day-diaper-drive/
LOCATION:OneAZ Credit Union\, 1021 AZ-89 #106\, Chino Valley\, AZ\, 86323
ATTACH;FMTTYPE=image/webp:https://callchinovalleyhome.com/wp-content/uploads/2024/05/Chino-Valley-Wrapped-in-Love-Diaper-Drive-Event.webp
ORGANIZER;CN="Wrapped in Love Diaper Bank":MAILTO:WILdiaperbank@gmail.com
GEO:34.76053;-112.451727
X-APPLE-STRUCTURED-LOCATION;VALUE=URI;X-ADDRESS=OneAZ Credit Union 1021 AZ-89 #106 Chino Valley AZ 86323;X-APPLE-RADIUS=500;X-TITLE=1021 AZ-89 #106:geo:-112.451727,34.76053
END:VEVENT
BEGIN:VEVENT
DTSTART;TZID=America/Los_Angeles:20240521T100000
DTEND;TZID=America/Los_Angeles:20240521T103000
DTSTAMP:20260425T192856
CREATED:20240510T182359Z
LAST-MODIFIED:20240510T182359Z
UID:10000602-1716285600-1716287400@callchinovalleyhome.com
SUMMARY:Little Ones Storytime
DESCRIPTION:
URL:https://callchinovalleyhome.com/event/little-ones-storytime/2024-05-21/
LOCATION:Chino Valley Public Library\, 1020 W Palomino Rd Chino Valley\, AZ 86323\, Chino Valley\, AZ\, 86323\, United States
ATTACH;FMTTYPE=image/jpeg:https://callchinovalleyhome.com/wp-content/uploads/2024/05/Chino-Valley-Public-Library.jpg
ORGANIZER;CN="Rebecca Laurence":MAILTO:rlaurence@chinoaz.net
END:VEVENT
BEGIN:VEVENT
DTSTART;TZID=America/Los_Angeles:20240521T100000
DTEND;TZID=America/Los_Angeles:20240521T113000
DTSTAMP:20260425T192856
CREATED:20240508T043925Z
LAST-MODIFIED:20240508T043925Z
UID:10000277-1716285600-1716291000@callchinovalleyhome.com
SUMMARY:Chino Valley Aquatic Center Staff Library Storytime
DESCRIPTION:10:00 am under 3 years \n10:30am preschool & up \nHeld at Chino Valley Public Library \nFree! \nStories about swimming\, games\, pool safety talk\, craft and snack!
URL:https://callchinovalleyhome.com/event/chino-valley-aquatic-center-staff-library-storytime/
LOCATION:Chino Valley Public Library\, 1020 W Palomino Rd Chino Valley\, AZ 86323\, Chino Valley\, AZ\, 86323\, United States
ATTACH;FMTTYPE=image/webp:https://callchinovalleyhome.com/wp-content/uploads/2024/05/Chino-Valley-Aquatic-Staff-Library-Storytime.webp
END:VEVENT
BEGIN:VEVENT
DTSTART;TZID=America/Los_Angeles:20240521T103000
DTEND;TZID=America/Los_Angeles:20240521T111500
DTSTAMP:20260425T192856
CREATED:20240510T182604Z
LAST-MODIFIED:20240724T170202Z
UID:10000863-1716287400-1716290100@callchinovalleyhome.com
SUMMARY:Bigger Kids Storytime
DESCRIPTION:
URL:https://callchinovalleyhome.com/event/bigger-kids-storytime/2024-05-21/
LOCATION:Chino Valley Public Library\, 1020 W Palomino Rd Chino Valley\, AZ 86323\, Chino Valley\, AZ\, 86323\, United States
ATTACH;FMTTYPE=image/jpeg:https://callchinovalleyhome.com/wp-content/uploads/2024/05/Chino-Valley-Public-Library.jpg
ORGANIZER;CN="Rebecca Laurence":MAILTO:rlaurence@chinoaz.net
END:VEVENT
BEGIN:VEVENT
DTSTART;TZID=America/Los_Angeles:20240521T111500
DTEND;TZID=America/Los_Angeles:20240521T133000
DTSTAMP:20260425T192856
CREATED:20240501T052624Z
LAST-MODIFIED:20240501T052624Z
UID:10000267-1716290100-1716298200@callchinovalleyhome.com
SUMMARY:Chino Valley Chamber of Commerce Lunch & Learn
DESCRIPTION:Understanding Arizona’s Paid Sick Time Law \nMany business owners and managers are unaware of the intricacies of Arizona’s Fair Wages & Healthy Families Act\, which regulates minimum wage and mandatory paid sick time for employees. All Arizona employers\, even those with only one part-time employee\, need to be familiar with this law. The law’s requirements\, design options for a compliant paid sick time or paid time off policy\, and penalties for non-compliance\, will be discussed. \nSpeaker: Laura Hamblin is a licensed Arizona attorney based in Prescott\, with two human resources\, certifications\, and years of experience as a corporate HR executive. She specializes in employment law and HR consulting\, and primarily works with small employers to help them comply with the sea of employment laws and implement effective HR practices. Her goal is to establish proactive measures for her clients to prevent litigation. \nLunch is provided by Catering by Liz for only $25
URL:https://callchinovalleyhome.com/event/chino-valley-chamber-of-commerce-lunch-learn/
LOCATION:Chino Valley Police Department\, 220 N St Rte 89 Chino Valley\, AZ 86323\, Chino Valley\, AZ\, 86323\, United States
ATTACH;FMTTYPE=image/webp:https://callchinovalleyhome.com/wp-content/uploads/2024/04/Chino-Valley-Chamber-of-Commerce-Lunch-and-Learn.webp
END:VEVENT
BEGIN:VEVENT
DTSTART;TZID=America/Los_Angeles:20240521T151500
DTEND;TZID=America/Los_Angeles:20240521T161500
DTSTAMP:20260425T192856
CREATED:20240510T182703Z
LAST-MODIFIED:20240510T182703Z
UID:10001124-1716304500-1716308100@callchinovalleyhome.com
SUMMARY:Lego Club
DESCRIPTION:
URL:https://callchinovalleyhome.com/event/lego-club-5/2024-05-21/
LOCATION:Chino Valley Public Library\, 1020 W Palomino Rd Chino Valley\, AZ 86323\, Chino Valley\, AZ\, 86323\, United States
ATTACH;FMTTYPE=image/jpeg:https://callchinovalleyhome.com/wp-content/uploads/2024/05/Chino-Valley-Public-Library.jpg
ORGANIZER;CN="Rebecca Laurence":MAILTO:rlaurence@chinoaz.net
END:VEVENT
END:VCALENDAR