BEGIN:VCALENDAR
VERSION:2.0
PRODID:-//Call Chino Valley Home - ECPv6.15.20//NONSGML v1.0//EN
CALSCALE:GREGORIAN
METHOD:PUBLISH
X-WR-CALNAME:Call Chino Valley Home
X-ORIGINAL-URL:https://callchinovalleyhome.com
X-WR-CALDESC:Events for Call Chino Valley Home
REFRESH-INTERVAL;VALUE=DURATION:PT1H
X-Robots-Tag:noindex
X-PUBLISHED-TTL:PT1H
BEGIN:VTIMEZONE
TZID:America/Los_Angeles
BEGIN:DAYLIGHT
TZOFFSETFROM:-0800
TZOFFSETTO:-0700
TZNAME:PDT
DTSTART:20230312T100000
END:DAYLIGHT
BEGIN:STANDARD
TZOFFSETFROM:-0700
TZOFFSETTO:-0800
TZNAME:PST
DTSTART:20231105T090000
END:STANDARD
BEGIN:DAYLIGHT
TZOFFSETFROM:-0800
TZOFFSETTO:-0700
TZNAME:PDT
DTSTART:20240310T100000
END:DAYLIGHT
BEGIN:STANDARD
TZOFFSETFROM:-0700
TZOFFSETTO:-0800
TZNAME:PST
DTSTART:20241103T090000
END:STANDARD
BEGIN:DAYLIGHT
TZOFFSETFROM:-0800
TZOFFSETTO:-0700
TZNAME:PDT
DTSTART:20250309T100000
END:DAYLIGHT
BEGIN:STANDARD
TZOFFSETFROM:-0700
TZOFFSETTO:-0800
TZNAME:PST
DTSTART:20251102T090000
END:STANDARD
END:VTIMEZONE
BEGIN:VEVENT
DTSTART;VALUE=DATE:20240509
DTEND;VALUE=DATE:20240617
DTSTAMP:20260425T205023
CREATED:20240510T173710Z
LAST-MODIFIED:20240510T173710Z
UID:10000340-1715212800-1718582399@callchinovalleyhome.com
SUMMARY:Mother's and Father's Day Diaper Drive
DESCRIPTION:The Wrapped in Love Diaper Bank is working with multiple supporters in Yavapai County to host diaper boxes for the Mother’s and Father’s Day diaper drive. These community champions are helping the diaper bank increase inventory so more children and families can be provided diapers. Thank you for your consideration in making a donation! More information can be found on our website at https://wrappedinlovediaperbank.org
URL:https://callchinovalleyhome.com/event/mothers-and-fathers-day-diaper-drive/
LOCATION:OneAZ Credit Union\, 1021 AZ-89 #106\, Chino Valley\, AZ\, 86323
ATTACH;FMTTYPE=image/webp:https://callchinovalleyhome.com/wp-content/uploads/2024/05/Chino-Valley-Wrapped-in-Love-Diaper-Drive-Event.webp
ORGANIZER;CN="Wrapped in Love Diaper Bank":MAILTO:WILdiaperbank@gmail.com
GEO:34.76053;-112.451727
X-APPLE-STRUCTURED-LOCATION;VALUE=URI;X-ADDRESS=OneAZ Credit Union 1021 AZ-89 #106 Chino Valley AZ 86323;X-APPLE-RADIUS=500;X-TITLE=1021 AZ-89 #106:geo:-112.451727,34.76053
END:VEVENT
BEGIN:VEVENT
DTSTART;TZID=America/Los_Angeles:20240511T080000
DTEND;TZID=America/Los_Angeles:20240511T170000
DTSTAMP:20260425T205023
CREATED:20240412T180407Z
LAST-MODIFIED:20240412T180407Z
UID:10000251-1715414400-1715446800@callchinovalleyhome.com
SUMMARY:Chino Valley Yavapai College Plant Sale
DESCRIPTION:Perennials – Annuals – Color Baskets – Vegetable Starts – Berries – Grapevines \nNo Early Birds \nNo Holds \nNo Pre-Orders \nBring a cart/wagon \nBring your patience \nBring cash or check \nPlanted and Grown By: YC Production Horticulture Students!
URL:https://callchinovalleyhome.com/event/chino-valley-yavapai-college-plant-sale/
LOCATION:Yavapai College Agribusiness & Science Technology Center\, 2275 N Old Home Manor Drive\, Chino Valley\, AZ\, 86323
ATTACH;FMTTYPE=image/webp:https://callchinovalleyhome.com/wp-content/uploads/2024/04/Chino-Valley-Yavapai-College-Plant-Sale.webp
GEO:34.7862606;-112.4149904
X-APPLE-STRUCTURED-LOCATION;VALUE=URI;X-ADDRESS=Yavapai College Agribusiness & Science Technology Center 2275 N Old Home Manor Drive Chino Valley AZ 86323;X-APPLE-RADIUS=500;X-TITLE=2275 N Old Home Manor Drive:geo:-112.4149904,34.7862606
END:VEVENT
BEGIN:VEVENT
DTSTART;TZID=America/Los_Angeles:20240511T120000
DTEND;TZID=America/Los_Angeles:20240511T120000
DTSTAMP:20260425T205023
CREATED:20240501T054328Z
LAST-MODIFIED:20240507T213158Z
UID:10000270-1715428800-1715428800@callchinovalleyhome.com
SUMMARY:Chino Valley Olsen Events Goat Tying
DESCRIPTION:GOAT TYING UPDATE\n\n\nClasses:\nPeewee (10 and under) $20 (ribbon pull) 2 runs\nPeewee (10 and under) $20 (tie) 2 runs\nJunior High (11-14) $40 – 1 run\nHigh School (15-18) $40 – 1 run\nAdult (19 and older) $40 – 1 run\nALL CLASSES (except peewees) will have a $10 stock charge.\n70% payback on Junior High\, High School\, Adult classes.\n\n\nSign up on Saddlebook.com (same event as barrel race\, you’ll see goat options there).\n\n\nThis will be a series in conjunction with the SADDLE SERIES barrel races. You must compete in 4 out of 5 of the goat tying events to be eligible for buckles. Finals will be held at Equifest on Friday\, September 13th.\n\n\n*Please note: peewees will get ONE buckle if they attend the required amount of events (4/6 barrel races\, 4/5 goats) regardless of which event they participate in (barrels\, poles\, goats). They will not get a separate buckle for barrels\, poles\, goats.\n\n\nDates will be on the same days as saddle series barrel races. Start time will be at 12:00 pm.\n\n\nMay 11th\nJune 15th\nJuly 13th\nAugust 10\nSeptember 13 (Friday afternoon) Finals – Prescott *start time TBD
URL:https://callchinovalleyhome.com/event/chino-valley-olsen-events-goat-tying/
LOCATION:Olsen’s Events\, 344 S Hwy 89 Chino Valley\, AZ\, 86323\, Chino Valley\, AZ\, 86323\, United States
ATTACH;FMTTYPE=image/webp:https://callchinovalleyhome.com/wp-content/uploads/2024/04/Chino-Valley-Olsen-Events-Goat-Tying.webp
END:VEVENT
BEGIN:VEVENT
DTSTART;TZID=America/Los_Angeles:20240511T160000
DTEND;TZID=America/Los_Angeles:20240511T190000
DTSTAMP:20260425T205023
CREATED:20240129T132940Z
LAST-MODIFIED:20240611T170404Z
UID:10000225-1715443200-1715454000@callchinovalleyhome.com
SUMMARY:2024 High Point Saddle & Buckle Series
DESCRIPTION:Open Arena | 3:00pm – 4:00pm | $10/horse \nRace Begins at 4:30pm \nSaddles to High Point in Each Division of the Open 4D! \nBuckles and other great prizes! \nOrder of Events/Fees – 70% Payback \n\nPeewee Poles ($10)\n3D Open Poles ($40)\nPeewee Barrels ($10)\nOpen 4D Barrels ($50)\nYouth 4D Barrels ($40)\nSenior 4D Barrels ($40)\nNovice Target Barrels ($40)\nGreen Horse 4D Barrels ($40)
URL:https://callchinovalleyhome.com/event/saddle-series-races-barrell-races/2024-05-11/
LOCATION:Olsen’s Events\, 344 S Hwy 89 Chino Valley\, AZ\, 86323\, Chino Valley\, AZ\, 86323\, United States
ATTACH;FMTTYPE=image/webp:https://callchinovalleyhome.com/wp-content/uploads/2024/01/Chino-Valley-Olsen-Events-High-Point-Saddle-Buckle-Series.webp
END:VEVENT
END:VCALENDAR