BEGIN:VCALENDAR
VERSION:2.0
PRODID:-//Call Chino Valley Home - ECPv6.15.20//NONSGML v1.0//EN
CALSCALE:GREGORIAN
METHOD:PUBLISH
X-ORIGINAL-URL:https://callchinovalleyhome.com
X-WR-CALDESC:Events for Call Chino Valley Home
REFRESH-INTERVAL;VALUE=DURATION:PT1H
X-Robots-Tag:noindex
X-PUBLISHED-TTL:PT1H
BEGIN:VTIMEZONE
TZID:America/Los_Angeles
BEGIN:DAYLIGHT
TZOFFSETFROM:-0800
TZOFFSETTO:-0700
TZNAME:PDT
DTSTART:20230312T100000
END:DAYLIGHT
BEGIN:STANDARD
TZOFFSETFROM:-0700
TZOFFSETTO:-0800
TZNAME:PST
DTSTART:20231105T090000
END:STANDARD
BEGIN:DAYLIGHT
TZOFFSETFROM:-0800
TZOFFSETTO:-0700
TZNAME:PDT
DTSTART:20240310T100000
END:DAYLIGHT
BEGIN:STANDARD
TZOFFSETFROM:-0700
TZOFFSETTO:-0800
TZNAME:PST
DTSTART:20241103T090000
END:STANDARD
BEGIN:DAYLIGHT
TZOFFSETFROM:-0800
TZOFFSETTO:-0700
TZNAME:PDT
DTSTART:20250309T100000
END:DAYLIGHT
BEGIN:STANDARD
TZOFFSETFROM:-0700
TZOFFSETTO:-0800
TZNAME:PST
DTSTART:20251102T090000
END:STANDARD
END:VTIMEZONE
BEGIN:VEVENT
DTSTART;TZID=America/Los_Angeles:20240504T080000
DTEND;TZID=America/Los_Angeles:20240504T080000
DTSTAMP:20260425T192657
CREATED:20240306T135717Z
LAST-MODIFIED:20240306T135717Z
UID:10000188-1714809600-1714809600@callchinovalleyhome.com
SUMMARY:FFA Benefit Team Roping
DESCRIPTION:All proceeds go to the local FFA Chapter\nMust have current global handicap \n  \nBooks open at 8:00 am close at 8:45 am\nRoping starts at 9:00 am \n  \nRoping Inquiries: Miles Holder 928-460-0233 \nOvernight Stall Info ($15/night): Shyan Ingrao 928-202-2003
URL:https://callchinovalleyhome.com/event/ffa-benefit-team-roping/
LOCATION:Olsen’s Events\, 344 S Hwy 89 Chino Valley\, AZ\, 86323\, Chino Valley\, AZ\, 86323\, United States
ATTACH;FMTTYPE=image/webp:https://callchinovalleyhome.com/wp-content/uploads/2024/03/FFA-Benefit-Team-Roping.webp
END:VEVENT
BEGIN:VEVENT
DTSTART;TZID=America/Los_Angeles:20240504T080000
DTEND;TZID=America/Los_Angeles:20240504T170000
DTSTAMP:20260425T192657
CREATED:20240412T165756Z
LAST-MODIFIED:20240412T165756Z
UID:10000247-1714809600-1714842000@callchinovalleyhome.com
SUMMARY:Town of Chino Valley Community Clean Up | Free Dump Day!
DESCRIPTION:Spring is just around the corner! It’s time to start cleaning out your garage\, your closets\, and gathering up your yard debris. \nBag and bring all your items to our new location – Old Home Manor! \nWear your work gloves to unload your items in the designated bins for disposal. Let’s give Chino Valley a great clean look for Spring! \n**Sorry – we are not able to accommodate Contractor or Commercial Dumping** \nItems NOT accepted: Paints\, liquids\, tires\, dirt/fill\, cement\, batteries\, oil/filters\, appliances\, electronics\, hazardous waste.
URL:https://callchinovalleyhome.com/event/town-of-chino-valley-community-clean-up-free-dump-day/
LOCATION:Old Home Manor\, Corner of E Perkinsville Road & Old Home Manor Drive\, Chino Valley\, AZ\, 86323
ATTACH;FMTTYPE=image/webp:https://callchinovalleyhome.com/wp-content/uploads/2024/04/Chino-Valley-Community-Clean-Up.webp
ORGANIZER;CN="Town of Chino Valley Development Services":MAILTO:codeenforcement@chinoaz.net
GEO:34.7748077;-112.4122706
X-APPLE-STRUCTURED-LOCATION;VALUE=URI;X-ADDRESS=Old Home Manor Corner of E Perkinsville Road & Old Home Manor Drive Chino Valley AZ 86323;X-APPLE-RADIUS=500;X-TITLE=Corner of E Perkinsville Road & Old Home Manor Drive:geo:-112.4122706,34.7748077
END:VEVENT
BEGIN:VEVENT
DTSTART;TZID=America/Los_Angeles:20240504T180000
DTEND;TZID=America/Los_Angeles:20240504T200000
DTSTAMP:20260425T192657
CREATED:20240402T035723Z
LAST-MODIFIED:20240402T035723Z
UID:10000205-1714845600-1714852800@callchinovalleyhome.com
SUMMARY:Movie Starts at Dark: Star Wars: The Force Awakens
DESCRIPTION:Star Wars Day | May the 4th Be With You Make sure to join us before the movie to build your own lightsaber.
URL:https://callchinovalleyhome.com/event/movie-starts-at-dark-star-wars-the-force-awakens/
LOCATION:Memory Park in Chino Valley\, Palomino Road and N Road 1 West\, AZ\, United States
ATTACH;FMTTYPE=image/png:https://callchinovalleyhome.com/wp-content/uploads/2024/04/Star-Wars-Movie-Starts-at-Dark-Chino-Valley.png
END:VEVENT
END:VCALENDAR