BEGIN:VCALENDAR
VERSION:2.0
PRODID:-//Call Chino Valley Home - ECPv6.15.20//NONSGML v1.0//EN
CALSCALE:GREGORIAN
METHOD:PUBLISH
X-ORIGINAL-URL:https://callchinovalleyhome.com
X-WR-CALDESC:Events for Call Chino Valley Home
REFRESH-INTERVAL;VALUE=DURATION:PT1H
X-Robots-Tag:noindex
X-PUBLISHED-TTL:PT1H
BEGIN:VTIMEZONE
TZID:America/Los_Angeles
BEGIN:DAYLIGHT
TZOFFSETFROM:-0800
TZOFFSETTO:-0700
TZNAME:PDT
DTSTART:20230312T100000
END:DAYLIGHT
BEGIN:STANDARD
TZOFFSETFROM:-0700
TZOFFSETTO:-0800
TZNAME:PST
DTSTART:20231105T090000
END:STANDARD
BEGIN:DAYLIGHT
TZOFFSETFROM:-0800
TZOFFSETTO:-0700
TZNAME:PDT
DTSTART:20240310T100000
END:DAYLIGHT
BEGIN:STANDARD
TZOFFSETFROM:-0700
TZOFFSETTO:-0800
TZNAME:PST
DTSTART:20241103T090000
END:STANDARD
BEGIN:DAYLIGHT
TZOFFSETFROM:-0800
TZOFFSETTO:-0700
TZNAME:PDT
DTSTART:20250309T100000
END:DAYLIGHT
BEGIN:STANDARD
TZOFFSETFROM:-0700
TZOFFSETTO:-0800
TZNAME:PST
DTSTART:20251102T090000
END:STANDARD
END:VTIMEZONE
BEGIN:VEVENT
DTSTART;TZID=America/Los_Angeles:20240417T150000
DTEND;TZID=America/Los_Angeles:20240417T190000
DTSTAMP:20260425T205239
CREATED:20240402T164622Z
LAST-MODIFIED:20240402T173600Z
UID:10000218-1713366000-1713380400@callchinovalleyhome.com
SUMMARY:Spring Spectacular | Olsen Events
DESCRIPTION:Wednesday Night 8-week series \nOpen Arena 3:00 pm – 5:00 pm \nRace will begin at 5:30 pm \nPeewee\, Youth & Open Barrels \nWinners of each division in the Open 4D will receive an E-Bike!! *Must attend 6 out of 8 races to qualify* \nMore Details and Sign Up on Saddlebook.com
URL:https://callchinovalleyhome.com/event/olsen-events-spring-spectacular/2024-04-17/
LOCATION:Olsen’s Events\, 344 S Hwy 89 Chino Valley\, AZ 86323\, Chino Valley\, AZ\, 86323\, United States
ATTACH;FMTTYPE=image/webp:https://callchinovalleyhome.com/wp-content/uploads/2024/04/Chino-Valley-Olsen-Events-Spring-Spectacular.webp
END:VEVENT
BEGIN:VEVENT
DTSTART;TZID=America/Los_Angeles:20240417T173000
DTEND;TZID=America/Los_Angeles:20240417T193000
DTSTAMP:20260425T205239
CREATED:20240402T162935Z
LAST-MODIFIED:20240402T162935Z
UID:10000209-1713375000-1713382200@callchinovalleyhome.com
SUMMARY:Town of Chino Valley Citizens Academy
DESCRIPTION:2024 Chino Valley Citizens Academy! \nWant to learn more about the Town of Chino Valley\, its services and the dedicated staff that keep it all running? \n\nThe seven-week course is a hands-on\, interactive\, inside look at all aspects of Town governance and operation.\nTour the new Police Building\, the Wastewater Plant and the Library.\nHear from the dedicated professionals who plan\, administer and deliver the town’s wide variety of essential and quality of life services.\n\nFor more info or to download an enrollment form visit our website at www.chinoaz.net/615/Town-of-Chino-Valley-Citizens-Academy. \nEnrollment Forms are also available at Town Hall. \nEnrollment is first-come first-serve limited to 20 participants. \nDon’t delay – Sign Up Now!
URL:https://callchinovalleyhome.com/event/town-of-chino-valley-citizens-academy-6/
LOCATION:Chino Valley Town Hall\, 202 AZ-89\, Chino Valley\, AZ\, 86323
ATTACH;FMTTYPE=image/webp:https://callchinovalleyhome.com/wp-content/uploads/2024/03/Chino-Valley-Citizens-Academy.webp
END:VEVENT
END:VCALENDAR