BEGIN:VCALENDAR
VERSION:2.0
PRODID:-//Call Chino Valley Home - ECPv6.15.20//NONSGML v1.0//EN
CALSCALE:GREGORIAN
METHOD:PUBLISH
X-WR-CALNAME:Call Chino Valley Home
X-ORIGINAL-URL:https://callchinovalleyhome.com
X-WR-CALDESC:Events for Call Chino Valley Home
REFRESH-INTERVAL;VALUE=DURATION:PT1H
X-Robots-Tag:noindex
X-PUBLISHED-TTL:PT1H
BEGIN:VTIMEZONE
TZID:America/Los_Angeles
BEGIN:DAYLIGHT
TZOFFSETFROM:-0800
TZOFFSETTO:-0700
TZNAME:PDT
DTSTART:20230312T100000
END:DAYLIGHT
BEGIN:STANDARD
TZOFFSETFROM:-0700
TZOFFSETTO:-0800
TZNAME:PST
DTSTART:20231105T090000
END:STANDARD
BEGIN:DAYLIGHT
TZOFFSETFROM:-0800
TZOFFSETTO:-0700
TZNAME:PDT
DTSTART:20240310T100000
END:DAYLIGHT
BEGIN:STANDARD
TZOFFSETFROM:-0700
TZOFFSETTO:-0800
TZNAME:PST
DTSTART:20241103T090000
END:STANDARD
BEGIN:DAYLIGHT
TZOFFSETFROM:-0800
TZOFFSETTO:-0700
TZNAME:PDT
DTSTART:20250309T100000
END:DAYLIGHT
BEGIN:STANDARD
TZOFFSETFROM:-0700
TZOFFSETTO:-0800
TZNAME:PST
DTSTART:20251102T090000
END:STANDARD
END:VTIMEZONE
BEGIN:VEVENT
DTSTART;TZID=America/Los_Angeles:20240408T101100
DTEND;TZID=America/Los_Angeles:20240408T123700
DTSTAMP:20260425T175850
CREATED:20240401T205209Z
LAST-MODIFIED:20240401T205303Z
UID:10000200-1712571060-1712579820@callchinovalleyhome.com
SUMMARY:Solar Eclipse
DESCRIPTION:Per Nasa.gov \nThe Monday\, April 8\, 2024\, total solar eclipse will cross North America\, passing over Mexico\, the United States\, and Canada. The total solar eclipse will begin over the South Pacific Ocean. Weather permitting\, the first location in continental North America that will experience totality is Mexico’s Pacific coast at around 11:07 a.m. PDT. \nThe path of the eclipse continues from Mexico\, entering the United States in Texas\, and traveling through Oklahoma\, Arkansas\, Missouri\, Illinois\, Kentucky\, Indiana\, Ohio\, Pennsylvania\, New York\, Vermont\, New Hampshire\, and Maine. Small parts of Tennessee and Michigan will also experience the total solar eclipse. The eclipse will enter Canada in Southern Ontario\, and continue through Quebec\, New Brunswick\, Prince Edward Island\, and Cape Breton. The eclipse will exit continental North America on the Atlantic coast of Newfoundland\, Canada\, at 5:16 p.m. NDT.
URL:https://callchinovalleyhome.com/event/solar-eclipse/
ATTACH;FMTTYPE=image/webp:https://callchinovalleyhome.com/wp-content/uploads/2024/04/Solar-Eclipse.webp
END:VEVENT
END:VCALENDAR