BEGIN:VCALENDAR
VERSION:2.0
PRODID:-//Call Chino Valley Home - ECPv6.15.20//NONSGML v1.0//EN
CALSCALE:GREGORIAN
METHOD:PUBLISH
X-WR-CALNAME:Call Chino Valley Home
X-ORIGINAL-URL:https://callchinovalleyhome.com
X-WR-CALDESC:Events for Call Chino Valley Home
REFRESH-INTERVAL;VALUE=DURATION:PT1H
X-Robots-Tag:noindex
X-PUBLISHED-TTL:PT1H
BEGIN:VTIMEZONE
TZID:America/Los_Angeles
BEGIN:DAYLIGHT
TZOFFSETFROM:-0800
TZOFFSETTO:-0700
TZNAME:PDT
DTSTART:20230312T100000
END:DAYLIGHT
BEGIN:STANDARD
TZOFFSETFROM:-0700
TZOFFSETTO:-0800
TZNAME:PST
DTSTART:20231105T090000
END:STANDARD
BEGIN:DAYLIGHT
TZOFFSETFROM:-0800
TZOFFSETTO:-0700
TZNAME:PDT
DTSTART:20240310T100000
END:DAYLIGHT
BEGIN:STANDARD
TZOFFSETFROM:-0700
TZOFFSETTO:-0800
TZNAME:PST
DTSTART:20241103T090000
END:STANDARD
BEGIN:DAYLIGHT
TZOFFSETFROM:-0800
TZOFFSETTO:-0700
TZNAME:PDT
DTSTART:20250309T100000
END:DAYLIGHT
BEGIN:STANDARD
TZOFFSETFROM:-0700
TZOFFSETTO:-0800
TZNAME:PST
DTSTART:20251102T090000
END:STANDARD
END:VTIMEZONE
BEGIN:VTIMEZONE
TZID:America/Phoenix
BEGIN:STANDARD
TZOFFSETFROM:-0700
TZOFFSETTO:-0700
TZNAME:MST
DTSTART:20230101T000000
END:STANDARD
END:VTIMEZONE
BEGIN:VEVENT
DTSTART;TZID=America/Los_Angeles:20240330T080000
DTEND;TZID=America/Los_Angeles:20240330T170000
DTSTAMP:20260425T204903
CREATED:20240306T125158Z
LAST-MODIFIED:20240306T125158Z
UID:10000182-1711785600-1711818000@callchinovalleyhome.com
SUMMARY:Sunset Ranch Presents Ground Work Clinics: On-Line & Liberty
DESCRIPTION:These clinics will delve into the depth of communication that is possible with our horses. In this clinic we will be discussing in detail the timing\, feel\, phases of pressure\, locations of drive lines and the super powers of rhythm and energy. \n  \nBeginner/Intermediate On-Line 10:00a-12:00p\nIntermediate/Advanced On-Line 12:00p -2:00p\nLiberty Work 2:00p-4:00p
URL:https://callchinovalleyhome.com/event/sunset-ranch-presents-ground-work-clinics-on-line-liberty/
LOCATION:Chino Valley Equestrian Park\, 2280 Equestrain Way\, Chino Valley\, AZ 86232\, Chino Valley\, AZ\, 86232\, United States
ATTACH;FMTTYPE=image/webp:https://callchinovalleyhome.com/wp-content/uploads/2024/03/Sunset-Ranch-Presents-Ground-Work-Clinics-On-Line-Liberty.webp
ORGANIZER;CN="Megan Bennett":MAILTO:megan@sunsetranch.us
END:VEVENT
BEGIN:VEVENT
DTSTART;TZID=America/Los_Angeles:20240330T100000
DTEND;TZID=America/Los_Angeles:20240330T100000
DTSTAMP:20260425T204903
CREATED:20240227T140652Z
LAST-MODIFIED:20240227T140652Z
UID:10000175-1711792800-1711792800@callchinovalleyhome.com
SUMMARY:Easter Egg Hunt
DESCRIPTION:“Sponsored by Chino Valley Word of Life Assembly of God \nFive Hunts\nTrain Ride\nFace Painting\nEaster Bunny\nCandy”
URL:https://callchinovalleyhome.com/event/easter-egg-hunt/
LOCATION:Chino Valley Community Center\, 1527 N Road 1 East Chino Valley\, AZ 86323\, Chino Valley\, AZ\, 86323\, United States
CATEGORIES:Events
ATTACH;FMTTYPE=image/webp:https://callchinovalleyhome.com/wp-content/uploads/2024/02/Easter-Egg-Hunt.webp
END:VEVENT
BEGIN:VEVENT
DTSTART;TZID=America/Phoenix:20240330T110000
DTEND;TZID=America/Phoenix:20240330T110000
DTSTAMP:20260425T204903
CREATED:20240328T161225Z
LAST-MODIFIED:20240328T163341Z
UID:10000195-1711796400-1711796400@callchinovalleyhome.com
SUMMARY:El Charro Norte | 8th Annual Car Show
DESCRIPTION:All cars and bikes welcome! \n\nCome out and meet the Local Car Club the “ROMEOS”\nNo judging\, no trophies\, JUST FUN!\n50/50 Raffle – proceeds go to local charity\n$2 long necks\, Bud & Coors Light – Happy Hour All Day\nLive Entertainment Featuring Scandalous Hands from 11a – 4p\nBounce House for Kids
URL:https://callchinovalleyhome.com/event/el-charro-norte-8th-annual-car-show/
LOCATION:El Charro Norte\, 2879 Arizona Trail\, Chino Valley\, AZ\, 86323
ATTACH;FMTTYPE=image/webp:https://callchinovalleyhome.com/wp-content/uploads/2024/03/Chino-Valley-El-Charro-Norte-Car-Show-Event-scaled.webp
END:VEVENT
END:VCALENDAR