BEGIN:VCALENDAR
VERSION:2.0
PRODID:-//Call Chino Valley Home - ECPv6.15.20//NONSGML v1.0//EN
CALSCALE:GREGORIAN
METHOD:PUBLISH
X-WR-CALNAME:Call Chino Valley Home
X-ORIGINAL-URL:https://callchinovalleyhome.com
X-WR-CALDESC:Events for Call Chino Valley Home
REFRESH-INTERVAL;VALUE=DURATION:PT1H
X-Robots-Tag:noindex
X-PUBLISHED-TTL:PT1H
BEGIN:VTIMEZONE
TZID:America/Los_Angeles
BEGIN:DAYLIGHT
TZOFFSETFROM:-0800
TZOFFSETTO:-0700
TZNAME:PDT
DTSTART:20230312T100000
END:DAYLIGHT
BEGIN:STANDARD
TZOFFSETFROM:-0700
TZOFFSETTO:-0800
TZNAME:PST
DTSTART:20231105T090000
END:STANDARD
BEGIN:DAYLIGHT
TZOFFSETFROM:-0800
TZOFFSETTO:-0700
TZNAME:PDT
DTSTART:20240310T100000
END:DAYLIGHT
BEGIN:STANDARD
TZOFFSETFROM:-0700
TZOFFSETTO:-0800
TZNAME:PST
DTSTART:20241103T090000
END:STANDARD
BEGIN:DAYLIGHT
TZOFFSETFROM:-0800
TZOFFSETTO:-0700
TZNAME:PDT
DTSTART:20250309T100000
END:DAYLIGHT
BEGIN:STANDARD
TZOFFSETFROM:-0700
TZOFFSETTO:-0800
TZNAME:PST
DTSTART:20251102T090000
END:STANDARD
END:VTIMEZONE
BEGIN:VEVENT
DTSTART;TZID=America/Los_Angeles:20240229T080000
DTEND;TZID=America/Los_Angeles:20240229T144500
DTSTAMP:20260425T204923
CREATED:20240129T125609Z
LAST-MODIFIED:20240129T125609Z
UID:10000126-1709193600-1709217900@callchinovalleyhome.com
SUMMARY:Be a Guest Reader at Del Rio Elementary School
DESCRIPTION:“Be a guest reader to our 3rd through 5th grade Del Rio students in honor of Dr. Seuss and the power of Reading.  \nThis year\, we are expanding book selections beyond those of Dr. Seuss. You may either bring an age-appropriate favorite book to read or choose a book from our extensive library selection.  \nGuest readers will be assigned to a classroom on a first-come\, first-serve basis by the main office staff. The times are as follows: 8:00 AM to 2:45 PM. Any amount of time is greatly appreciated!  \nOnce again\, we look forward to your participation in this worthwhile celebration as we share the love of reading with our young learners. Bring your smile and enthusiasm as our children always look forward to guest readers in their class.  \nIf you are going to join us\, please email Mrs. Crowser at ccrowser@chinovalleyschools.com or contact us at 928-636-4414 to RSVP by February 23rd!  \nThank you for your continued support and involvement in our local children’s education. Together we can make a difference!”
URL:https://callchinovalleyhome.com/event/be-a-guest-reader-at-del-rio-elementary-school/
LOCATION:Del Rio Elementary School\, 1036 North Road 1 West Chino Valley\, AZ 86323\, Chino Valley\, AZ\, 86323\, United States
ATTACH;FMTTYPE=image/webp:https://callchinovalleyhome.com/wp-content/uploads/2024/01/Be-a-Guest-Reader-at-Del-Rio-Elementary-School.webp
END:VEVENT
END:VCALENDAR